Felt | Verdi |
AlreadyApplied | True |
Aperture | 9.0 |
ApertureValue | 9.0 |
ApproximateFocusDistance | 4.22 |
AutoLateralCA | 0 |
BitsPerSample | 8 |
Blacks2012 | -7 |
BlueHue | 0 |
BlueSaturation | 0 |
Brightness | 0.000000 |
CameraModelID | |
CameraProfile | Adobe Standard |
CFAPattern | [Red,Green][Green,Blue] |
CircleOfConfusion | 0.030 mm |
Clarity2012 | +10 |
ColorComponents | 3 |
ColorNoiseReduction | 25 |
ColorNoiseReductionDetail | 50 |
ColorTemperature | 5500 |
Contrast (1) | 12.500000 |
Contrast | Normal |
Contrast2012 | +17 |
ConvertToGrayscale | False |
CreateDate (1) | 2012:04:03 07:14:59.00 |
CreateDate | 2012:04:03 07:14:59 |
CreatorTool | Microsoft Windows Live Photo Gallery 15.4.3555.308 |
CropAngle | 0 |
CropBottom | 0.696517 |
CropConstrainToWarp | 0 |
CropHeight | 741 |
CropLeft | 0.325581 |
CropRight | 0.710963 |
CropTop | 0.238806 |
CropUnit | pixels |
CropWidth | 935 |
CustomRendered | Normal |
DateCreated (1) | 2012:04:03 |
DateCreated | 2012:04:03 07:14:59.00 |
DateTimeOriginal | 2012:04:03 07:14:59 |
DefringeGreenAmount | 0 |
DefringeGreenHueHi | 60 |
DefringeGreenHueLo | 40 |
DefringePurpleAmount | 0 |
DefringePurpleHueHi | 70 |
DefringePurpleHueLo | 30 |
DigitalZoomRatio | 1 |
DOF | 0.07 m (4.19 - 4.25 m) |
Exposure2012 | +0.18 |
ExposureCompensation (1) | 0.050000 |
ExposureCompensation | +1/3 |
ExposureMode | Auto |
ExposureProgram | Aperture-priority AE |
ExposureTime | 1/320 |
Flash | Off, Did not fire |
FNumber | 9.0 |
FocalLength | 360.0 mm |
FocalLength35efl | 360.0 mm (35 mm equivalent: 360.0 mm) |
FocalLengthIn35mmFormat | 360 mm |
Format | image/jpeg |
FOV | 5.7 deg |
GainControl | None |
GrainAmount | 0 |
GreenHue | 0 |
GreenSaturation | 0 |
HasCrop | True |
HasSettings | True |
Highlights2012 | +24 |
HueAdjustmentAqua | 0 |
HueAdjustmentBlue | 0 |
HueAdjustmentGreen | 0 |
HueAdjustmentMagenta | 0 |
HueAdjustmentOrange | 0 |
HueAdjustmentPurple | 0 |
HueAdjustmentRed | 0 |
HueAdjustmentYellow | 0 |
HyperfocalDistance | 479.26 m |
ImageHeight | 735 |
ImageNumber | 1337 |
ImageSize | 928x735 |
ImageWidth | 928 |
ISO | 200 |
Lens | 120.0-400.0 mm f/4.5-5.6 |
LensID (1) | 207 |
LensID | Sigma APO 120-400mm F4.5-5.6 DG OS HSM |
LensInfo | 120-400mm f/4.5-5.6 |
LensManualDistortionAmount | 0 |
LensModel | 120.0-400.0 mm f/4.5-5.6 |
LensProfileEnable | 0 |
LensProfileSetup | LensDefaults |
LightSource | Fine Weather |
LightValue | 13.7 |
LuminanceAdjustmentAqua | 0 |
LuminanceAdjustmentBlue | 0 |
LuminanceAdjustmentGreen | 0 |
LuminanceAdjustmentMagenta | 0 |
LuminanceAdjustmentOrange | 0 |
LuminanceAdjustmentPurple | 0 |
LuminanceAdjustmentRed | 0 |
LuminanceAdjustmentYellow | 0 |
LuminanceSmoothing | 0 |
Make | NIKON CORPORATION |
MaxApertureValue | 5.7 |
Megapixels | 0.682 |
MeteringMode | Multi-segment |
Model | NIKON D600 |
ModifyDate (1) | 2013:04:09 18:32:49+02:00 |
ModifyDate | 2013:04:09 18:38:39 |
Orientation | Horizontal (normal) |
PaintCorrectionActive | true |
PaintCorrectionAmount | 1.000000 |
PaintCorrectionBrightness | 0.000000 |
PaintCorrectionClarity2012 | 0.103450 |
PaintCorrectionContrast2012 | 0.034480 |
PaintCorrectionDefringe | -1.000000 |
PaintCorrectionExposure2012 | 0.000000 |
PaintCorrectionHighlights2012 | 0.103450 |
PaintCorrectionHue | 50.000000 |
PaintCorrectionLuminanceNoise | 0.000000 |
PaintCorrectionMaskCenterWeight | 0.036352 |
PaintCorrectionMaskFlow | 1.000000 |
PaintCorrectionMaskRadius | 0.004712 |
PaintCorrectionMaskValue | 1.000000 |
PaintCorrectionMaskWhat | Mask/Paint |
PaintCorrectionMoire | 0.195400 |
PaintCorrectionSaturation | 0.000000 |
PaintCorrectionShadows2012 | 0.149430 |
PaintCorrectionSharpness | 0.195400 |
PaintCorrectionTemperature | 0.000000 |
PaintCorrectionTint | 0.000000 |
PaintCorrectionWhat | Correction |
ParametricDarks | 0 |
ParametricHighlights | 0 |
ParametricHighlightSplit | 75 |
ParametricLights | 0 |
ParametricMidtoneSplit | 50 |
ParametricShadows | 0 |
ParametricShadowSplit | 25 |
PerspectiveHorizontal | 0 |
PerspectiveRotate | 0.0 |
PerspectiveScale | 100 |
PerspectiveVertical | 0 |
PipelineVersion | 01.00 |
PostCropVignetteAmount | 0 |
ProcessVersion | 6.7 |
ProfileDescription | sRGB IEC61966-2.1 |
RedHue | 0 |
RedSaturation | 0 |
Saturation (1) | 0 |
Saturation | Normal |
SaturationAdjustmentAqua | 0 |
SaturationAdjustmentBlue | 0 |
SaturationAdjustmentGreen | 0 |
SaturationAdjustmentMagenta | 0 |
SaturationAdjustmentOrange | 0 |
SaturationAdjustmentPurple | 0 |
SaturationAdjustmentRed | 0 |
SaturationAdjustmentYellow | 0 |
ScaleFactor35efl | 1.0 |
SceneCaptureType | Standard |
SceneType | Directly photographed |
SensingMethod | One-chip color area |
SensitivityType | Recommended Exposure Index |
SerialNumber | 6063306 |
Shadows2012 | +12 |
ShadowTint | 0 |
SharpenDetail | 25 |
SharpenEdgeMasking | 50 |
SharpenRadius | +1.0 |
Sharpness (1) | 42 |
Sharpness | Hard |
ShutterSpeed | 1/320 |
ShutterSpeedValue | 1/320 |
Software | Adobe Photoshop Lightroom 4.3 (Windows) |
SplitToningBalance | 0 |
SplitToningHighlightHue | 0 |
SplitToningHighlightSaturation | 0 |
SplitToningShadowHue | 0 |
SplitToningShadowSaturation | 0 |
StreamType | 3 |
SubjectDistanceRange | Unknown |
Tint | +10 |
ToneCurveName2012 | Linear |
ToneCurvePV2012 | 0, 0, 255, 255 |
ToneCurvePV2012Blue | 0, 0, 255, 255 |
ToneCurvePV2012Green | 0, 0, 255, 255 |
ToneCurvePV2012Red | 0, 0, 255, 255 |
Version | 7.3 |
Vibrance | +2 |
VignetteAmount | 0 |
WhiteBalance (1) | Daylight |
WhiteBalance | Manual |
WhiteBalance0 | 2.533476 |
WhiteBalance1 | 1.000000 |
WhiteBalance2 | 1.038917 |
Whites2012 | 0 |