Felt | Verdi |
AlreadyApplied | True |
Aperture | 7.1 |
ApertureValue | 7.1 |
ApproximateFocusDistance | 7.08 |
AutoLateralCA | 0 |
BitsPerSample | 8 |
Blacks2012 | +30 |
BlueHue | 0 |
BlueSaturation | 0 |
CameraProfile | Camera Standard |
CFAPattern | [Red,Green][Green,Blue] |
CircleOfConfusion | 0.020 mm |
Clarity2012 | +5 |
ColorComponents | 3 |
ColorNoiseReduction | 25 |
ColorNoiseReductionDetail | 50 |
ColorSpace | sRGB |
ColorTemperature | 4621 |
Contrast | Normal |
Contrast2012 | 0 |
ConvertToGrayscale | False |
CopyrightFlag | False |
CreateDate (1) | 2013:04:15 10:31:28+01:00 |
CreateDate | 2013:04:12 18:25:43 |
CreatorTool | Adobe Photoshop CS Windows |
CropAngle | 0 |
CropBottom | 0.946554 |
CropConstrainToWarp | 0 |
CropHeight | 2723 |
CropLeft | 0.1444 |
CropRight | 0.995314 |
CropTop | 0.09564 |
CropUnit | pixels |
CropWidth | 4084 |
CustomRendered | Normal |
DateCreated | 2013:04:12 |
DateTimeDigitized | 2013:04:12 18:25:43+01:00 |
DateTimeOriginal (1) | 2013:04:12 18:25:43+01:00 |
DateTimeOriginal | 2013:04:12 18:25:43 |
DefringeGreenAmount | 0 |
DefringeGreenHueHi | 60 |
DefringeGreenHueLo | 40 |
DefringePurpleAmount | 0 |
DefringePurpleHueHi | 70 |
DefringePurpleHueLo | 30 |
DigitalZoomRatio | 1.53 |
DOF | 0.03 m (7.07 - 7.09 m) |
ExifImageHeight | 800 |
ExifImageWidth | 1200 |
Exposure2012 | 0.00 |
ExposureCompensation | 0 |
ExposureMode | Auto |
ExposureProgram | Aperture-priority AE |
ExposureTime | 1/500 |
Flash | Off, Did not fire |
FlashFired | False |
FlashFunction | False |
FlashMode | Off |
FlashRedEyeMode | False |
FlashReturn | No return detection |
FNumber | 7.1 |
FocalLength | 700.0 mm |
FocalLength35efl | 700.0 mm (35 mm equivalent: 1050.0 mm) |
FocalLengthIn35mmFormat | 1050 mm |
Format | image/jpeg |
FOV | 2.0 deg |
GainControl | Low gain up |
GrainAmount | 0 |
GreenHue | 0 |
GreenSaturation | 0 |
HasCrop | True |
HasSettings | True |
Highlights2012 | -3 |
HueAdjustmentAqua | 0 |
HueAdjustmentBlue | 0 |
HueAdjustmentGreen | 0 |
HueAdjustmentMagenta | 0 |
HueAdjustmentOrange | 0 |
HueAdjustmentPurple | 0 |
HueAdjustmentRed | 0 |
HueAdjustmentYellow | 0 |
HyperfocalDistance | 3445.39 m |
ImageHeight | 800 |
ImageNumber | 5631 |
ImageSize | 1200x800 |
ImageWidth | 1200 |
ISO | 400 |
Keywords | fugler, lundefugl |
Label | Röd |
Lens | 500.0 mm f/4.0 |
LensID (1) | 151 |
LensID | AF-S VR Nikkor 500mm f/4G ED |
LensInfo | 500mm f/4 |
LensManualDistortionAmount | 0 |
LensModel | 500.0 mm f/4.0 |
LensProfileChromaticAberrationScale | 100 |
LensProfileDistortionScale | 100 |
LensProfileEnable | 1 |
LensProfileFilename | NIKON D3X (Nikon AF-S NIKKOR 500mm f4G ED VR) - RAW.lcp |
LensProfileName | Adobe (Nikon AF-S NIKKOR 500mm f/4G ED VR) |
LensProfileSetup | Custom |
LensProfileVignettingScale | 100 |
LightSource | Unknown |
LightValue | 12.6 |
LuminanceAdjustmentAqua | 0 |
LuminanceAdjustmentBlue | 0 |
LuminanceAdjustmentGreen | 0 |
LuminanceAdjustmentMagenta | 0 |
LuminanceAdjustmentOrange | 0 |
LuminanceAdjustmentPurple | 0 |
LuminanceAdjustmentRed | 0 |
LuminanceAdjustmentYellow | 0 |
LuminanceNoiseReductionContrast | 0 |
LuminanceNoiseReductionDetail | 50 |
LuminanceSmoothing | 20 |
Make | NIKON CORPORATION |
MaxApertureValue | 5.7 |
Megapixels | 0.960 |
MeteringMode | Multi-segment |
Model | NIKON D800 |
ModifyDate (1) | 2013:04:15 10:31:28+01:00 |
ModifyDate | 2013:04:15 10:31:28 |
Orientation | Horizontal (normal) |
PaintCorrectionActive | true |
PaintCorrectionAmount | 1.000000 |
PaintCorrectionBrightness | 0.000000 |
PaintCorrectionClarity2012 | 0.603600 |
PaintCorrectionContrast2012 | 0.000000 |
PaintCorrectionDefringe | 0.000000 |
PaintCorrectionExposure2012 | 0.099000 |
PaintCorrectionHighlights2012 | 0.000000 |
PaintCorrectionHue | 37.000000 |
PaintCorrectionLuminanceNoise | 0.000000 |
PaintCorrectionMaskCenterWeight | 0.000000 |
PaintCorrectionMaskFlow | 0.874000 |
PaintCorrectionMaskRadius (1) | 0.091082 |
PaintCorrectionMaskRadius | 0.091099 |
PaintCorrectionMaskValue | 1.000000 |
PaintCorrectionMaskWhat | Mask/Paint |
PaintCorrectionMoire | 0.000000 |
PaintCorrectionSaturation | 0.000000 |
PaintCorrectionShadows2012 | 0.135140 |
PaintCorrectionSharpness | 0.000000 |
PaintCorrectionTemperature | 0.000000 |
PaintCorrectionTint | 0.000000 |
PaintCorrectionWhat | Correction |
ParametricDarks | 0 |
ParametricHighlights | 0 |
ParametricHighlightSplit | 75 |
ParametricLights | 0 |
ParametricMidtoneSplit | 50 |
ParametricShadows | 0 |
ParametricShadowSplit | 25 |
PerspectiveHorizontal | 0 |
PerspectiveRotate | 0.0 |
PerspectiveScale | 100 |
PerspectiveVertical | 0 |
PostCropVignetteAmount | 0 |
ProcessVersion | 6.7 |
ProfileDescription | sRGB IEC61966-2.1 |
RedHue | 0 |
RedSaturation | 0 |
Saturation (1) | 0 |
Saturation | Normal |
SaturationAdjustmentAqua | 0 |
SaturationAdjustmentBlue | 0 |
SaturationAdjustmentGreen | 0 |
SaturationAdjustmentMagenta | 0 |
SaturationAdjustmentOrange | 0 |
SaturationAdjustmentPurple | 0 |
SaturationAdjustmentRed | 0 |
SaturationAdjustmentYellow | 0 |
ScaleFactor35efl | 1.5 |
SceneCaptureType | Standard |
SceneType | Directly photographed |
SensingMethod | One-chip color area |
SensitivityType | Recommended Exposure Index |
SerialNumber | 6084072 |
Shadows2012 | +46 |
ShadowTint | 0 |
SharpenDetail | 25 |
SharpenEdgeMasking | 21 |
SharpenRadius | +1.0 |
Sharpness (1) | 96 |
Sharpness | Normal |
ShutterSpeed | 1/500 |
ShutterSpeedValue | 1/500 |
Software | Adobe Photoshop CS Windows |
SplitToningBalance | 0 |
SplitToningHighlightHue | 0 |
SplitToningHighlightSaturation | 0 |
SplitToningShadowHue | 0 |
SplitToningShadowSaturation | 0 |
Subject | fugler, lundefugl |
SubjectDistanceRange | Unknown |
Tint | +5 |
ToneCurveName2012 | Linear |
ToneCurvePV2012 | 0, 0, 255, 255 |
ToneCurvePV2012Blue | 0, 0, 255, 255 |
ToneCurvePV2012Green | 0, 0, 255, 255 |
ToneCurvePV2012Red | 0, 0, 255, 255 |
URL_List | |
Version | 7.3 |
Vibrance | +59 |
VignetteAmount | 0 |
WhiteBalance (1) | Custom |
WhiteBalance | Auto |
Whites2012 | +22 |