Felt | Verdi |
AlreadyApplied | True |
Aperture | 10.0 |
ApertureValue | 10.0 |
BitsPerSample | 8 |
BlueHue | 0 |
BlueSaturation | 0 |
Brightness | +50 |
CameraProfile | Adobe Standard |
ChromaticAberrationB | 0 |
ChromaticAberrationR | 0 |
CircleOfConfusion | 0.019 mm |
Clarity | +90 |
ColorComponents | 3 |
ColorNoiseReduction | 25 |
ColorTemperature | 6650 |
Contrast | +100 |
ConvertToGrayscale | False |
CreateDate (1) | 2012:12:03 11:42:29.00+01:00 |
CreateDate | 2012:12:03 11:42:29 |
CreatorTool | Adobe Photoshop Lightroom |
CustomRendered | Normal |
DateTimeDigitized | 2012:12:03 11:42:29.00+01:00 |
DateTimeOriginal (1) | 2012:12:03 11:42:29.00+01:00 |
DateTimeOriginal | 2012:12:03 11:42:29 |
Defringe | 0 |
DOF | 18.85 m (6.02 - 24.88 m) |
ExifImageHeight | 2000 |
ExifImageWidth | 3000 |
Exposure | 0.00 |
ExposureCompensation | +1/3 |
ExposureMode | Auto |
ExposureProgram | Aperture-priority AE |
ExposureTime | 1/200 |
FillLight | 0 |
Firmware | 1.1.0 |
Flash | Off, Did not fire |
FlashCompensation | 0 |
FlashFired | False |
FlashFunction | False |
FlashMode | Off |
FlashRedEyeMode | False |
FlashReturn | No return detection |
FNumber | 10.0 |
FocalLength | 55.0 mm |
FocalLength35efl | 55.0 mm (35 mm equivalent: 86.4 mm) |
FOV | 23.5 deg |
GreenHue | 0 |
GreenSaturation | 0 |
HasCrop | False |
HasSettings | True |
HighlightRecovery | 0 |
HueAdjustmentAqua | 0 |
HueAdjustmentBlue | 0 |
HueAdjustmentGreen | 0 |
HueAdjustmentMagenta | 0 |
HueAdjustmentOrange | 0 |
HueAdjustmentPurple | 0 |
HueAdjustmentRed | 0 |
HueAdjustmentYellow | 0 |
HyperfocalDistance | 15.81 m |
ImageHeight | 2000 |
ImageNumber | 0 |
ImageSize | 3000x2000 |
ImageWidth | 3000 |
ISO | 2000 |
Keywords | Police Advisory Team, TMBN, Terningmoen, avsluttende ¿velse., demonstrasjon i Afghansk by, sibo, ¯Velse PAT |
Lens | EF24-70mm f/2.8L USM |
LensID (1) | 230 |
LensID | Canon EF 24-70mm f/2.8L USM |
LensInfo | 24-70mm f/? |
LightValue | 10.0 |
LuminanceAdjustmentAqua | 0 |
LuminanceAdjustmentBlue | 0 |
LuminanceAdjustmentGreen | 0 |
LuminanceAdjustmentMagenta | 0 |
LuminanceAdjustmentOrange | 0 |
LuminanceAdjustmentPurple | 0 |
LuminanceAdjustmentRed | 0 |
LuminanceAdjustmentYellow | 0 |
LuminanceSmoothing | 0 |
Make | Canon |
MaxApertureValue | 2.8 |
Megapixels | 6.0 |
MeteringMode | Multi-segment |
Model | Canon EOS 7D |
ModifyDate (1) | 2013:04:29 21:11:49+02:00 |
ModifyDate | 2013:04:29 21:11:49 |
ParametricDarks | 0 |
ParametricHighlights | 0 |
ParametricHighlightSplit | 75 |
ParametricLights | 0 |
ParametricMidtoneSplit | 50 |
ParametricShadows | 0 |
ParametricShadowSplit | 25 |
PostCropVignetteAmount | 0 |
ProfileDescription | Adobe RGB (1998) |
Rating | 1 |
RedHue | 0 |
RedSaturation | 0 |
Saturation | 0 |
SaturationAdjustmentAqua | 0 |
SaturationAdjustmentBlue | -94 |
SaturationAdjustmentGreen | +100 |
SaturationAdjustmentMagenta | -94 |
SaturationAdjustmentOrange | +100 |
SaturationAdjustmentPurple | -90 |
SaturationAdjustmentRed | -100 |
SaturationAdjustmentYellow | +40 |
ScaleFactor35efl | 1.6 |
SceneCaptureType | Standard |
SerialNumber | 630506431 |
Shadows | 15 |
ShadowTint | 0 |
SharpenDetail | 25 |
SharpenEdgeMasking | 0 |
SharpenRadius | +1.0 |
Sharpness | 25 |
ShutterSpeed | 1/200 |
ShutterSpeedValue | 1/200 |
SplitToningBalance | 0 |
SplitToningHighlightHue | 0 |
SplitToningHighlightSaturation | 0 |
SplitToningShadowHue | 0 |
SplitToningShadowSaturation | 0 |
Subject | Police Advisory Team, TMBN, Terningmoen, avsluttende øvelse., demonstrasjon i Afghansk by, sibo, ØVelse PAT |
SubjectDistance | 9.7 m |
Tint | +23 |
ToneCurve | 0, 0, 32, 22, 64, 56, 128, 128, 192, 196, 255, 255 |
ToneCurveName | Medium Contrast |
Version | 5.7 |
Vibrance | 0 |
VignetteAmount | 0 |
WhiteBalance (2) | As Shot |
WhiteBalance | Auto |