Felt | Verdi |
AlreadyApplied | True |
Aperture | 5.6 |
ApertureValue | 5.6 |
AutoLateralCA | 0 |
BitsPerSample | 8 |
Blacks2012 | +1 |
BlueHue | 0 |
BlueSaturation | 0 |
Brightness | 0 |
CameraProfile | Embedded |
CircleOfConfusion | 0.020 mm |
Clarity | 0 |
Clarity2012 | +100 |
ColorComponents | 3 |
ColorMode | RGB |
ColorNoiseReduction | 100 |
ColorNoiseReductionDetail | 0 |
ColorSpace | Uncalibrated |
Contrast (1) | 0 |
Contrast | High |
Contrast2012 | +7 |
ConvertToGrayscale | False |
Copyright | .© Tommy Johansen Aka Grayscale foto © all rights reserved 1975 - 2013 |
CopyrightFlag | True |
CopyrightNotice | .© Tommy Johansen Aka Grayscale foto © all rights reserved 1975 - 2013 |
CreateDate | 2013:05:01 14:25:37 |
CreatorTool | K200D Ver 1.01 |
CropAngle | 0 |
CropBottom | 1 |
CropConstrainToWarp | 1 |
CropHeight | 4 |
CropLeft | 0.220668 |
CropRight | 0.722734 |
CropTop | 0 |
CropUnit | Unknown (3) |
CropWidth | 3 |
CustomRendered | Normal |
DateCreated (1) | 2013:05:01 |
DateCreated | 2013:05:01 14:25:37 |
DateTimeOriginal | 2013:05:01 14:25:37 |
Defringe | 0 |
ExifImageHeight | 1944 |
ExifImageWidth | 2592 |
Exposure | 0.00 |
Exposure2012 | +0.65 |
ExposureCompensation | -1/2 |
ExposureMode | Manual |
ExposureProgram | Shutter speed priority AE |
ExposureTime | 1/1000 |
FillLight | 0 |
Flash | Off, Did not fire |
FNumber | 5.6 |
FocalLength | 55.0 mm |
FocalLength35efl | 55.0 mm (35 mm equivalent: 82.0 mm) |
FocalLengthIn35mmFormat | 82 mm |
Format | image/jpeg |
FOV | 24.8 deg |
GrainAmount | 0 |
GreenHue | 0 |
GreenSaturation | 0 |
HasCrop | True |
HasSettings | True |
HighlightRecovery | 0 |
Highlights2012 | -14 |
HueAdjustmentAqua | 0 |
HueAdjustmentBlue | 0 |
HueAdjustmentGreen | 0 |
HueAdjustmentMagenta | 0 |
HueAdjustmentOrange | 0 |
HueAdjustmentPurple | 0 |
HueAdjustmentRed | 0 |
HueAdjustmentYellow | 0 |
HyperfocalDistance | 26.80 m |
ICCProfileName | Adobe RGB (1998) |
ImageHeight | 1944 |
ImageSize | 2592x1944 |
ImageWidth | 2592 |
IncrementalTemperature | -16 |
IncrementalTint | +11 |
ISO | 100 |
Lens | smc PENTAX-DA 18-55mm F3.5-5.6 AL |
LensID (1) | 4 252 |
LensID | smc PENTAX-DA 18-55mm F3.5-5.6 AL |
LensInfo | 18-55mm f/3.5-5.6 |
LensManualDistortionAmount | 0 |
LensModel | smc PENTAX-DA 18-55mm F3.5-5.6 AL |
LensProfileEnable | 0 |
LensProfileSetup | LensDefaults |
LightValue | 14.9 |
LuminanceAdjustmentAqua | 0 |
LuminanceAdjustmentBlue | 0 |
LuminanceAdjustmentGreen | 0 |
LuminanceAdjustmentMagenta | 0 |
LuminanceAdjustmentOrange | 0 |
LuminanceAdjustmentPurple | 0 |
LuminanceAdjustmentRed | 0 |
LuminanceAdjustmentYellow | 0 |
LuminanceSmoothing | 0 |
Make | PENTAX |
Marked | True |
Megapixels | 5.0 |
MeteringMode | Multi-segment |
Model | PENTAX K200D |
ModifyDate (1) | 2013:05:01 16:14:36+02:00 |
ModifyDate | 2013:05:01 16:14:36 |
Orientation | Horizontal (normal) |
ParametricDarks | 0 |
ParametricHighlights | 0 |
ParametricHighlightSplit | 75 |
ParametricLights | 0 |
ParametricMidtoneSplit | 50 |
ParametricShadows | 0 |
ParametricShadowSplit | 25 |
PerspectiveHorizontal | 0 |
PerspectiveRotate | 0.0 |
PerspectiveScale | 100 |
PerspectiveVertical | 0 |
PostCropVignetteAmount | 0 |
ProcessVersion | 6.7 |
ProfileDescription | Adobe RGB (1998) |
Rating | 0 |
RawFileName | _IGP8318.JPG |
RedHue | 0 |
RedSaturation | 0 |
Rights | .© Tommy Johansen Aka Grayscale foto © all rights reserved 1975 - 2013 |
Saturation (1) | 0 |
Saturation | High |
SaturationAdjustmentAqua | 0 |
SaturationAdjustmentBlue | 0 |
SaturationAdjustmentGreen | 0 |
SaturationAdjustmentMagenta | 0 |
SaturationAdjustmentOrange | 0 |
SaturationAdjustmentPurple | 0 |
SaturationAdjustmentRed | 0 |
SaturationAdjustmentYellow | 0 |
ScaleFactor35efl | 1.5 |
SceneCaptureType | Standard |
SceneType | Directly photographed |
SensingMethod | One-chip color area |
Shadows | 0 |
Shadows2012 | +14 |
ShadowTint | 0 |
SharpenDetail | 0 |
SharpenEdgeMasking | 90 |
SharpenRadius | +1.0 |
Sharpness (1) | 0 |
Sharpness | Hard |
ShutterSpeed | 1/1000 |
ShutterSpeedValue | 1/1000 |
Software | Adobe Photoshop CS6 (Windows) |
SplitToningBalance | 0 |
SplitToningHighlightHue | 0 |
SplitToningHighlightSaturation | 0 |
SplitToningShadowHue | 0 |
SplitToningShadowSaturation | 0 |
SubjectDistanceRange | Close |
ToneCurve | 0, 0, 255, 255 |
ToneCurveBlue | 0, 0, 255, 255 |
ToneCurveGreen | 0, 0, 255, 255 |
ToneCurveName | Linear |
ToneCurveName2012 | Linear |
ToneCurvePV2012 | 0, 0, 255, 255 |
ToneCurvePV2012Blue | 0, 0, 255, 255 |
ToneCurvePV2012Green | 0, 0, 255, 255 |
ToneCurvePV2012Red | 0, 0, 255, 255 |
ToneCurveRed | 0, 0, 255, 255 |
URL | www.facebook.com/GrayscaleFoto |
URL_List | |
Version | 7.0 |
Vibrance | +20 |
VignetteAmount | 0 |
WebStatement | www.facebook.com/GrayscaleFoto |
WhiteBalance | Auto |
Whites2012 | +34 |