Felt | Verdi |
AlreadyApplied | True |
Aperture | 18.0 |
ApertureValue | 18.0 |
ApproximateFocusDistance | 3.98 |
AutoLateralCA | 0 |
BitsPerSample | 8 |
Blacks2012 | -2 |
BlueHue | 0 |
BlueSaturation | 0 |
Brightness | +50 |
CameraProfile | Adobe Standard |
CFAPattern | [Red,Green][Green,Blue] |
CircleOfConfusion | 0.030 mm |
Clarity | 0 |
Clarity2012 | +11 |
ColorComponents | 3 |
ColorNoiseReduction | 25 |
ColorNoiseReductionDetail | 50 |
ColorTemperature | 5500 |
Contrast (1) | +25 |
Contrast | Normal |
Contrast2012 | +2 |
ConvertToGrayscale | False |
CreateDate (1) | 2013:04:27 10:20:35.90 |
CreateDate | 2013:04:27 10:20:35 |
CreatorTool | Adobe Photoshop Lightroom 4.0 (Macintosh) |
CustomRendered | Normal |
DateCreated (1) | 2013:04:27 |
DateCreated | 2013:04:27 10:20:35.90 |
DateTimeOriginal | 2013:04:27 10:20:35 |
Defringe | 0 |
DigitalZoomRatio | 1 |
DOF | inf (1.07 m - inf) |
Exposure | 0.00 |
Exposure2012 | +0.85 |
ExposureCompensation | 0 |
ExposureMode | Manual |
ExposureProgram | Manual |
ExposureTime | 1/6 |
FillLight | 0 |
Flash | No Flash |
FNumber | 18.0 |
FocalLength | 28.0 mm |
FocalLength35efl | 28.0 mm (35 mm equivalent: 28.0 mm) |
FocalLengthIn35mmFormat | 28 mm |
Format | image/jpeg |
FOV | 65.5 deg |
GainControl | None |
GradientBasedCorrActive | true |
GradientBasedCorrAmount | 1.000000 |
GradientBasedCorrBrightness | 0.320225 |
GradientBasedCorrClarity2012 | 0.303371 |
GradientBasedCorrContrast2012 (1) | 0.033708 |
GradientBasedCorrContrast2012 | 0.258427 |
GradientBasedCorrExposure2012 (1) | 0.148438 |
GradientBasedCorrExposure2012 | -0.079881 |
GradientBasedCorrHighlights2012 | 0.078652 |
GradientBasedCorrHue | 233.000000 |
GradientBasedCorrLuminanceNoise | 0.101124 |
GradientBasedCorrMaskFullX (1) | 0.531224 |
GradientBasedCorrMaskFullX (2) | 0.497031 |
GradientBasedCorrMaskFullX | 0.478774 |
GradientBasedCorrMaskFullY (1) | 0.832796 |
GradientBasedCorrMaskFullY (2) | 0.203699 |
GradientBasedCorrMaskFullY | 0.232270 |
GradientBasedCorrMaskValue | 1.000000 |
GradientBasedCorrMaskWhat | Mask/Gradient |
GradientBasedCorrMaskZeroX (1) | 0.537736 |
GradientBasedCorrMaskZeroX | 0.471698 |
GradientBasedCorrMaskZeroY (1) | 0.696809 |
GradientBasedCorrMaskZeroY (2) | 0.421986 |
GradientBasedCorrMaskZeroY | 0.617021 |
GradientBasedCorrMoire | 0.068381 |
GradientBasedCorrSaturation (5) | 0.070927 |
GradientBasedCorrSaturation | 0.000000 |
GradientBasedCorrShadows2012 | 0.056180 |
GradientBasedCorrSharpness | 0.056180 |
GradientBasedCorrTemperature (1) | -0.056180 |
GradientBasedCorrTemperature | -0.033708 |
GradientBasedCorrTint | -0.011236 |
GradientBasedCorrWhat | Correction |
GrainAmount | 0 |
GreenHue | 0 |
GreenSaturation | 0 |
HasCrop | False |
HasSettings | True |
HighlightRecovery | 0 |
Highlights2012 | 0 |
HueAdjustmentAqua | 0 |
HueAdjustmentBlue | 0 |
HueAdjustmentGreen | 0 |
HueAdjustmentMagenta | 0 |
HueAdjustmentOrange | 0 |
HueAdjustmentPurple | 0 |
HueAdjustmentRed | 0 |
HueAdjustmentYellow | 0 |
HyperfocalDistance | 1.45 m |
ImageHeight | 2832 |
ImageNumber | 63291 |
ImageSize | 4256x2832 |
ImageWidth | 4256 |
ISO | 100 |
Lens | 28.0-300.0 mm f/3.5-5.6 |
LensID (1) | 165 |
LensID | AF-S Nikkor 28-300mm f/3.5-5.6G ED VR |
LensInfo | 28-300mm f/3.5-5.6 |
LensManualDistortionAmount | 0 |
LensModel | 28.0-300.0 mm f/3.5-5.6 |
LensProfileEnable | 0 |
LensProfileSetup | LensDefaults |
LightSource | Fine Weather |
LightValue | 10.9 |
LuminanceAdjustmentAqua | 0 |
LuminanceAdjustmentBlue | 0 |
LuminanceAdjustmentGreen | 0 |
LuminanceAdjustmentMagenta | 0 |
LuminanceAdjustmentOrange | 0 |
LuminanceAdjustmentPurple | 0 |
LuminanceAdjustmentRed | 0 |
LuminanceAdjustmentYellow | 0 |
LuminanceSmoothing | 0 |
Make | NIKON CORPORATION |
MaxApertureValue | 3.5 |
Megapixels | 12.1 |
MeteringMode | Multi-segment |
Model | NIKON D3S |
ModifyDate (1) | 2013:05:03 22:57:08+02:00 |
ModifyDate | 2013:05:03 22:57:08 |
PaintCorrectionActive | true |
PaintCorrectionAmount | 1.000000 |
PaintCorrectionBrightness | 0.320225 |
PaintCorrectionClarity2012 (1) | 0.483146 |
PaintCorrectionClarity2012 (3) | 0.303371 |
PaintCorrectionClarity2012 (4) | 0.009217 |
PaintCorrectionClarity2012 (5) | 0.393258 |
PaintCorrectionClarity2012 | 0.191011 |
PaintCorrectionContrast2012 (1) | 0.213483 |
PaintCorrectionContrast2012 (2) | 0.258427 |
PaintCorrectionContrast2012 (3) | 0.056180 |
PaintCorrectionContrast2012 (4) | 0.010183 |
PaintCorrectionContrast2012 (5) | 0.191011 |
PaintCorrectionContrast2012 | 0.325843 |
PaintCorrectionExposure2012 (1) | -0.024315 |
PaintCorrectionExposure2012 (2) | -0.079881 |
PaintCorrectionExposure2012 (3) | 0.216292 |
PaintCorrectionExposure2012 (4) | 0.201018 |
PaintCorrectionExposure2012 (5) | 0.000000 |
PaintCorrectionExposure2012 | -0.078915 |
PaintCorrectionHighlights2012 (2) | 0.078652 |
PaintCorrectionHighlights2012 | 0.000439 |
PaintCorrectionHue | 233.000000 |
PaintCorrectionLuminanceNoise (1) | 0.483146 |
PaintCorrectionLuminanceNoise (2) | 0.101124 |
PaintCorrectionLuminanceNoise (4) | -0.005442 |
PaintCorrectionLuminanceNoise | -0.033708 |
PaintCorrectionMaskCenterWeight (114) | 0.039227 |
PaintCorrectionMaskCenterWeight (51) | 0.173372 |
PaintCorrectionMaskCenterWeight (90) | 0.075729 |
PaintCorrectionMaskCenterWeight | 0.206488 |
PaintCorrectionMaskFlow | 1.000000 |
PaintCorrectionMaskRadius (60) | 0.012708 |
PaintCorrectionMaskRadius (68) | 0.063210 |
PaintCorrectionMaskRadius (72) | 0.033517 |
PaintCorrectionMaskRadius (78) | 0.082572 |
PaintCorrectionMaskRadius (83) | 0.028132 |
PaintCorrectionMaskRadius (95) | 0.042453 |
PaintCorrectionMaskRadius | 0.021326 |
PaintCorrectionMaskValue | 1.000000 |
PaintCorrectionMaskWhat | Mask/Paint |
PaintCorrectionMoire (1) | 0.068381 |
PaintCorrectionMoire | -0.005442 |
PaintCorrectionSaturation (11) | 0.033708 |
PaintCorrectionSaturation (5) | 0.070927 |
PaintCorrectionSaturation (7) | 0.040467 |
PaintCorrectionSaturation (9) | 0.370787 |
PaintCorrectionSaturation | 0.000000 |
PaintCorrectionShadows2012 (1) | -0.213483 |
PaintCorrectionShadows2012 (3) | 0.056180 |
PaintCorrectionShadows2012 (4) | 0.101036 |
PaintCorrectionShadows2012 (5) | 0.280548 |
PaintCorrectionShadows2012 | -0.163975 |
PaintCorrectionSharpness (1) | 0.550562 |
PaintCorrectionSharpness (3) | 0.056180 |
PaintCorrectionSharpness (4) | 0.000000 |
PaintCorrectionSharpness (5) | 0.303371 |
PaintCorrectionSharpness | -0.011236 |
PaintCorrectionTemperature (1) | -0.056180 |
PaintCorrectionTemperature (5) | 0.223841 |
PaintCorrectionTemperature | -0.033708 |
PaintCorrectionTint (1) | -0.033708 |
PaintCorrectionTint | -0.011236 |
PaintCorrectionWhat | Correction |
ParametricDarks | 0 |
ParametricHighlights | 0 |
ParametricHighlightSplit | 75 |
ParametricLights | 0 |
ParametricMidtoneSplit | 50 |
ParametricShadows | 0 |
ParametricShadowSplit | 25 |
PerspectiveHorizontal | 0 |
PerspectiveRotate | 0.0 |
PerspectiveScale | 100 |
PerspectiveVertical | 0 |
PostCropVignetteAmount | 0 |
ProcessVersion | 6.7 |
ProfileDescription | sRGB IEC61966-2.1 |
Rating | 5 |
RedHue | 0 |
RedSaturation | 0 |
Saturation (1) | +10 |
Saturation | Normal |
SaturationAdjustmentAqua | 0 |
SaturationAdjustmentBlue | 0 |
SaturationAdjustmentGreen | 0 |
SaturationAdjustmentMagenta | 0 |
SaturationAdjustmentOrange | 0 |
SaturationAdjustmentPurple | 0 |
SaturationAdjustmentRed | 0 |
SaturationAdjustmentYellow | 0 |
ScaleFactor35efl | 1.0 |
SceneCaptureType | Standard |
SceneType | Directly photographed |
SensingMethod | One-chip color area |
SerialNumber | 2058033 |
Shadows | 5 |
Shadows2012 | -4 |
ShadowTint | 0 |
SharpenDetail | 25 |
SharpenEdgeMasking | 0 |
SharpenRadius | +1.0 |
Sharpness (1) | 25 |
Sharpness | Normal |
ShutterSpeed | 1/6 |
ShutterSpeedValue | 1/6 |
Software | Adobe Photoshop Lightroom 4.0 (Macintosh) |
SplitToningBalance | 0 |
SplitToningHighlightHue | 0 |
SplitToningHighlightSaturation | 0 |
SplitToningShadowHue | 0 |
SplitToningShadowSaturation | 0 |
SubjectDistanceRange | Unknown |
Tint | +10 |
ToneCurve | 0, 0, 255, 255 |
ToneCurveBlue | 0, 0, 255, 255 |
ToneCurveGreen | 0, 0, 255, 255 |
ToneCurveName | Linear |
ToneCurveName2012 | Linear |
ToneCurvePV2012 | 0, 0, 255, 255 |
ToneCurvePV2012Blue | 0, 0, 255, 255 |
ToneCurvePV2012Green | 0, 0, 255, 255 |
ToneCurvePV2012Red | 0, 0, 255, 255 |
ToneCurveRed | 0, 0, 255, 255 |
Version | 7.0 |
Vibrance | +11 |
VignetteAmount | 0 |
WhiteBalance (1) | Daylight |
WhiteBalance | Manual |
Whites2012 | -2 |