Felt | Verdi |
AlreadyApplied | True |
Aperture | 4.0 |
ApertureValue | 4.0 |
ApproximateFocusDistance | 25.3 |
AutoLateralCA | 0 |
BitsPerSample | 8 |
Blacks2012 | 0 |
BlueHue | 0 |
BlueSaturation | 0 |
Brightness | +50 |
CameraProfile | Adobe Standard |
CircleOfConfusion | 0.031 mm |
Clarity | 0 |
Clarity2012 | +60 |
ColorComponents | 1 |
ColorMode | RGB |
ColorNoiseReduction | 25 |
ColorNoiseReductionDetail | 50 |
ColorSpace | sRGB |
ColorTemperature | 4600 |
Contrast | +25 |
Contrast2012 | 0 |
ConvertToGrayscale | True |
CopyrightFlag | False |
CreateDate (1) | 2013:05:09 15:05:29+02:00 |
CreateDate | 2013:05:06 13:02:23 |
CreatorTool | Adobe Photoshop Elements 6.0 Windows |
CropAngle | -0.141954 |
CropBottom | 0.826966 |
CropConstrainToWarp | 0 |
CropHeight | 2326 |
CropLeft | 0.311823 |
CropRight | 0.752967 |
CropTop | 0.207347 |
CropUnit | pixels |
CropWidth | 2472 |
CustomRendered | Normal |
DateCreated | 2013:05:06 |
DateTimeDigitized | 2013:05:06 13:02:23+02:00 |
DateTimeOriginal (1) | 2013:05:06 13:02:23+02:00 |
DateTimeOriginal | 2013:05:06 13:02:23 |
Defringe | 0 |
DOF | 6.21 m (22.57 - 28.78 m) |
ExifImageHeight | 941 |
ExifImageWidth | 1000 |
Exposure | 0.00 |
Exposure2012 | 0.00 |
ExposureCompensation | -1/3 |
ExposureMode | Auto |
ExposureProgram | Aperture-priority AE |
ExposureTime | 1/500 |
FillLight | 0 |
Firmware | 1.0.6 |
Flash | Off, Did not fire |
FlashCompensation | 0 |
FlashFired | False |
FlashFunction | False |
FlashMode | Off |
FlashRedEyeMode | False |
FlashReturn | No return detection |
FNumber | 4.0 |
FocalLength | 160.0 mm |
FocalLength35efl | 160.0 mm (35 mm equivalent: 156.2 mm) |
Format | image/jpeg |
FOV | 13.2 deg |
GrainAmount | 0 |
GrayMixerAqua | -18 |
GrayMixerBlue | +9 |
GrayMixerGreen | -25 |
GrayMixerMagenta | +4 |
GrayMixerOrange | -17 |
GrayMixerPurple | +15 |
GrayMixerRed | -8 |
GrayMixerYellow | -20 |
GreenHue | 0 |
GreenSaturation | 0 |
HasCrop | True |
HasSettings | True |
HighlightRecovery | 0 |
Highlights2012 | 0 |
HyperfocalDistance | 207.88 m |
ICCProfileName | sRGB IEC61966-2.1 |
ImageHeight | 941 |
ImageNumber | 0 |
ImageSize | 1000x941 |
ImageWidth | 1000 |
ISO | 200 |
Lens | EF70-200mm f/4L IS USM |
LensID (1) | 242 |
LensID | Canon EF 70-200mm f/4L IS USM |
LensInfo | 70-200mm f/? |
LensManualDistortionAmount | 0 |
LensModel | EF70-200mm f/4L IS USM |
LensProfileEnable | 0 |
LensProfileSetup | LensDefaults |
LightValue | 12.0 |
LuminanceNoiseReductionContrast | 0 |
LuminanceNoiseReductionDetail | 50 |
LuminanceSmoothing | 22 |
Make | Canon |
MaxApertureValue | 4.0 |
Megapixels | 0.941 |
MeteringMode | Center-weighted average |
Model | Canon EOS 5D Mark II |
ModifyDate (1) | 2013:05:09 15:05:29+02:00 |
ModifyDate | 2013:05:09 15:05:29 |
Orientation | Horizontal (normal) |
ParametricDarks | 0 |
ParametricHighlights | 0 |
ParametricHighlightSplit | 75 |
ParametricLights | 0 |
ParametricMidtoneSplit | 50 |
ParametricShadows | 0 |
ParametricShadowSplit | 25 |
PerspectiveHorizontal | 0 |
PerspectiveRotate | 0.0 |
PerspectiveScale | 100 |
PerspectiveVertical | 0 |
PostCropVignetteAmount | -35 |
PostCropVignetteFeather | 50 |
PostCropVignetteHighlightContrast | 0 |
PostCropVignetteMidpoint | 50 |
PostCropVignetteRoundness | 0 |
PostCropVignetteStyle | 1 |
ProcessVersion | 6.7 |
ProfileDescription | sRGB IEC61966-2.1 |
RedHue | 0 |
RedSaturation | 0 |
ScaleFactor35efl | 1.0 |
SceneCaptureType | Standard |
SerialNumber | 130101597 |
Shadows | 5 |
Shadows2012 | +47 |
ShadowTint | 0 |
SharpenDetail | 25 |
SharpenEdgeMasking | 0 |
SharpenRadius | +1.0 |
Sharpness | 25 |
ShutterSpeed | 1/500 |
ShutterSpeedValue | 1/500 |
Software | Adobe Photoshop Elements 6.0 Windows |
SplitToningBalance | 0 |
SplitToningHighlightHue | 0 |
SplitToningHighlightSaturation | 0 |
SplitToningShadowHue | 0 |
SplitToningShadowSaturation | 0 |
Tint | -4 |
ToneCurve | 0, 0, 255, 255 |
ToneCurveBlue | 0, 0, 255, 255 |
ToneCurveGreen | 0, 0, 255, 255 |
ToneCurveName | Linear |
ToneCurveName2012 | Linear |
ToneCurvePV2012 | 0, 0, 255, 255 |
ToneCurvePV2012Blue | 0, 0, 255, 255 |
ToneCurvePV2012Green | 0, 0, 255, 255 |
ToneCurvePV2012Red | 0, 0, 255, 255 |
ToneCurveRed | 0, 0, 255, 255 |
URL_List | |
Version | 7.0 |
VignetteAmount | 0 |
WhiteBalance (1) | As Shot |
WhiteBalance | Auto |
Whites2012 | +50 |