Felt | Verdi |
AlreadyApplied | True |
Aperture | 4.0 |
ApertureValue | 4.0 |
ApproximateFocusDistance | 5.01 |
AutoLateralCA | 0 |
BitsPerSample | 8 |
Blacks2012 | 0 |
BlueHue | 0 |
BlueSaturation | 0 |
CameraProfile | Adobe Standard |
CFAPattern | [Red,Green][Green,Blue] |
CircleOfConfusion | 0.030 mm |
Clarity2012 | +4 |
ColorComponents | 3 |
ColorMode | RGB |
ColorNoiseReduction | 25 |
ColorNoiseReductionDetail | 50 |
ColorSpace | Uncalibrated |
ColorTemperature | 4800 |
Contrast | High |
Contrast2012 | +10 |
ConvertToGrayscale | False |
CreateDate | 2013:05:12 13:31:33 |
CreatorTool | Ver.1.00 |
CropAngle | 0 |
CropBottom | 0.760898 |
CropConstrainToWarp | 1 |
CropLeft | 0.253968 |
CropRight | 0.892416 |
CropTop | 0.121532 |
CustomRendered | Normal |
DateCreated (1) | 2013:05:12 |
DateCreated | 2013:05:12 13:31:33.001 |
DateTimeOriginal | 2013:05:12 13:31:33 |
DefringeGreenAmount | 0 |
DefringeGreenHueHi | 60 |
DefringeGreenHueLo | 40 |
DefringePurpleAmount | 0 |
DefringePurpleHueHi | 70 |
DefringePurpleHueLo | 30 |
DigitalZoomRatio | 1 |
DOF | 0.06 m (4.98 - 5.04 m) |
ExifImageHeight | 1396 |
ExifImageWidth | 2056 |
Exposure2012 | 0.00 |
ExposureCompensation | -1/3 |
ExposureMode | Manual |
ExposureProgram | Manual |
ExposureTime | 1/500 |
Flash | Off, Did not fire |
FNumber | 4.0 |
FocalLength | 300.0 mm |
FocalLength35efl | 300.0 mm (35 mm equivalent: 300.0 mm) |
FocalLengthIn35mmFormat | 300 mm |
Format | image/jpeg |
FOV | 6.9 deg |
GainControl | None |
GrainAmount | 0 |
GreenHue | 0 |
GreenSaturation | 0 |
HasCrop | True |
HasSettings | True |
Highlights2012 | +12 |
HueAdjustmentAqua | 0 |
HueAdjustmentBlue | 0 |
HueAdjustmentGreen | 0 |
HueAdjustmentMagenta | 0 |
HueAdjustmentOrange | 0 |
HueAdjustmentPurple | 0 |
HueAdjustmentRed | 0 |
HueAdjustmentYellow | 0 |
HyperfocalDistance | 748.85 m |
ICCProfileName | Adobe RGB (1998) |
ImageHeight | 678 |
ImageNumber | 1917 |
ImageSize | 1000x678 |
ImageWidth | 1000 |
ISO | 280 |
Lens | 300.0 mm f/2.8 |
LensID (1) | 72 |
LensID | AF-S Nikkor 300mm f/2.8D IF-ED + TC-17E or AF-S Nikkor 300mm f/2.8D IF-ED or AF-S Nikkor 300mm f/2.8D IF-ED + TC-20E or AF-S Nikkor 300mm f/2.8D IF-ED + TC-14E or Sigma APO 300mm F2.8 EX DG HSM |
LensInfo | 300mm f/2.8 |
LensManualDistortionAmount | 0 |
LensModel | 300.0 mm f/2.8 |
LensProfileEnable | 0 |
LensProfileSetup | LensDefaults |
LightSource | Unknown |
LightValue | 11.5 |
LuminanceAdjustmentAqua | 0 |
LuminanceAdjustmentBlue | 0 |
LuminanceAdjustmentGreen | 0 |
LuminanceAdjustmentMagenta | 0 |
LuminanceAdjustmentOrange | 0 |
LuminanceAdjustmentPurple | 0 |
LuminanceAdjustmentRed | 0 |
LuminanceAdjustmentYellow | 0 |
LuminanceNoiseReductionContrast | 0 |
LuminanceNoiseReductionDetail | 50 |
LuminanceSmoothing | 7 |
Make | NIKON CORPORATION |
MaxApertureValue | 2.8 |
Megapixels | 0.678 |
MeteringMode | Spot |
Model | NIKON D600 |
ModifyDate (1) | 2013:05:12 15:15:23+02:00 |
ModifyDate | 2013:05:12 15:15:23 |
Orientation | Horizontal (normal) |
ParametricDarks | 0 |
ParametricHighlights | 0 |
ParametricHighlightSplit | 75 |
ParametricLights | 0 |
ParametricMidtoneSplit | 50 |
ParametricShadows | 0 |
ParametricShadowSplit | 25 |
PerspectiveHorizontal | 0 |
PerspectiveRotate | 0.0 |
PerspectiveScale | 100 |
PerspectiveVertical | 0 |
PostCropVignetteAmount | 0 |
ProcessVersion | 6.7 |
ProfileDescription | Adobe RGB (1998) |
Rating | 0 |
RawFileName | _DSC1793.NEF |
RedHue | 0 |
RedSaturation | 0 |
Saturation (1) | +8 |
Saturation | Normal |
SaturationAdjustmentAqua | 0 |
SaturationAdjustmentBlue | 0 |
SaturationAdjustmentGreen | 0 |
SaturationAdjustmentMagenta | 0 |
SaturationAdjustmentOrange | 0 |
SaturationAdjustmentPurple | 0 |
SaturationAdjustmentRed | 0 |
SaturationAdjustmentYellow | 0 |
ScaleFactor35efl | 1.0 |
SceneCaptureType | Standard |
SceneType | Directly photographed |
SensingMethod | One-chip color area |
SensitivityType | Recommended Exposure Index |
SerialNumber | 6007539 |
Shadows2012 | 0 |
ShadowTint | 0 |
SharpenDetail | 57 |
SharpenEdgeMasking | 0 |
SharpenRadius | +1.0 |
Sharpness (1) | 81 |
Sharpness | Hard |
ShutterSpeed | 1/500 |
ShutterSpeedValue | 1/500 |
Software | Adobe Photoshop CS6 (Windows) |
SplitToningBalance | 0 |
SplitToningHighlightHue | 0 |
SplitToningHighlightSaturation | 0 |
SplitToningShadowHue | 0 |
SplitToningShadowSaturation | 0 |
SubjectDistanceRange | Unknown |
Tint | +9 |
ToneCurveName2012 | Linear |
ToneCurvePV2012 | 0, 0, 255, 255 |
ToneCurvePV2012Blue | 0, 0, 255, 255 |
ToneCurvePV2012Green | 0, 0, 255, 255 |
ToneCurvePV2012Red | 0, 0, 255, 255 |
URL_List | |
Version | 7.3 |
Vibrance | +7 |
VignetteAmount | 0 |
WhiteBalance (1) | As Shot |
WhiteBalance | Auto |
Whites2012 | 0 |