Felt | Verdi |
2013-05-13T20:26:47+02:00 File L:\pus\12mai2013\facebookut.jpg saved
AlreadyApplied | True |
Aperture | 10.0 |
ApertureValue | 10.0 |
ApproximateFocusDistance | 16 |
Artist | BARBRO_SKOGSET |
AutoLateralCA | 1 |
BitsPerSample | 8 |
Blacks2012 | -70 |
BlueHue | 0 |
BlueSaturation | 0 |
By-line | BARBRO_SKOGSET |
CameraProfile | Adobe Standard |
CircleOfConfusion | 0.020 mm |
Clarity2012 | +30 |
ColorComponents | 3 |
ColorMode | RGB |
ColorNoiseReduction | 25 |
ColorNoiseReductionDetail | 50 |
ColorSpace | Uncalibrated |
ColorTemperature | 5900 |
Contrast | High |
Contrast2012 | +31 |
ConvertToGrayscale | False |
Copyright | BARBRO_SKOGSET |
CopyrightNotice | BARBRO_SKOGSET |
CreateDate | 2013:05:12 16:27:44 |
Creator | BARBRO_SKOGSET |
CreatorTool | K-5 II s Ver 1.04 |
CustomRendered | Normal |
DateCreated (1) | 2013:05:12 |
DateCreated | 2013:05:12 16:27:44 |
DateTimeOriginal | 2013:05:12 16:27:44 |
DefringeGreenAmount | 0 |
DefringeGreenHueHi | 60 |
DefringeGreenHueLo | 40 |
DefringePurpleAmount | 0 |
DefringePurpleHueHi | 70 |
DefringePurpleHueLo | 30 |
DOF | 15.99 m (11.32 - 27.30 m) |
ExifImageHeight | 911 |
ExifImageWidth | 1500 |
Exposure2012 | 0.00 |
ExposureCompensation | -0.3 |
ExposureMode | Manual |
ExposureProgram | Not Defined |
ExposureTime | 1/1600 |
Flash | Off, Did not fire |
FNumber | 10.0 |
FocalLength | 87.5 mm |
FocalLength35efl | 87.5 mm (35 mm equivalent: 132.0 mm) |
FocalLengthIn35mmFormat | 132 mm |
Format | image/jpeg |
FOV | 15.5 deg |
GrainAmount | 0 |
GreenHue | 0 |
GreenSaturation | 0 |
HasCrop | False |
HasSettings | True |
Highlights2012 | -71 |
HueAdjustmentAqua | 0 |
HueAdjustmentBlue | 0 |
HueAdjustmentGreen | 0 |
HueAdjustmentMagenta | -2 |
HueAdjustmentOrange | 0 |
HueAdjustmentPurple | -33 |
HueAdjustmentRed | 0 |
HueAdjustmentYellow | 0 |
HyperfocalDistance | 38.44 m |
ICCProfileName | ProPhoto RGB |
ImageHeight | 911 |
ImageSize | 1500x911 |
ImageWidth | 1500 |
ISO | 160 |
Lens | smc PENTAX-DA 55-300mm F4-5.8 ED |
LensID (1) | 7 236 |
LensID | smc PENTAX-DA 55-300mm F4-5.8 ED |
LensInfo | 55-300mm f/4-5.8 |
LensManualDistortionAmount | 0 |
LensModel | smc PENTAX-DA 55-300mm F4-5.8 ED |
LensProfileChromaticAberrationScale | 100 |
LensProfileDistortionScale | 100 |
LensProfileEnable | 1 |
LensProfileFilename | PENTAX (smc PENTAX-DA 55-300mm F4-5.8 ED) - RAW.lcp |
LensProfileName | Adobe (smc PENTAX-DA 55-300mm F4-5.8 ED) |
LensProfileSetup | Custom |
LensProfileVignettingScale | 100 |
LightValue | 16.6 |
LuminanceAdjustmentAqua | 0 |
LuminanceAdjustmentBlue | 0 |
LuminanceAdjustmentGreen | 0 |
LuminanceAdjustmentMagenta | 0 |
LuminanceAdjustmentOrange | 0 |
LuminanceAdjustmentPurple | 0 |
LuminanceAdjustmentRed | 0 |
LuminanceAdjustmentYellow | 0 |
LuminanceSmoothing | 0 |
Make | PENTAX |
Megapixels | 1.4 |
MeteringMode | Multi-segment |
Model | PENTAX K-5 II s |
ModifyDate (1) | 2013:05:13 20:26:47+02:00 |
ModifyDate | 2013:05:13 20:26:47 |
Orientation | Horizontal (normal) |
ParametricDarks | 0 |
ParametricHighlights | 0 |
ParametricHighlightSplit | 75 |
ParametricLights | 0 |
ParametricMidtoneSplit | 50 |
ParametricShadows | 0 |
ParametricShadowSplit | 25 |
PerspectiveHorizontal | 0 |
PerspectiveRotate | 0.0 |
PerspectiveScale | 100 |
PerspectiveVertical | 0 |
PhotographicSensitivity | 160 |
PostCropVignetteAmount | 0 |
ProcessVersion | 6.7 |
ProfileDescription | ProPhoto RGB |
Rating | 0 |
RawFileName | _IGP9751.DNG |
RedHue | 0 |
RedSaturation | 0 |
Rights | BARBRO_SKOGSET |
Saturation (1) | 0 |
Saturation | Normal |
SaturationAdjustmentAqua | 0 |
SaturationAdjustmentBlue | 0 |
SaturationAdjustmentGreen | 0 |
SaturationAdjustmentMagenta | 0 |
SaturationAdjustmentOrange | 0 |
SaturationAdjustmentPurple | 0 |
SaturationAdjustmentRed | 0 |
SaturationAdjustmentYellow | 0 |
ScaleFactor35efl | 1.5 |
SceneCaptureType | Standard |
SensingMethod | One-chip color area |
Shadows2012 | +25 |
ShadowTint | 0 |
SharpenDetail | 25 |
SharpenEdgeMasking | 0 |
SharpenRadius | +1.0 |
Sharpness (1) | 25 |
Sharpness | Hard |
ShutterSpeed | 1/1600 |
ShutterSpeedValue | 1/1600 |
Software | Adobe Photoshop CS6 (Windows) |
SplitToningBalance | 0 |
SplitToningHighlightHue | 0 |
SplitToningHighlightSaturation | 0 |
SplitToningShadowHue | 0 |
SplitToningShadowSaturation | 0 |
SubjectDistanceRange | Distant |
Tint | +11 |
ToneCurveName2012 | Linear |
ToneCurvePV2012 | 0, 0, 255, 255 |
ToneCurvePV2012Blue | 0, 0, 255, 255 |
ToneCurvePV2012Green | 0, 0, 255, 255 |
ToneCurvePV2012Red | 0, 0, 255, 255 |
URL_List | |
Version | 7.3 |
Vibrance | 0 |
VignetteAmount | 0 |
WhiteBalance (1) | Custom |
WhiteBalance | Auto |
Whites2012 | -54 |