Felt | Verdi |
AlreadyApplied | True |
Aperture | 3.8 |
ApertureValue | 3.8 |
ApproximateFocusDistance | 0.71 |
BitsPerSample | 8 |
BlueHue | 0 |
BlueSaturation | 0 |
Brightness | +50 |
CameraProfile | Adobe Standard |
CFAPattern | [Red,Green][Green,Blue] |
ChromaticAberrationB | 0 |
ChromaticAberrationR | 0 |
CircleOfConfusion | 0.020 mm |
Clarity | +70 |
ColorComponents | 3 |
ColorMode | RGB |
ColorNoiseReduction | 25 |
ColorNoiseReductionDetail | 50 |
ColorSpace | sRGB |
ColorTemperature | 4350 |
Contrast (2) | +42 |
Contrast | Normal |
ConvertToGrayscale | False |
CreateDate (1) | 2013:05:20 11:12:30.00+02:00 |
CreateDate | 2013:05:20 11:12:30 |
CreatorTool | Ver.1.10 |
CustomRendered | Normal |
DateAcquired | 2013:05:20 16:25:05.490 |
DateCreated | 2013:05:20 |
DateTimeDigitized | 2013:05:20 11:12:30+02:00 |
DateTimeOriginal (1) | 2013:05:20 11:12:30.00+02:00 |
DateTimeOriginal | 2013:05:20 11:12:30 |
Defringe | 0 |
DigitalZoomRatio | 1 |
DOF | 0.003 m (0.709 - 0.711 m) |
ExifImageHeight | 850 |
ExifImageWidth | 850 |
Exposure | 0.00 |
ExposureCompensation | -1/3 |
ExposureMode | Auto |
ExposureProgram | Program AE |
ExposureTime | 1/500 |
FillLight | 0 |
Flash | No Flash |
FlashFired | False |
FlashFunction | False |
FlashMode | Unknown |
FlashRedEyeMode | False |
FlashReturn | No return detection |
FNumber | 3.8 |
FocalLength | 150.0 mm |
FocalLength35efl | 150.0 mm (35 mm equivalent: 225.0 mm) |
FocalLengthIn35mmFormat | 225 mm |
Format | image/jpeg |
FOV | 9.1 deg |
GainControl | None |
GrainAmount | 0 |
GreenHue | 0 |
GreenSaturation | 0 |
HasCrop | False |
HasSettings | True |
HighlightRecovery | 45 |
HueAdjustmentAqua | 0 |
HueAdjustmentBlue | 0 |
HueAdjustmentGreen | 0 |
HueAdjustmentMagenta | 0 |
HueAdjustmentOrange | 0 |
HueAdjustmentPurple | 0 |
HueAdjustmentRed | 0 |
HueAdjustmentYellow | 0 |
HyperfocalDistance | 295.60 m |
ICCProfileName | sRGB IEC61966-2.1 |
ImageHeight | 850 |
ImageNumber | 26863 |
ImageSize | 850x850 |
ImageWidth | 850 |
ISO | 200 |
Lens | 150.0 mm f/2.8 |
LensID (1) | 153 |
LensID | Sigma APO Macro 150mm F2.8 EX DG OS HSM |
LensInfo | 150mm f/2.8 |
LensManualDistortionAmount | 0 |
LensModel | 150.0 mm f/2.8 |
LensProfileEnable | 0 |
LensProfileSetup | LensDefaults |
LightSource | Unknown |
LightValue | 11.8 |
LuminanceAdjustmentAqua | 0 |
LuminanceAdjustmentBlue | 0 |
LuminanceAdjustmentGreen | 0 |
LuminanceAdjustmentMagenta | 0 |
LuminanceAdjustmentOrange | 0 |
LuminanceAdjustmentPurple | 0 |
LuminanceAdjustmentRed | 0 |
LuminanceAdjustmentYellow | 0 |
LuminanceSmoothing | 0 |
Make | NIKON CORPORATION |
MaxApertureValue | 3.7 |
Megapixels | 0.723 |
MeteringMode | Multi-segment |
Model | NIKON D300 |
ModifyDate (1) | 2013:05:20 17:26:12+02:00 |
ModifyDate | 2013:05:20 17:26:12 |
Orientation | Horizontal (normal) |
ParametricDarks | 0 |
ParametricHighlights | 0 |
ParametricHighlightSplit | 75 |
ParametricLights | 0 |
ParametricMidtoneSplit | 50 |
ParametricShadows | 0 |
ParametricShadowSplit | 25 |
PerspectiveHorizontal | 0 |
PerspectiveRotate | 0.0 |
PerspectiveScale | 100 |
PerspectiveVertical | 0 |
PostCropVignetteAmount | 0 |
ProcessVersion | 5.7 |
ProfileDescription | sRGB IEC61966-2.1 |
Rating | 0 |
RawFileName | 133.NEF |
RedHue | 0 |
RedSaturation | 0 |
Saturation (2) | 0 |
Saturation | Normal |
SaturationAdjustmentAqua | 0 |
SaturationAdjustmentBlue | 0 |
SaturationAdjustmentGreen | 0 |
SaturationAdjustmentMagenta | 0 |
SaturationAdjustmentOrange | 0 |
SaturationAdjustmentPurple | 0 |
SaturationAdjustmentRed | 0 |
SaturationAdjustmentYellow | 0 |
ScaleFactor35efl | 1.5 |
SceneCaptureType | Standard |
SceneType | Directly photographed |
SensingMethod | One-chip color area |
SerialNumber | 4133996 |
Shadows | 5 |
ShadowTint | 0 |
SharpenDetail | 25 |
SharpenEdgeMasking | 0 |
SharpenRadius | +1.0 |
Sharpness (2) | 25 |
Sharpness | Normal |
ShutterSpeed | 1/500 |
ShutterSpeedValue | 1/500 |
Software | Adobe Photoshop Elements 9.0 Windows |
SplitToningBalance | 0 |
SplitToningHighlightHue | 0 |
SplitToningHighlightSaturation | 0 |
SplitToningShadowHue | 0 |
SplitToningShadowSaturation | 0 |
SubjectDistance | 0.71 m |
SubjectDistanceRange | Unknown |
Tint | +5 |
ToneCurve | 0, 0, 32, 22, 64, 56, 128, 128, 192, 196, 255, 255 |
ToneCurveName | Medium Contrast |
URL_List | |
Version | 6.5 |
Vibrance | +69 |
VignetteAmount | 0 |
WhiteBalance (2) | As Shot |
WhiteBalance | Auto |