Felt | Verdi |
AlreadyApplied | True |
Aperture | 1.4 |
ApertureValue | 1.4 |
BitsPerSample | 8 |
BlueHue | +11 |
BlueSaturation | -70 |
Brightness | +57 |
CameraProfile | Adobe Standard |
ChromaticAberrationB | 0 |
ChromaticAberrationR | 0 |
CircleOfConfusion | 0.020 mm |
Clarity | +49 |
ColorComponents | 3 |
ColorNoiseReduction | 25 |
ColorNoiseReductionDetail | 50 |
ColorTemperature | 12500 |
Contrast (2) | +25 |
Contrast | High |
ConvertToGrayscale | False |
CreateDate (1) | 2013:05:19 16:21:18+02:00 |
CreateDate | 2013:05:19 16:21:18 |
CreatorTool | Adobe Photoshop Lightroom |
CropAngle | 0 |
CropBottom | 0.836645 |
CropConstrainToWarp | 0 |
CropHeight | 2731 |
CropLeft | 0 |
CropRight | 0.804093 |
CropTop | 0 |
CropUnit | pixels |
CropWidth | 3963 |
CustomRendered | Normal |
DateTimeDigitized | 2013:05:19 16:21:18+02:00 |
DateTimeOriginal (1) | 2013:05:19 16:21:18+02:00 |
DateTimeOriginal | 2013:05:19 16:21:18 |
Defringe | 0 |
ExifImageHeight | 3963 |
ExifImageWidth | 2731 |
Exposure | +0.75 |
ExposureCompensation | 0 |
ExposureMode | Auto |
ExposureProgram | Aperture-priority AE |
ExposureTime | 1/6000 |
FillLight | 0 |
Flash | Off, Did not fire |
FlashFired | False |
FlashFunction | False |
FlashMode | Off |
FlashRedEyeMode | False |
FlashReturn | No return detection |
FNumber | 1.4 |
FocalLength | 50.0 mm |
FocalLength35efl | 50.0 mm (35 mm equivalent: 75.0 mm) |
FocalLengthIn35mmFormat | 75 mm |
FOV | 27.0 deg |
GrainAmount | 0 |
GreenHue | +11 |
GreenSaturation | +25 |
HasCrop | True |
HasSettings | True |
HighlightRecovery | 0 |
HueAdjustmentAqua | 0 |
HueAdjustmentBlue | 0 |
HueAdjustmentGreen | 0 |
HueAdjustmentMagenta | 0 |
HueAdjustmentOrange | 0 |
HueAdjustmentPurple | 0 |
HueAdjustmentRed | 0 |
HueAdjustmentYellow | 0 |
HyperfocalDistance | 89.15 m |
ImageHeight | 3963 |
ImageSize | 2731x3963 |
ImageWidth | 2731 |
ISO | 200 |
Lens | smc PENTAX-FA 50mm F1.4 |
LensID (1) | 4 12 |
LensID | smc PENTAX-FA 50mm F1.4 |
LensInfo | 50mm f/1.4 |
LensManualDistortionAmount | 0 |
LensModel | smc PENTAX-FA 50mm F1.4 |
LensProfileEnable | 0 |
LensProfileSetup | LensDefaults |
LightValue | 12.5 |
LuminanceAdjustmentAqua | 0 |
LuminanceAdjustmentBlue | 0 |
LuminanceAdjustmentGreen | 0 |
LuminanceAdjustmentMagenta | 0 |
LuminanceAdjustmentOrange | 0 |
LuminanceAdjustmentPurple | 0 |
LuminanceAdjustmentRed | 0 |
LuminanceAdjustmentYellow | 0 |
LuminanceSmoothing | 0 |
Make | PENTAX |
Megapixels | 10.8 |
MeteringMode | Multi-segment |
Model | PENTAX K-30 |
ModifyDate (1) | 2013:05:20 21:42:52+02:00 |
ModifyDate | 2013:05:20 21:42:52 |
ParametricDarks | -3 |
ParametricHighlights | 0 |
ParametricHighlightSplit | 75 |
ParametricLights | 0 |
ParametricMidtoneSplit | 50 |
ParametricShadows | -14 |
ParametricShadowSplit | 25 |
PerspectiveHorizontal | 0 |
PerspectiveRotate | 0.0 |
PerspectiveScale | 100 |
PerspectiveVertical | 0 |
PostCropVignetteAmount | 0 |
ProcessVersion | 5.7 |
ProfileDescription | sRGB IEC61966-2.1 |
RedHue | +96 |
RedSaturation | +3 |
Saturation (2) | -100 |
Saturation | Normal |
SaturationAdjustmentAqua | 0 |
SaturationAdjustmentBlue | 0 |
SaturationAdjustmentGreen | 0 |
SaturationAdjustmentMagenta | 0 |
SaturationAdjustmentOrange | 0 |
SaturationAdjustmentPurple | 0 |
SaturationAdjustmentRed | 0 |
SaturationAdjustmentYellow | 0 |
ScaleFactor35efl | 1.5 |
SceneCaptureType | Standard |
SensingMethod | One-chip color area |
SensitivityType | Unknown |
Shadows | 11 |
ShadowTint | +8 |
SharpenDetail | 75 |
SharpenEdgeMasking | 71 |
SharpenRadius | +1.0 |
Sharpness (2) | 78 |
Sharpness | Hard |
ShutterSpeed | 1/6000 |
ShutterSpeedValue | 1/6000 |
Software | K-30 Ver 1.00 |
SplitToningBalance | 0 |
SplitToningHighlightHue | 51 |
SplitToningHighlightSaturation | 25 |
SplitToningShadowHue | 0 |
SplitToningShadowSaturation | 0 |
SubjectDistanceRange | Distant |
Tint | +35 |
ToneCurve | 0, 0, 255, 255 |
ToneCurveName | Linear |
Version | 6.2 |
Vibrance | 0 |
VignetteAmount | -100 |
VignetteMidpoint | 40 |
WhiteBalance (2) | Custom |
WhiteBalance | Auto |