Felt | Verdi |
AlreadyApplied | True |
Aperture | 4.0 |
ApertureValue | 4.0 |
ApproximateFocusDistance | 5.96 |
Artist | GMS |
AutoLateralCA | 0 |
BitsPerSample | 8 |
Blacks2012 | 0 |
BlueHue | 0 |
BlueSaturation | 0 |
By-line | GMS |
CameraProfile | Camera Standard |
CFAPattern | [Red,Green][Green,Blue] |
CircleOfConfusion | 0.030 mm |
Clarity2012 | +65 |
ColorComponents | 3 |
ColorNoiseReduction | 25 |
ColorNoiseReductionDetail | 50 |
ColorSpace | sRGB |
ColorTemperature | 5150 |
Contrast | Normal |
Contrast2012 | 0 |
ConvertToGrayscale | False |
CopyrightFlag | False |
CreateDate (1) | 2013:05:29 09:29:53+01:00 |
CreateDate | 2013:02:01 02:06:26 |
Creator | GMS |
CreatorTool | Adobe Photoshop CS Windows |
CustomRendered | Normal |
DateCreated | 2013:02:01 |
DateTimeDigitized | 2013:02:01 02:06:26+01:00 |
DateTimeOriginal (1) | 2013:02:01 02:06:26+01:00 |
DateTimeOriginal | 2013:02:01 02:06:26 |
DefringeGreenAmount | 0 |
DefringeGreenHueHi | 60 |
DefringeGreenHueLo | 40 |
DefringePurpleAmount | 0 |
DefringePurpleHueHi | 70 |
DefringePurpleHueLo | 30 |
DigitalZoomRatio | 1 |
DOF | 0.21 m (5.86 - 6.06 m) |
ExifImageHeight | 798 |
ExifImageWidth | 1200 |
Exposure2012 | +0.73 |
ExposureCompensation | -1/3 |
ExposureMode | Auto |
ExposureProgram | Aperture-priority AE |
ExposureTime | 1/8000 |
Flash | No Flash |
FlashFired | False |
FlashFunction | False |
FlashMode | Unknown |
FlashRedEyeMode | False |
FlashReturn | No return detection |
FNumber | 4.0 |
FocalLength | 200.0 mm |
FocalLength35efl | 200.0 mm (35 mm equivalent: 200.0 mm) |
FocalLengthIn35mmFormat | 200 mm |
Format | image/jpeg |
FOV | 10.3 deg |
GainControl | Low gain up |
GrainAmount | 0 |
GreenHue | 0 |
GreenSaturation | 0 |
HasCrop | False |
HasSettings | True |
Highlights2012 | -100 |
HueAdjustmentAqua | 0 |
HueAdjustmentBlue | 0 |
HueAdjustmentGreen | 0 |
HueAdjustmentMagenta | 0 |
HueAdjustmentOrange | 0 |
HueAdjustmentPurple | 0 |
HueAdjustmentRed | 0 |
HueAdjustmentYellow | 0 |
HyperfocalDistance | 332.82 m |
ImageHeight | 798 |
ImageNumber | 704 |
ImageSize | 1200x798 |
ImageWidth | 1200 |
ISO | 400 |
Label | Röd |
Lens | 200.0-400.0 mm f/4.0 |
LensID (1) | 168 |
LensID | AF-S Zoom-Nikkor 200-400mm f/4G IF-ED VR II |
LensInfo | 200-400mm f/4 |
LensManualDistortionAmount | 0 |
LensModel | 200.0-400.0 mm f/4.0 |
LensProfileChromaticAberrationScale | 100 |
LensProfileDistortionScale | 100 |
LensProfileEnable | 1 |
LensProfileFilename | NIKON D3X (Nikon AF-S NIKKOR 200-400mm f4G ED VR II) - RAW.lcp |
LensProfileName | Adobe (Nikon AF-S NIKKOR 200-400mm f/4G ED VR II) |
LensProfileSetup | Custom |
LensProfileVignettingScale | 100 |
LightSource | Unknown |
LightValue | 15.0 |
LuminanceAdjustmentAqua | 0 |
LuminanceAdjustmentBlue | 0 |
LuminanceAdjustmentGreen | 0 |
LuminanceAdjustmentMagenta | 0 |
LuminanceAdjustmentOrange | 0 |
LuminanceAdjustmentPurple | 0 |
LuminanceAdjustmentRed | 0 |
LuminanceAdjustmentYellow | 0 |
LuminanceNoiseReductionContrast | 0 |
LuminanceNoiseReductionDetail | 50 |
LuminanceSmoothing | 20 |
Make | NIKON CORPORATION |
MaxApertureValue | 4.0 |
Megapixels | 0.958 |
MeteringMode | Center-weighted average |
Model | NIKON D3S |
ModifyDate (1) | 2013:05:29 09:29:53+01:00 |
ModifyDate | 2013:05:29 09:29:53 |
Orientation | Horizontal (normal) |
ParametricDarks | 0 |
ParametricHighlights | 0 |
ParametricHighlightSplit | 75 |
ParametricLights | 0 |
ParametricMidtoneSplit | 50 |
ParametricShadows | 0 |
ParametricShadowSplit | 25 |
PerspectiveHorizontal | 0 |
PerspectiveRotate | 0.0 |
PerspectiveScale | 100 |
PerspectiveVertical | 0 |
PostCropVignetteAmount | 0 |
ProcessVersion | 6.7 |
ProfileDescription | sRGB IEC61966-2.1 |
RedHue | 0 |
RedSaturation | 0 |
Saturation (1) | 0 |
Saturation | Normal |
SaturationAdjustmentAqua | 0 |
SaturationAdjustmentBlue | 0 |
SaturationAdjustmentGreen | 0 |
SaturationAdjustmentMagenta | 0 |
SaturationAdjustmentOrange | 0 |
SaturationAdjustmentPurple | 0 |
SaturationAdjustmentRed | 0 |
SaturationAdjustmentYellow | 0 |
ScaleFactor35efl | 1.0 |
SceneCaptureType | Standard |
SceneType | Directly photographed |
SensingMethod | One-chip color area |
SerialNumber | 2007197 |
Shadows2012 | 0 |
ShadowTint | 0 |
SharpenDetail | 25 |
SharpenEdgeMasking | 21 |
SharpenRadius | +1.0 |
Sharpness (1) | 96 |
Sharpness | Hard |
ShutterSpeed | 1/8000 |
ShutterSpeedValue | 1/8000 |
Software | Adobe Photoshop CS Windows |
SplitToningBalance | 0 |
SplitToningHighlightHue | 0 |
SplitToningHighlightSaturation | 0 |
SplitToningShadowHue | 0 |
SplitToningShadowSaturation | 0 |
SubjectDistanceRange | Unknown |
Tint | +13 |
ToneCurveName2012 | Linear |
ToneCurvePV2012 | 0, 0, 255, 255 |
ToneCurvePV2012Blue | 0, 0, 255, 255 |
ToneCurvePV2012Green | 0, 0, 255, 255 |
ToneCurvePV2012Red | 0, 0, 255, 255 |
URL_List | |
Version | 7.3 |
Vibrance | +34 |
VignetteAmount | 0 |
WhiteBalance (1) | As Shot |
WhiteBalance | Auto |
Whites2012 | 0 |