Felt | Verdi |
AlreadyApplied | True |
Aperture | 11.0 |
ApertureValue | 11.0 |
ApproximateFocusDistance | 4294967295 |
AutoLateralCA | 0 |
BitsPerSample | 8 |
Blacks2012 | 0 |
BlueHue | 0 |
BlueSaturation | 0 |
CameraProfile | Adobe Standard |
CFAPattern | [Red,Green][Green,Blue] |
CircleOfConfusion | 0.030 mm |
Clarity2012 | -31 |
ColorComponents | 3 |
ColorNoiseReduction | 25 |
ColorNoiseReductionDetail | 50 |
ColorTemperature | 5500 |
Contrast | Normal |
Contrast2012 | 0 |
ConvertToGrayscale | False |
CreateDate (1) | 2013:05:25 06:52:57.65 |
CreateDate | 2013:05:25 06:52:57 |
CreatorTool | Adobe Photoshop Lightroom 4.4 (Macintosh) |
CustomRendered | Normal |
DateCreated (1) | 2013:05:25 |
DateCreated | 2013:05:25 06:52:57.65 |
DateTimeOriginal | 2013:05:25 06:52:57 |
DefringeGreenAmount | 0 |
DefringeGreenHueHi | 60 |
DefringeGreenHueLo | 40 |
DefringePurpleAmount | 0 |
DefringePurpleHueHi | 70 |
DefringePurpleHueLo | 30 |
DigitalZoomRatio | 1 |
DOF | inf (7.56 m - inf) |
Exposure2012 | +0.52 |
ExposureCompensation | 0 |
ExposureMode | Manual |
ExposureProgram | Manual |
ExposureTime | 1/400 |
Flash | No Flash |
FNumber | 11.0 |
FocalLength | 50.0 mm |
FocalLength35efl | 50.0 mm (35 mm equivalent: 50.0 mm) |
FocalLengthIn35mmFormat | 50 mm |
Format | image/jpeg |
FOV | 39.6 deg |
GainControl | Low gain up |
GradientBasedCorrActive | true |
GradientBasedCorrAmount | 1.000000 |
GradientBasedCorrBrightness | 0.320225 |
GradientBasedCorrClarity2012 | 0.056180 |
GradientBasedCorrContrast2012 | 0.078652 |
GradientBasedCorrDefringe | 0.000000 |
GradientBasedCorrExposure2012 (1) | 0.011499 |
GradientBasedCorrExposure2012 | 0.033708 |
GradientBasedCorrHighlights2012 (1) | -0.072595 |
GradientBasedCorrHighlights2012 | -0.438202 |
GradientBasedCorrHue | 233.000000 |
GradientBasedCorrLuminanceNoise | 0.011236 |
GradientBasedCorrMaskFullX (1) | 0.474912 |
GradientBasedCorrMaskFullX (2) | 0.443396 |
GradientBasedCorrMaskFullX | 0.301887 |
GradientBasedCorrMaskFullY (1) | 0.680856 |
GradientBasedCorrMaskFullY (2) | 0.021277 |
GradientBasedCorrMaskFullY | 0.051418 |
GradientBasedCorrMaskValue | 1.000000 |
GradientBasedCorrMaskWhat | Mask/Gradient |
GradientBasedCorrMaskZeroX (1) | 0.474381 |
GradientBasedCorrMaskZeroX (2) | 0.448113 |
GradientBasedCorrMaskZeroX | 0.369104 |
GradientBasedCorrMaskZeroY (1) | 0.620562 |
GradientBasedCorrMaskZeroY (2) | 0.551418 |
GradientBasedCorrMaskZeroY | 0.299645 |
GradientBasedCorrMoire | -0.005442 |
GradientBasedCorrSaturation (1) | 0.136499 |
GradientBasedCorrSaturation (3) | 0.169680 |
GradientBasedCorrSaturation (5) | 0.033708 |
GradientBasedCorrSaturation | 0.000000 |
GradientBasedCorrShadows2012 (1) | 0.203915 |
GradientBasedCorrShadows2012 (2) | 0.178459 |
GradientBasedCorrShadows2012 | -0.073736 |
GradientBasedCorrSharpness (1) | 0.325843 |
GradientBasedCorrSharpness | 0.014221 |
GradientBasedCorrTemperature | -0.031777 |
GradientBasedCorrTint | -0.011236 |
GradientBasedCorrWhat | Correction |
GrainAmount | 0 |
GreenHue | 0 |
GreenSaturation | 0 |
HasCrop | False |
HasSettings | True |
Highlights2012 | 0 |
HueAdjustmentAqua | 0 |
HueAdjustmentBlue | 0 |
HueAdjustmentGreen | 0 |
HueAdjustmentMagenta | 0 |
HueAdjustmentOrange | 0 |
HueAdjustmentPurple | 0 |
HueAdjustmentRed | 0 |
HueAdjustmentYellow | 0 |
HyperfocalDistance | 7.56 m |
ImageHeight | 2832 |
ImageNumber | 67248 |
ImageSize | 4256x2832 |
ImageWidth | 4256 |
ISO | 640 |
Lens | 28.0-300.0 mm f/3.5-5.6 |
LensID (1) | 165 |
LensID | AF-S Nikkor 28-300mm f/3.5-5.6G ED VR |
LensInfo | 28-300mm f/3.5-5.6 |
LensManualDistortionAmount | 0 |
LensModel | 28.0-300.0 mm f/3.5-5.6 |
LensProfileEnable | 0 |
LensProfileSetup | LensDefaults |
LightSource | Fine Weather |
LightValue | 12.9 |
LuminanceAdjustmentAqua | 0 |
LuminanceAdjustmentBlue | 0 |
LuminanceAdjustmentGreen | 0 |
LuminanceAdjustmentMagenta | 0 |
LuminanceAdjustmentOrange | 0 |
LuminanceAdjustmentPurple | 0 |
LuminanceAdjustmentRed | 0 |
LuminanceAdjustmentYellow | 0 |
LuminanceSmoothing | 0 |
Make | NIKON CORPORATION |
MaxApertureValue | 4.4 |
Megapixels | 12.1 |
MeteringMode | Multi-segment |
Model | NIKON D3S |
ModifyDate (1) | 2013:06:01 23:00:06+02:00 |
ModifyDate | 2013:06:01 23:00:06 |
PaintCorrectionActive | true |
PaintCorrectionAmount | 1.000000 |
PaintCorrectionBrightness | 0.320225 |
PaintCorrectionClarity2012 | 0.056180 |
PaintCorrectionContrast2012 | 0.078652 |
PaintCorrectionDefringe | 0.000000 |
PaintCorrectionExposure2012 | -0.107883 |
PaintCorrectionHighlights2012 | -0.438202 |
PaintCorrectionHue | 233.000000 |
PaintCorrectionLuminanceNoise | 0.011236 |
PaintCorrectionMaskCenterWeight | 0.067714 |
PaintCorrectionMaskFlow | 1.000000 |
PaintCorrectionMaskRadius | 0.101459 |
PaintCorrectionMaskValue | 0.549451 |
PaintCorrectionMaskWhat | Mask/Paint |
PaintCorrectionMoire | -0.005442 |
PaintCorrectionSaturation (1) | 0.505618 |
PaintCorrectionSaturation | 0.000000 |
PaintCorrectionShadows2012 | -0.073736 |
PaintCorrectionSharpness | 0.014221 |
PaintCorrectionTemperature | -0.442065 |
PaintCorrectionTint | -0.011236 |
PaintCorrectionWhat | Correction |
ParametricDarks | 0 |
ParametricHighlights | 0 |
ParametricHighlightSplit | 75 |
ParametricLights | 0 |
ParametricMidtoneSplit | 50 |
ParametricShadows | 0 |
ParametricShadowSplit | 25 |
PerspectiveHorizontal | 0 |
PerspectiveRotate | 0.0 |
PerspectiveScale | 100 |
PerspectiveVertical | 0 |
PostCropVignetteAmount | 0 |
ProcessVersion | 6.7 |
ProfileDescription | sRGB IEC61966-2.1 |
Rating | 5 |
RedHue | 0 |
RedSaturation | 0 |
Saturation (1) | 0 |
Saturation | Normal |
SaturationAdjustmentAqua | 0 |
SaturationAdjustmentBlue | 0 |
SaturationAdjustmentGreen | 0 |
SaturationAdjustmentMagenta | 0 |
SaturationAdjustmentOrange | 0 |
SaturationAdjustmentPurple | 0 |
SaturationAdjustmentRed | 0 |
SaturationAdjustmentYellow | 0 |
ScaleFactor35efl | 1.0 |
SceneCaptureType | Standard |
SceneType | Directly photographed |
SensingMethod | One-chip color area |
SerialNumber | 2058033 |
Shadows2012 | +16 |
ShadowTint | 0 |
SharpenDetail | 25 |
SharpenEdgeMasking | 0 |
SharpenRadius | +1.0 |
Sharpness (1) | 25 |
Sharpness | Normal |
ShutterSpeed | 1/400 |
ShutterSpeedValue | 1/400 |
Software | Adobe Photoshop Lightroom 4.4 (Macintosh) |
SplitToningBalance | 0 |
SplitToningHighlightHue | 0 |
SplitToningHighlightSaturation | 0 |
SplitToningShadowHue | 0 |
SplitToningShadowSaturation | 0 |
SubjectDistanceRange | Unknown |
Tint | +10 |
ToneCurveName2012 | Linear |
ToneCurvePV2012 | 0, 0, 255, 255 |
ToneCurvePV2012Blue | 0, 0, 255, 255 |
ToneCurvePV2012Green | 0, 0, 255, 255 |
ToneCurvePV2012Red | 0, 0, 255, 255 |
Version | 7.4 |
Vibrance | 0 |
VignetteAmount | 0 |
WhiteBalance (1) | Daylight |
WhiteBalance | Manual |
Whites2012 | 0 |