Felt | Verdi |
AlreadyApplied | True |
Aperture | 9.0 |
ApertureValue | 9.0 |
ApproximateFocusDistance | 2 |
AutoLateralCA | 1 |
BitsPerSample (1) | 8 8 8 |
BitsPerSample | 8 |
Blacks2012 | +88 |
BlueHue | -100 |
BlueSaturation | -81 |
CameraProfile | ACR 2.4 |
CFAPattern | [Red,Green][Green,Blue] |
CircleOfConfusion | 0.030 mm |
Clarity2012 | +13 |
ColorComponents | 3 |
ColorMode | RGB |
ColorNoiseReduction | 25 |
ColorNoiseReductionDetail | 50 |
ColorSpace | sRGB |
ColorTemperature | 6405 |
Contrast | Normal |
Contrast2012 | +7 |
ConvertToGrayscale | True |
CreateDate (1) | 2013:02:04 09:45:44.70 |
CreateDate | 2013:02:04 09:45:44 |
CreatorTool | Adobe Photoshop CS5 Windows |
CropAngle | -2.0427 |
CropBottom | 0.949269 |
CropConstrainToWarp | 0 |
CropHeight | 801 |
CropLeft | 0.014067 |
CropRight | 0.985933 |
CropTop | 0.050731 |
CropUnit | pixels |
CropWidth | 1200 |
CustomRendered | Normal |
DateCreated (1) | 2013:02:04 |
DateCreated | 2013:02:04 09:45:44.007 |
DateTimeOriginal | 2013:02:04 09:45:44 |
DigitalZoomRatio | 1 |
DOF | inf (0.59 m - inf) |
ExifImageHeight | 801 |
ExifImageWidth | 1200 |
Exposure2012 | 0.00 |
ExposureCompensation | -2/3 |
ExposureMode | Auto |
ExposureProgram | Aperture-priority AE |
ExposureTime | 30 |
Flash | Off, Did not fire |
FNumber | 9.0 |
FocalLength | 15.0 mm |
FocalLength35efl | 15.0 mm (35 mm equivalent: 15.0 mm) |
FocalLengthIn35mmFormat | 15 mm |
Format | image/jpeg |
FOV | 100.4 deg |
GainControl | None |
GrainAmount | 0 |
GrayMixerAqua | +2 |
GrayMixerBlue | -100 |
GrayMixerGreen | -69 |
GrayMixerMagenta | 0 |
GrayMixerOrange | +8 |
GrayMixerPurple | +25 |
GrayMixerRed | +34 |
GrayMixerYellow | -17 |
GreenHue | -100 |
GreenSaturation | +2 |
HasCrop | True |
HasSettings | True |
Highlights2012 | -100 |
HyperfocalDistance | 0.83 m |
ICCProfileName | sRGB IEC61966-2.1 |
ImageHeight | 801 |
ImageNumber | 1572 |
ImageSize | 1200x801 |
ImageWidth | 1200 |
ISO | 100 |
Label | Röd |
Lens | 14.0-24.0 mm f/2.8 |
LensID (1) | 146 |
LensID | AF-S Zoom-Nikkor 14-24mm f/2.8G ED |
LensInfo | 14-24mm f/2.8 |
LensManualDistortionAmount | 0 |
LensModel | 14.0-24.0 mm f/2.8 |
LensProfileChromaticAberrationScale | 100 |
LensProfileDistortionScale | 100 |
LensProfileEnable | 1 |
LensProfileFilename | NIKON D3X (Nikon FX 14-24mm f2.8 G ED) - RAW.lcp |
LensProfileName | Adobe (Nikon AF-S NIKKOR 14-24mm f/2.8G ED) |
LensProfileSetup | Custom |
LensProfileVignettingScale | 100 |
LightSource | Unknown |
LightValue | 1.4 |
LuminanceSmoothing | 0 |
Make | NIKON CORPORATION |
MaxApertureValue | 2.8 |
Megapixels | 0.961 |
MeteringMode | Multi-segment |
Model | NIKON D800 |
ModifyDate (1) | 2013:06:20 17:35:51+02:00 |
ModifyDate | 2013:06:20 17:35:51 |
Orientation | Horizontal (normal) |
PaintCorrectionActive | true |
PaintCorrectionAmount | 1.000000 |
PaintCorrectionBrightness | 0.000000 |
PaintCorrectionClarity2012 (3) | 0.459460 |
PaintCorrectionClarity2012 | 0.000000 |
PaintCorrectionContrast2012 (3) | 0.297300 |
PaintCorrectionContrast2012 (4) | 0.243240 |
PaintCorrectionContrast2012 | 0.000000 |
PaintCorrectionDefringe | 0.000000 |
PaintCorrectionExposure2012 (1) | 0.099000 |
PaintCorrectionExposure2012 (2) | 0.135250 |
PaintCorrectionExposure2012 (3) | 0.000000 |
PaintCorrectionExposure2012 | 0.081000 |
PaintCorrectionHighlights2012 (1) | -0.585590 |
PaintCorrectionHighlights2012 | 0.000000 |
PaintCorrectionHue | 37.000000 |
PaintCorrectionLuminanceNoise | 0.000000 |
PaintCorrectionMaskCenterWeight (1) | 0.004653 |
PaintCorrectionMaskCenterWeight (2) | 0.011520 |
PaintCorrectionMaskCenterWeight | 0.000000 |
PaintCorrectionMaskFlow (2) | 1.000000 |
PaintCorrectionMaskFlow | 0.874000 |
PaintCorrectionMaskRadius (1) | 0.118371 |
PaintCorrectionMaskRadius (2) | 0.051325 |
PaintCorrectionMaskRadius (3) | 0.025555 |
PaintCorrectionMaskRadius (4) | 0.024682 |
PaintCorrectionMaskRadius (5) | 0.119152 |
PaintCorrectionMaskRadius (6) | 0.170595 |
PaintCorrectionMaskRadius (7) | 0.170974 |
PaintCorrectionMaskRadius | 0.216851 |
PaintCorrectionMaskValue (3) | 0.000000 |
PaintCorrectionMaskValue | 1.000000 |
PaintCorrectionMaskWhat | Mask/Paint |
PaintCorrectionMoire | 0.000000 |
PaintCorrectionSaturation (3) | 0.189190 |
PaintCorrectionSaturation | 0.000000 |
PaintCorrectionShadows2012 (1) | 1.000000 |
PaintCorrectionShadows2012 (3) | 0.207210 |
PaintCorrectionShadows2012 | 0.000000 |
PaintCorrectionSharpness | 0.000000 |
PaintCorrectionTemperature | 0.000000 |
PaintCorrectionTint | 0.000000 |
PaintCorrectionWhat | Correction |
ParametricDarks | +62 |
ParametricHighlights | +10 |
ParametricHighlightSplit | 75 |
ParametricLights | +7 |
ParametricMidtoneSplit | 50 |
ParametricShadows | -33 |
ParametricShadowSplit | 25 |
PerspectiveHorizontal | 0 |
PerspectiveRotate | 0.0 |
PerspectiveScale | 100 |
PerspectiveVertical | 0 |
PhotometricInterpretation | RGB |
PostCropVignetteAmount | 0 |
ProcessVersion | 6.7 |
ProfileDescription | sRGB IEC61966-2.1 |
RedHue | +48 |
RedSaturation | +45 |
Saturation | Normal |
ScaleFactor35efl | 1.0 |
SceneCaptureType | Standard |
SceneType | Directly photographed |
SensingMethod | One-chip color area |
SensitivityType | Recommended Exposure Index |
SerialNumber | 6084072 |
Shadows2012 | +100 |
ShadowTint | +17 |
SharpenDetail | 25 |
SharpenEdgeMasking | 0 |
SharpenRadius | +1.0 |
Sharpness (1) | 25 |
Sharpness | Normal |
ShutterSpeed | 30 |
ShutterSpeedValue | 30 |
Software | Adobe Photoshop CS5 Windows |
SplitToningBalance | 0 |
SplitToningHighlightHue | 240 |
SplitToningHighlightSaturation | 1 |
SplitToningShadowHue | 231 |
SplitToningShadowSaturation | 5 |
SubjectDistanceRange | Unknown |
Tint | -50 |
ToneCurveName2012 | Linear |
ToneCurvePV2012 | 0, 0, 255, 255 |
ToneCurvePV2012Blue | 0, 0, 255, 255 |
ToneCurvePV2012Green | 0, 0, 255, 255 |
ToneCurvePV2012Red | 0, 0, 255, 255 |
URL_List | |
Version | 7.4 |
VignetteAmount | -80 |
VignetteMidpoint | 0 |
WhiteBalance (1) | Custom |
WhiteBalance | Auto |
Whites2012 | 0 |