Felt | Verdi |
AlreadyApplied | True |
Aperture | 36.0 |
ApertureValue | 36.0 |
ApproximateFocusDistance | 4294967295 |
AutoLateralCA | 0 |
BitsPerSample | 8 |
Blacks2012 | -11 |
BlueHue | 0 |
BlueSaturation | 0 |
Brightness | 0 |
CameraProfile | Embedded |
CFAPattern | [Red,Green][Green,Blue] |
CircleOfConfusion | 0.030 mm |
Clarity | 0 |
Clarity2012 | +10 |
ColorComponents | 3 |
ColorNoiseReduction | 0 |
Contrast (1) | 0 |
Contrast | Normal |
Contrast2012 | +9 |
ConvertToGrayscale | False |
CreateDate (1) | 2011:12:09 21:00:54.00 |
CreateDate | 2011:12:09 21:00:54 |
CreatorTool | Adobe Photoshop Lightroom 4.0 (Macintosh) |
CropAngle | 0 |
CropBottom | 0.970873 |
CropConstrainToWarp | 0 |
CropHeight | 2350 |
CropLeft | 0.113497 |
CropRight | 0.931415 |
CropTop | 0 |
CropUnit | pixels |
CropWidth | 3481 |
CustomRendered | Normal |
DateCreated (1) | 2011:12:09 |
DateCreated | 2011:12:09 21:00:54.00 |
DateTimeOriginal | 2011:12:09 21:00:54 |
Defringe | 0 |
DigitalZoomRatio | 1 |
DOF | inf (83.21 m - inf) |
Exposure | 0.00 |
Exposure2012 | -1.20 |
ExposureCompensation | 0 |
ExposureMode | Auto |
ExposureProgram | Aperture-priority AE |
ExposureTime | 1/80 |
FillLight | 0 |
Flash | No Flash |
FNumber | 36.0 |
FocalLength | 300.0 mm |
FocalLength35efl | 300.0 mm (35 mm equivalent: 300.0 mm) |
FocalLengthIn35mmFormat | 300 mm |
Format | image/jpeg |
FOV | 6.9 deg |
GainControl | None |
GradientBasedCorrActive | true |
GradientBasedCorrAmount | 1.000000 |
GradientBasedCorrBrightness | 0.320225 |
GradientBasedCorrClarity2012 (1) | 0.041784 |
GradientBasedCorrClarity2012 | 0.573034 |
GradientBasedCorrContrast2012 (3) | 0.033708 |
GradientBasedCorrContrast2012 | 0.280899 |
GradientBasedCorrExposure2012 (1) | -0.075843 |
GradientBasedCorrExposure2012 (2) | -0.194961 |
GradientBasedCorrExposure2012 (3) | -0.085674 |
GradientBasedCorrExposure2012 | -0.111570 |
GradientBasedCorrHighlights2012 (2) | 0.000000 |
GradientBasedCorrHighlights2012 | 0.056180 |
GradientBasedCorrHue | 233.000000 |
GradientBasedCorrLuminanceNoise (2) | 0.390976 |
GradientBasedCorrLuminanceNoise | 0.505618 |
GradientBasedCorrMaskFullX (1) | 0.329042 |
GradientBasedCorrMaskFullX (2) | 0.753561 |
GradientBasedCorrMaskFullX (3) | 0.525495 |
GradientBasedCorrMaskFullX | 0.466948 |
GradientBasedCorrMaskFullY (1) | 0.056051 |
GradientBasedCorrMaskFullY (2) | 0.152618 |
GradientBasedCorrMaskFullY (3) | 0.003115 |
GradientBasedCorrMaskFullY | 0.794776 |
GradientBasedCorrMaskValue | 1.000000 |
GradientBasedCorrMaskWhat | Mask/Gradient |
GradientBasedCorrMaskZeroX (1) | 0.412152 |
GradientBasedCorrMaskZeroX (2) | 0.671602 |
GradientBasedCorrMaskZeroX (3) | 0.525495 |
GradientBasedCorrMaskZeroX | 0.465887 |
GradientBasedCorrMaskZeroY (1) | 0.285047 |
GradientBasedCorrMaskZeroY (2) | 0.392524 |
GradientBasedCorrMaskZeroY (3) | 0.111138 |
GradientBasedCorrMaskZeroY | 0.498134 |
GradientBasedCorrMoire (3) | 0.000000 |
GradientBasedCorrMoire | 0.127019 |
GradientBasedCorrSaturation (5) | 0.056180 |
GradientBasedCorrSaturation (7) | 0.083919 |
GradientBasedCorrSaturation | 0.000000 |
GradientBasedCorrShadows2012 (3) | 0.011236 |
GradientBasedCorrShadows2012 | -0.258427 |
GradientBasedCorrSharpness (3) | 0.191011 |
GradientBasedCorrSharpness | 0.101124 |
GradientBasedCorrTemperature (1) | -0.391327 |
GradientBasedCorrTemperature (2) | -0.393258 |
GradientBasedCorrTemperature (3) | -0.111043 |
GradientBasedCorrTemperature | -0.239466 |
GradientBasedCorrTint (1) | 0.000000 |
GradientBasedCorrTint | -0.017907 |
GradientBasedCorrWhat | Correction |
GrainAmount | 0 |
GreenHue | 0 |
GreenSaturation | 0 |
HasCrop | True |
HasSettings | True |
HighlightRecovery | 0 |
Highlights2012 | +27 |
HueAdjustmentAqua | 0 |
HueAdjustmentBlue | 0 |
HueAdjustmentGreen | 0 |
HueAdjustmentMagenta | 0 |
HueAdjustmentOrange | 0 |
HueAdjustmentPurple | 0 |
HueAdjustmentRed | 0 |
HueAdjustmentYellow | 0 |
HyperfocalDistance | 83.21 m |
ImageHeight | 2350 |
ImageNumber | 21943 |
ImageSize | 3481x2350 |
ImageWidth | 3481 |
IncrementalTemperature | -1 |
IncrementalTint | 0 |
ISO | 160 |
Lens | 28.0-300.0 mm f/3.5-5.6 |
LensID (1) | 165 |
LensID | AF-S Nikkor 28-300mm f/3.5-5.6G ED VR |
LensInfo | 28-300mm f/3.5-5.6 |
LensManualDistortionAmount | 0 |
LensModel | 28.0-300.0 mm f/3.5-5.6 |
LensProfileEnable | 0 |
LensProfileSetup | LensDefaults |
LightSource | Cloudy |
LightValue | 16.0 |
LuminanceAdjustmentAqua | 0 |
LuminanceAdjustmentBlue | 0 |
LuminanceAdjustmentGreen | 0 |
LuminanceAdjustmentMagenta | 0 |
LuminanceAdjustmentOrange | 0 |
LuminanceAdjustmentPurple | 0 |
LuminanceAdjustmentRed | 0 |
LuminanceAdjustmentYellow | 0 |
LuminanceSmoothing | 0 |
Make | NIKON CORPORATION |
MaxApertureValue | 5.7 |
Megapixels | 8.2 |
MeteringMode | Multi-segment |
Model | NIKON D3S |
ModifyDate (1) | 2013:03:20 07:19:16+01:00 |
ModifyDate | 2013:03:20 07:19:16 |
ParametricDarks | 0 |
ParametricHighlights | 0 |
ParametricHighlightSplit | 75 |
ParametricLights | 0 |
ParametricMidtoneSplit | 50 |
ParametricShadows | 0 |
ParametricShadowSplit | 25 |
PerspectiveHorizontal | 0 |
PerspectiveRotate | 0.0 |
PerspectiveScale | 100 |
PerspectiveVertical | 0 |
PostCropVignetteAmount | 0 |
ProcessVersion | 6.7 |
ProfileDescription | sRGB IEC61966-2.1 |
Rating | 5 |
RedHue | 0 |
RedSaturation | 0 |
Saturation (1) | 0 |
Saturation | Normal |
SaturationAdjustmentAqua | 0 |
SaturationAdjustmentBlue | 0 |
SaturationAdjustmentGreen | 0 |
SaturationAdjustmentMagenta | 0 |
SaturationAdjustmentOrange | 0 |
SaturationAdjustmentPurple | 0 |
SaturationAdjustmentRed | 0 |
SaturationAdjustmentYellow | 0 |
ScaleFactor35efl | 1.0 |
SceneCaptureType | Standard |
SceneType | Directly photographed |
SensingMethod | One-chip color area |
SerialNumber | 2058033 |
Shadows | 0 |
Shadows2012 | -22 |
ShadowTint | 0 |
SharpenDetail | 25 |
SharpenEdgeMasking | 0 |
SharpenRadius | +1.0 |
Sharpness (1) | 0 |
Sharpness | Normal |
ShutterSpeed | 1/80 |
ShutterSpeedValue | 1/80 |
Software | Adobe Photoshop Lightroom 4.0 (Macintosh) |
SplitToningBalance | 0 |
SplitToningHighlightHue | 0 |
SplitToningHighlightSaturation | 0 |
SplitToningShadowHue | 0 |
SplitToningShadowSaturation | 0 |
SubjectDistance | 4294967295 m |
SubjectDistanceRange | Unknown |
ToneCurve | 0, 0, 255, 255 |
ToneCurveBlue | 0, 0, 255, 255 |
ToneCurveGreen | 0, 0, 255, 255 |
ToneCurveName | Linear |
ToneCurveName2012 | Linear |
ToneCurvePV2012 | 0, 0, 255, 255 |
ToneCurvePV2012Blue | 0, 0, 255, 255 |
ToneCurvePV2012Green | 0, 0, 255, 255 |
ToneCurvePV2012Red | 0, 0, 255, 255 |
ToneCurveRed | 0, 0, 255, 255 |
Version | 7.0 |
Vibrance | 0 |
VignetteAmount | 0 |
WhiteBalance (1) | Custom |
WhiteBalance | Manual |
Whites2012 | +27 |