Felt | Verdi |
AlreadyApplied | True |
Aperture | 10.0 |
ApertureValue | 10.0 |
ApproximateFocusDistance | 0.67 |
AutoLateralCA | 0 |
BitsPerSample (1) | 8 8 8 |
BitsPerSample | 8 |
Blacks2012 | -17 |
BlueHue | 0 |
BlueSaturation | 0 |
CameraProfile | Adobe Standard |
CFAPattern | [Red,Green][Green,Blue] |
CircleOfConfusion | 0.030 mm |
Clarity2012 | +51 |
ColorComponents | 3 |
ColorMode | RGB |
ColorNoiseReduction | 25 |
ColorNoiseReductionDetail | 50 |
ColorSpace | sRGB |
ColorTemperature | 5495 |
Contrast | Normal |
Contrast2012 | 0 |
ConvertToGrayscale | False |
CreateDate (1) | 2013:06:27 22:28:10.60 |
CreateDate | 2013:06:27 22:28:10 |
CreatorTool | Adobe Photoshop Lightroom 4.4 (Windows) |
CropAngle | 0 |
CropBottom | 0.809109 |
CropConstrainToWarp | 0 |
CropHeight | 675 |
CropLeft | 0.025334 |
CropRight | 0.966184 |
CropTop | 0.016129 |
CropUnit | pixels |
CropWidth | 1200 |
CustomRendered | Normal |
DateCreated (1) | 2013:06:27 |
DateCreated | 2013:06:27 22:28:10.006 |
DateTimeOriginal | 2013:06:27 22:28:10 |
DefringeGreenAmount | 0 |
DefringeGreenHueHi | 60 |
DefringeGreenHueLo | 40 |
DefringePurpleAmount | 0 |
DefringePurpleHueHi | 70 |
DefringePurpleHueLo | 30 |
DigitalZoomRatio | 1 |
DOF | inf (0.33 m - inf) |
ExifImageHeight | 675 |
ExifImageWidth | 1200 |
Exposure2012 | 0.00 |
ExposureCompensation | -8/3 |
ExposureMode | Auto |
ExposureProgram | Aperture-priority AE |
ExposureTime | 1/40 |
Flash | On, Return detected |
FNumber | 10.0 |
FocalLength | 14.0 mm |
FocalLength35efl | 14.0 mm (35 mm equivalent: 14.0 mm) |
FocalLengthIn35mmFormat | 14 mm |
Format | image/jpeg |
FOV | 104.3 deg |
GainControl | None |
GradientBasedCorrActive | true |
GradientBasedCorrAmount | 1.000000 |
GradientBasedCorrBrightness | 0.000000 |
GradientBasedCorrClarity2012 (1) | 0.000000 |
GradientBasedCorrClarity2012 (2) | 0.369370 |
GradientBasedCorrClarity2012 | -0.153150 |
GradientBasedCorrContrast2012 (1) | 1.000000 |
GradientBasedCorrContrast2012 (2) | 0.207210 |
GradientBasedCorrContrast2012 | 0.000000 |
GradientBasedCorrDefringe | 0.000000 |
GradientBasedCorrExposure2012 (1) | 0.000000 |
GradientBasedCorrExposure2012 | 0.189250 |
GradientBasedCorrHighlights2012 (1) | 0.567570 |
GradientBasedCorrHighlights2012 (2) | -0.117120 |
GradientBasedCorrHighlights2012 | 0.000000 |
GradientBasedCorrHue | 37.000000 |
GradientBasedCorrLuminanceNoise | 0.000000 |
GradientBasedCorrMaskFullX (1) | 0.224561 |
GradientBasedCorrMaskFullX (2) | 0.235938 |
GradientBasedCorrMaskFullX | 0.359998 |
GradientBasedCorrMaskFullY (1) | 0.451491 |
GradientBasedCorrMaskFullY (2) | 0.156975 |
GradientBasedCorrMaskFullY | 0.471786 |
GradientBasedCorrMaskValue | 1.000000 |
GradientBasedCorrMaskWhat | Mask/Gradient |
GradientBasedCorrMaskZeroX (1) | 0.223866 |
GradientBasedCorrMaskZeroX (2) | 0.238229 |
GradientBasedCorrMaskZeroX | 0.355524 |
GradientBasedCorrMaskZeroY (1) | 0.282844 |
GradientBasedCorrMaskZeroY (2) | 0.507549 |
GradientBasedCorrMaskZeroY | 0.200717 |
GradientBasedCorrMoire | 0.000000 |
GradientBasedCorrSaturation (3) | 0.153150 |
GradientBasedCorrSaturation | 0.000000 |
GradientBasedCorrShadows2012 | 0.000000 |
GradientBasedCorrSharpness | 0.000000 |
GradientBasedCorrTemperature | 0.000000 |
GradientBasedCorrTint | 0.000000 |
GradientBasedCorrWhat | Correction |
GrainAmount | 0 |
GreenHue | 0 |
GreenSaturation | 0 |
HasCrop | True |
HasSettings | True |
Highlights2012 | -38 |
HueAdjustmentAqua | 0 |
HueAdjustmentBlue | 0 |
HueAdjustmentGreen | 0 |
HueAdjustmentMagenta | 0 |
HueAdjustmentOrange | 0 |
HueAdjustmentPurple | 0 |
HueAdjustmentRed | 0 |
HueAdjustmentYellow | 0 |
HyperfocalDistance | 0.65 m |
ICCProfileName | sRGB IEC61966-2.1 |
ImageHeight | 675 |
ImageNumber | 9189 |
ImageSize | 1200x675 |
ImageWidth | 1200 |
ISO | 200 |
Keywords | Landskap |
Lens | 14.0-24.0 mm f/2.8 |
LensID (1) | 146 |
LensID | AF-S Zoom-Nikkor 14-24mm f/2.8G ED |
LensInfo | 14-24mm f/2.8 |
LensManualDistortionAmount | 0 |
LensModel | 14.0-24.0 mm f/2.8 |
LensProfileChromaticAberrationScale | 100 |
LensProfileDistortionScale | 100 |
LensProfileEnable | 1 |
LensProfileFilename | NIKON D3X (Nikon FX 14-24mm f2.8 G ED) - RAW.lcp |
LensProfileName | Adobe (Nikon AF-S NIKKOR 14-24mm f/2.8G ED) |
LensProfileSetup | LensDefaults |
LensProfileVignettingScale | 100 |
LightSource | Unknown |
LightValue | 11.0 |
LuminanceAdjustmentAqua | 0 |
LuminanceAdjustmentBlue | 0 |
LuminanceAdjustmentGreen | 0 |
LuminanceAdjustmentMagenta | 0 |
LuminanceAdjustmentOrange | 0 |
LuminanceAdjustmentPurple | 0 |
LuminanceAdjustmentRed | 0 |
LuminanceAdjustmentYellow | 0 |
LuminanceNoiseReductionContrast | 0 |
LuminanceNoiseReductionDetail | 50 |
LuminanceSmoothing | 20 |
Make | NIKON CORPORATION |
MaxApertureValue | 2.8 |
Megapixels | 0.810 |
MeteringMode | Multi-segment |
Model | NIKON D800 |
ModifyDate (1) | 2013:06:28 21:10:19+02:00 |
ModifyDate | 2013:06:28 21:10:19 |
Orientation | Horizontal (normal) |
PaintCorrectionActive | true |
PaintCorrectionAmount | 1.000000 |
PaintCorrectionBrightness | 0.000000 |
PaintCorrectionClarity2012 | 0.000000 |
PaintCorrectionContrast2012 | 0.000000 |
PaintCorrectionDefringe | 0.000000 |
PaintCorrectionExposure2012 (1) | -0.279250 |
PaintCorrectionExposure2012 | 0.171250 |
PaintCorrectionHighlights2012 | 0.000000 |
PaintCorrectionHue | 37.000000 |
PaintCorrectionLuminanceNoise | 0.000000 |
PaintCorrectionMaskCenterWeight | 0.000000 |
PaintCorrectionMaskFlow | 0.874000 |
PaintCorrectionMaskRadius (1) | 0.134235 |
PaintCorrectionMaskRadius (10) | 0.027991 |
PaintCorrectionMaskRadius (11) | 0.028234 |
PaintCorrectionMaskRadius (12) | 0.028363 |
PaintCorrectionMaskRadius (13) | 0.028411 |
PaintCorrectionMaskRadius (14) | 0.028362 |
PaintCorrectionMaskRadius (15) | 0.028348 |
PaintCorrectionMaskRadius (16) | 0.028165 |
PaintCorrectionMaskRadius (17) | 0.028174 |
PaintCorrectionMaskRadius (18) | 0.028097 |
PaintCorrectionMaskRadius (19) | 0.028034 |
PaintCorrectionMaskRadius (2) | 0.059618 |
PaintCorrectionMaskRadius (20) | 0.028055 |
PaintCorrectionMaskRadius (21) | 0.028115 |
PaintCorrectionMaskRadius (22) | 0.028366 |
PaintCorrectionMaskRadius (23) | 0.028370 |
PaintCorrectionMaskRadius (24) | 0.028232 |
PaintCorrectionMaskRadius (25) | 0.027460 |
PaintCorrectionMaskRadius (26) | 0.027751 |
PaintCorrectionMaskRadius (27) | 0.028071 |
PaintCorrectionMaskRadius (28) | 0.027203 |
PaintCorrectionMaskRadius (29) | 0.027649 |
PaintCorrectionMaskRadius (3) | 0.062998 |
PaintCorrectionMaskRadius (30) | 0.026772 |
PaintCorrectionMaskRadius (31) | 0.028145 |
PaintCorrectionMaskRadius (32) | 0.028237 |
PaintCorrectionMaskRadius (33) | 0.028329 |
PaintCorrectionMaskRadius (34) | 0.028389 |
PaintCorrectionMaskRadius (35) | 0.028371 |
PaintCorrectionMaskRadius (36) | 0.028351 |
PaintCorrectionMaskRadius (37) | 0.028360 |
PaintCorrectionMaskRadius (38) | 0.028409 |
PaintCorrectionMaskRadius (39) | 0.028401 |
PaintCorrectionMaskRadius (4) | 0.063237 |
PaintCorrectionMaskRadius (40) | 0.028377 |
PaintCorrectionMaskRadius (41) | 0.028364 |
PaintCorrectionMaskRadius (42) | 0.028385 |
PaintCorrectionMaskRadius (43) | 0.028077 |
PaintCorrectionMaskRadius (44) | 0.028134 |
PaintCorrectionMaskRadius (45) | 0.027916 |
PaintCorrectionMaskRadius (46) | 0.027805 |
PaintCorrectionMaskRadius (47) | 0.027878 |
PaintCorrectionMaskRadius (48) | 0.027818 |
PaintCorrectionMaskRadius (49) | 0.027830 |
PaintCorrectionMaskRadius (5) | 0.063052 |
PaintCorrectionMaskRadius (50) | 0.026635 |
PaintCorrectionMaskRadius (51) | 0.027066 |
PaintCorrectionMaskRadius (52) | 0.027208 |
PaintCorrectionMaskRadius (6) | 0.062216 |
PaintCorrectionMaskRadius (7) | 0.060846 |
PaintCorrectionMaskRadius (8) | 0.059425 |
PaintCorrectionMaskRadius (9) | 0.059496 |
PaintCorrectionMaskRadius | 0.027214 |
PaintCorrectionMaskValue | 1.000000 |
PaintCorrectionMaskWhat | Mask/Paint |
PaintCorrectionMoire | 0.000000 |
PaintCorrectionSaturation | 0.000000 |
PaintCorrectionShadows2012 | 0.000000 |
PaintCorrectionSharpness | 0.000000 |
PaintCorrectionTemperature | 0.000000 |
PaintCorrectionTint | 0.000000 |
PaintCorrectionWhat | Correction |
ParametricDarks | +11 |
ParametricHighlights | 0 |
ParametricHighlightSplit | 75 |
ParametricLights | 0 |
ParametricMidtoneSplit | 50 |
ParametricShadows | 0 |
ParametricShadowSplit | 25 |
PerspectiveHorizontal | 0 |
PerspectiveRotate | 0.0 |
PerspectiveScale | 100 |
PerspectiveVertical | 0 |
PhotometricInterpretation | RGB |
PostCropVignetteAmount | -24 |
PostCropVignetteFeather | 50 |
PostCropVignetteHighlightContrast | 0 |
PostCropVignetteMidpoint | 50 |
PostCropVignetteRoundness | 0 |
PostCropVignetteStyle | 1 |
ProcessVersion | 6.7 |
ProfileDescription | sRGB IEC61966-2.1 |
RedHue | 0 |
RedSaturation | 0 |
Saturation (1) | 0 |
Saturation | Normal |
SaturationAdjustmentAqua | 0 |
SaturationAdjustmentBlue | 0 |
SaturationAdjustmentGreen | 0 |
SaturationAdjustmentMagenta | 0 |
SaturationAdjustmentOrange | 0 |
SaturationAdjustmentPurple | 0 |
SaturationAdjustmentRed | 0 |
SaturationAdjustmentYellow | 0 |
ScaleFactor35efl | 1.0 |
SceneCaptureType | Standard |
SceneType | Directly photographed |
SensingMethod | One-chip color area |
SensitivityType | Recommended Exposure Index |
SerialNumber | 6084072 |
Shadows2012 | +75 |
ShadowTint | 0 |
SharpenDetail | 25 |
SharpenEdgeMasking | 20 |
SharpenRadius | +1.0 |
Sharpness (1) | 96 |
Sharpness | Normal |
ShutterSpeed | 1/40 |
ShutterSpeedValue | 1/40 |
Software | Adobe Photoshop CS5 Windows |
SplitToningBalance | 0 |
SplitToningHighlightHue | 0 |
SplitToningHighlightSaturation | 0 |
SplitToningShadowHue | 0 |
SplitToningShadowSaturation | 0 |
Subject | Landskap |
SubjectDistanceRange | Unknown |
Tint | -19 |
ToneCurveName2012 | Linear |
ToneCurvePV2012 | 0, 0, 255, 255 |
ToneCurvePV2012Blue | 0, 0, 255, 255 |
ToneCurvePV2012Green | 0, 0, 255, 255 |
ToneCurvePV2012Red | 0, 0, 255, 255 |
URL_List | |
Version | 7.4 |
Vibrance | +36 |
VignetteAmount | 0 |
WhiteBalance (1) | Custom |
WhiteBalance | Auto |
Whites2012 | +15 |