Felt | Verdi |
AlreadyApplied | True |
Aperture | 5.6 |
ApertureValue | 5.6 |
ApproximateFocusDistance | 3.72 |
AutoLateralCA | 1 |
BitsPerSample | 8 |
Blacks2012 | +57 |
BlueHue | 0 |
BlueSaturation | 0 |
CameraProfile | Adobe Standard |
CircleOfConfusion | 0.031 mm |
Clarity2012 | +29 |
ColorComponents | 3 |
ColorNoiseReduction | 25 |
ColorNoiseReductionDetail | 50 |
ColorTemperature | 7357 |
Contrast2012 | +33 |
ConvertToGrayscale | False |
CreateDate (1) | 2013:07:04 19:05:37.84 |
CreateDate | 2013:07:04 19:05:37 |
CreatorTool | Adobe Photoshop Lightroom 4.4 (Windows) |
CustomRendered | Normal |
DateCreated (1) | 2013:07:04 |
DateCreated | 2013:07:04 19:05:37.84 |
DateTimeOriginal | 2013:07:04 19:05:37 |
DefringeGreenAmount | 0 |
DefringeGreenHueHi | 60 |
DefringeGreenHueLo | 40 |
DefringePurpleAmount | 0 |
DefringePurpleHueHi | 70 |
DefringePurpleHueLo | 30 |
DOF | 5.86 m (2.40 - 8.26 m) |
Exposure2012 | -1.19 |
ExposureCompensation | -2 |
ExposureMode | Auto bracket |
ExposureProgram | Aperture-priority AE |
ExposureTime | 1/320 |
Firmware | 2.1.2 |
Flash | Off, Did not fire |
FlashCompensation | 0 |
FNumber | 5.6 |
FocalLength | 34.0 mm |
FocalLength35efl | 34.0 mm (35 mm equivalent: 33.2 mm) |
Format | image/jpeg |
FOV | 57.0 deg |
GradientBasedCorrActive | true |
GradientBasedCorrAmount | 1.000000 |
GradientBasedCorrBrightness | 0.000000 |
GradientBasedCorrClarity2012 | 0.793100 |
GradientBasedCorrContrast2012 | 0.816090 |
GradientBasedCorrDefringe | 0.000000 |
GradientBasedCorrExposure2012 | -0.149500 |
GradientBasedCorrHighlights2012 | -0.839080 |
GradientBasedCorrHue | 164.000000 |
GradientBasedCorrLuminanceNoise | 0.000000 |
GradientBasedCorrMaskFullX | 0.479988 |
GradientBasedCorrMaskFullY | 0.034618 |
GradientBasedCorrMaskValue | 1.000000 |
GradientBasedCorrMaskWhat | Mask/Gradient |
GradientBasedCorrMaskZeroX | 0.439627 |
GradientBasedCorrMaskZeroY | 0.326087 |
GradientBasedCorrMoire | 0.000000 |
GradientBasedCorrSaturation (1) | -0.632180 |
GradientBasedCorrSaturation | 0.000000 |
GradientBasedCorrShadows2012 | 0.000000 |
GradientBasedCorrSharpness | 0.011490 |
GradientBasedCorrTemperature | -0.264370 |
GradientBasedCorrTint | -0.195400 |
GradientBasedCorrWhat | Correction |
GrainAmount | 0 |
GreenHue | 0 |
GreenSaturation | 0 |
HasCrop | False |
HasSettings | True |
Highlights2012 | +83 |
HueAdjustmentAqua | 0 |
HueAdjustmentBlue | 0 |
HueAdjustmentGreen | 0 |
HueAdjustmentMagenta | 0 |
HueAdjustmentOrange | 0 |
HueAdjustmentPurple | 0 |
HueAdjustmentRed | 0 |
HueAdjustmentYellow | 0 |
HyperfocalDistance | 6.71 m |
ImageHeight | 3744 |
ImageNumber | 0 |
ImageSize | 5616x3744 |
ImageWidth | 5616 |
ISO | 50 |
Lens | EF17-40mm f/4L USM |
LensID (1) | 231 |
LensID | Canon EF 17-40mm f/4L USM |
LensInfo | 17-40mm f/? |
LensManualDistortionAmount | 0 |
LensModel | EF17-40mm f/4L USM |
LensProfileChromaticAberrationScale | 100 |
LensProfileDistortionScale | 100 |
LensProfileEnable | 1 |
LensProfileFilename | Canon EOS-1Ds Mark III (Canon EF 17-40mm f4 L USM) - RAW.lcp |
LensProfileName | Adobe (Canon EF 17-40mm f/4 L USM) |
LensProfileSetup | Custom |
LensProfileVignettingScale | 100 |
LightValue | 14.3 |
LuminanceAdjustmentAqua | 0 |
LuminanceAdjustmentBlue | +78 |
LuminanceAdjustmentGreen | 0 |
LuminanceAdjustmentMagenta | 0 |
LuminanceAdjustmentOrange | 0 |
LuminanceAdjustmentPurple | 0 |
LuminanceAdjustmentRed | 0 |
LuminanceAdjustmentYellow | 0 |
LuminanceSmoothing | 0 |
Make | Canon |
MaxApertureValue | 4.0 |
Megapixels | 21.0 |
MeteringMode | Multi-segment |
Model | Canon EOS 5D Mark II |
ModifyDate (1) | 2013:07:05 03:17:51+02:00 |
ModifyDate | 2013:07:05 03:17:51 |
PaintCorrectionActive | true |
PaintCorrectionAmount | 1.000000 |
PaintCorrectionBrightness | 0.000000 |
PaintCorrectionClarity2012 (1) | 0.747130 |
PaintCorrectionClarity2012 (2) | 0.425290 |
PaintCorrectionClarity2012 (3) | 0.000000 |
PaintCorrectionClarity2012 (4) | 0.885060 |
PaintCorrectionClarity2012 (5) | 0.862070 |
PaintCorrectionClarity2012 | 1.000000 |
PaintCorrectionContrast2012 (2) | 0.563220 |
PaintCorrectionContrast2012 (3) | 0.609200 |
PaintCorrectionContrast2012 (4) | 0.885060 |
PaintCorrectionContrast2012 | 0.000000 |
PaintCorrectionDefringe | 0.000000 |
PaintCorrectionExposure2012 (1) | 0.471250 |
PaintCorrectionExposure2012 (2) | 0.701250 |
PaintCorrectionExposure2012 (3) | 0.425250 |
PaintCorrectionExposure2012 (5) | 0.885000 |
PaintCorrectionExposure2012 (6) | 0.632250 |
PaintCorrectionExposure2012 | 0.540250 |
PaintCorrectionHighlights2012 (1) | 0.954020 |
PaintCorrectionHighlights2012 | 0.000000 |
PaintCorrectionHue | 164.000000 |
PaintCorrectionLuminanceNoise | 0.000000 |
PaintCorrectionMaskCenterWeight | 0.119121 |
PaintCorrectionMaskFlow | 0.778000 |
PaintCorrectionMaskRadius (1) | 0.265662 |
PaintCorrectionMaskRadius (10) | 0.329344 |
PaintCorrectionMaskRadius (13) | 0.160113 |
PaintCorrectionMaskRadius (15) | 0.223074 |
PaintCorrectionMaskRadius (16) | 0.221021 |
PaintCorrectionMaskRadius (17) | 0.221306 |
PaintCorrectionMaskRadius (18) | 0.220983 |
PaintCorrectionMaskRadius (19) | 0.224015 |
PaintCorrectionMaskRadius (20) | 0.221287 |
PaintCorrectionMaskRadius (21) | 0.222344 |
PaintCorrectionMaskRadius (22) | 0.221264 |
PaintCorrectionMaskRadius (23) | 0.221899 |
PaintCorrectionMaskRadius (5) | 0.214288 |
PaintCorrectionMaskRadius (8) | 0.174879 |
PaintCorrectionMaskRadius | 0.224258 |
PaintCorrectionMaskValue | 1.000000 |
PaintCorrectionMaskWhat | Mask/Paint |
PaintCorrectionMoire | 0.000000 |
PaintCorrectionSaturation (1) | 0.333330 |
PaintCorrectionSaturation (5) | 0.609200 |
PaintCorrectionSaturation | 0.000000 |
PaintCorrectionShadows2012 (1) | -0.057470 |
PaintCorrectionShadows2012 | 0.000000 |
PaintCorrectionSharpness | 0.011490 |
PaintCorrectionTemperature (2) | 0.000000 |
PaintCorrectionTemperature | -0.034480 |
PaintCorrectionTint | 0.000000 |
PaintCorrectionWhat | Correction |
ParametricDarks | 0 |
ParametricHighlights | -94 |
ParametricHighlightSplit | 75 |
ParametricLights | +90 |
ParametricMidtoneSplit | 50 |
ParametricShadows | 0 |
ParametricShadowSplit | 25 |
PerspectiveHorizontal | 0 |
PerspectiveRotate | 0.0 |
PerspectiveScale | 100 |
PerspectiveVertical | 0 |
PostCropVignetteAmount | 0 |
ProcessVersion | 6.7 |
ProfileDescription | sRGB IEC61966-2.1 |
RedHue | 0 |
RedSaturation | 0 |
Saturation | 0 |
SaturationAdjustmentAqua | 0 |
SaturationAdjustmentBlue | -22 |
SaturationAdjustmentGreen | 0 |
SaturationAdjustmentMagenta | 0 |
SaturationAdjustmentOrange | 0 |
SaturationAdjustmentPurple | 0 |
SaturationAdjustmentRed | 0 |
SaturationAdjustmentYellow | 0 |
ScaleFactor35efl | 1.0 |
SceneCaptureType | Standard |
SerialNumber | 1431023839 |
Shadows2012 | 0 |
ShadowTint | 0 |
SharpenDetail | 0 |
SharpenEdgeMasking | 27 |
SharpenRadius | +1.0 |
Sharpness | 125 |
ShutterSpeed | 1/320 |
ShutterSpeedValue | 1/320 |
Software | Adobe Photoshop Lightroom 4.4 (Windows) |
SplitToningBalance | 0 |
SplitToningHighlightHue | 0 |
SplitToningHighlightSaturation | 0 |
SplitToningShadowHue | 0 |
SplitToningShadowSaturation | 0 |
Tint | +12 |
ToneCurveName2012 | Linear |
ToneCurvePV2012 | 0, 0, 255, 255 |
ToneCurvePV2012Blue | 0, 0, 255, 255 |
ToneCurvePV2012Green | 0, 0, 255, 255 |
ToneCurvePV2012Red | 0, 0, 255, 255 |
Version | 7.4 |
Vibrance | +67 |
VignetteAmount | 0 |
WhiteBalance (1) | Custom |
WhiteBalance | Auto |
Whites2012 | -88 |