Felt | Verdi |
AlreadyApplied | True |
Aperture | 2.8 |
ApertureValue | 2.8 |
ApproximateFocusDistance | 21.1 |
Artist | Anders Eidval |
AutoLateralCA | 0 |
BitsPerSample | 8 |
Blacks2012 | -14 |
BlueHue | 0 |
BlueSaturation | 0 |
Brightness | +50 |
By-line | Anders Eidval |
CameraProfile | Adobe Standard |
CircleOfConfusion | 0.019 mm |
Clarity | 0 |
Clarity2012 | +15 |
ColorComponents | 3 |
ColorMode | RGB |
ColorNoiseReduction | 25 |
ColorNoiseReductionDetail | 50 |
ColorSpace | Uncalibrated |
ColorTemperature | 5000 |
Contrast | +25 |
Contrast2012 | +20 |
ConvertToGrayscale | False |
CreateDate | 2013:07:13 14:55:46 |
Creator | Anders Eidval |
CustomRendered | Normal |
DateCreated (1) | 2013:07:13 |
DateCreated | 2013:07:13 14:55:46.004 |
DateTimeOriginal | 2013:07:13 14:55:46 |
Defringe | 0 |
DOF | 1.18 m (20.53 - 21.71 m) |
ExifImageHeight | 3108 |
ExifImageWidth | 4920 |
Exposure | 0.00 |
Exposure2012 | -1.00 |
ExposureCompensation | 0 |
ExposureMode | Manual |
ExposureProgram | Manual |
ExposureTime | 1/1250 |
FillLight | 0 |
Firmware | 2.0.3 |
Flash | Off, Did not fire |
FlashCompensation | 0 |
FNumber | 2.8 |
FocalLength | 200.0 mm |
FocalLength35efl | 200.0 mm (35 mm equivalent: 314.1 mm) |
Format | image/jpeg |
FOV | 6.6 deg |
GrainAmount | 0 |
GreenHue | 0 |
GreenSaturation | 0 |
HasCrop | False |
HasSettings | True |
HighlightRecovery | 0 |
Highlights2012 | 0 |
HueAdjustmentAqua | 0 |
HueAdjustmentBlue | 0 |
HueAdjustmentGreen | 0 |
HueAdjustmentMagenta | 0 |
HueAdjustmentOrange | 0 |
HueAdjustmentPurple | 0 |
HueAdjustmentRed | 0 |
HueAdjustmentYellow | 0 |
HyperfocalDistance | 746.63 m |
ICCProfileName | Adobe RGB (1998) |
ImageHeight | 3108 |
ImageNumber | 0 |
ImageSize | 4920x3108 |
ImageWidth | 4920 |
ISO | 500 |
Lens | 70-200mm |
LensID (1) | 174 |
LensID | Sigma 70-200mm f/2.8 EX DG APO OS HSM |
LensInfo | 70-200mm f/? |
LensManualDistortionAmount | 0 |
LensModel | 70-200mm |
LensProfileEnable | 0 |
LensProfileSetup | LensDefaults |
LightValue | 10.9 |
LuminanceAdjustmentAqua | 0 |
LuminanceAdjustmentBlue | 0 |
LuminanceAdjustmentGreen | 0 |
LuminanceAdjustmentMagenta | 0 |
LuminanceAdjustmentOrange | 0 |
LuminanceAdjustmentPurple | 0 |
LuminanceAdjustmentRed | -63 |
LuminanceAdjustmentYellow | 0 |
LuminanceSmoothing | 0 |
Make | Canon |
MaxApertureValue | 2.8 |
Megapixels | 15.3 |
MeteringMode | Spot |
Model | Canon EOS 7D |
ModifyDate (1) | 2013:07:14 19:50:45+02:00 |
ModifyDate | 2013:07:14 19:50:45 |
Orientation | Horizontal (normal) |
ParametricDarks | 0 |
ParametricHighlights | 0 |
ParametricHighlightSplit | 75 |
ParametricLights | 0 |
ParametricMidtoneSplit | 50 |
ParametricShadows | 0 |
ParametricShadowSplit | 25 |
PerspectiveHorizontal | 0 |
PerspectiveRotate | 0.0 |
PerspectiveScale | 100 |
PerspectiveVertical | 0 |
PostCropVignetteAmount | 0 |
ProcessVersion | 6.7 |
ProfileDescription | Adobe RGB (1998) |
Rating | 0 |
RawFileName | IMG_5699.CR2 |
RecommendedExposureIndex | 500 |
RedHue | 0 |
RedSaturation | 0 |
Saturation | 0 |
SaturationAdjustmentAqua | 0 |
SaturationAdjustmentBlue | 0 |
SaturationAdjustmentGreen | -26 |
SaturationAdjustmentMagenta | +6 |
SaturationAdjustmentOrange | +11 |
SaturationAdjustmentPurple | +43 |
SaturationAdjustmentRed | -87 |
SaturationAdjustmentYellow | 0 |
ScaleFactor35efl | 1.6 |
SceneCaptureType | Standard |
SensitivityType | Recommended Exposure Index |
SerialNumber | 3381301435 |
Shadows | 5 |
Shadows2012 | -15 |
ShadowTint | 0 |
SharpenDetail | 25 |
SharpenEdgeMasking | 0 |
SharpenRadius | +1.0 |
Sharpness | 25 |
ShutterSpeed | 1/1250 |
ShutterSpeedValue | 1/1250 |
Software | Adobe Photoshop CS6 (Windows) |
SplitToningBalance | 0 |
SplitToningHighlightHue | 0 |
SplitToningHighlightSaturation | 0 |
SplitToningShadowHue | 0 |
SplitToningShadowSaturation | 0 |
Tint | +31 |
ToneCurve | 0, 0, 32, 22, 64, 56, 128, 128, 192, 196, 255, 255 |
ToneCurveBlue | 0, 0, 255, 255 |
ToneCurveGreen | 0, 0, 255, 255 |
ToneCurveName | Medium Contrast |
ToneCurveName2012 | Linear |
ToneCurvePV2012 | 0, 0, 255, 255 |
ToneCurvePV2012Blue | 0, 0, 255, 255 |
ToneCurvePV2012Green | 0, 0, 255, 255 |
ToneCurvePV2012Red | 0, 0, 255, 255 |
ToneCurveRed | 0, 0, 255, 255 |
URL_List | |
Version | 7.0 |
Vibrance | -13 |
VignetteAmount | 0 |
WhiteBalance (1) | As Shot |
WhiteBalance | Auto |
Whites2012 | +19 |