Felt | Verdi |
AlreadyApplied | True |
Aperture | 29.0 |
ApertureValue | 29.0 |
ApproximateFocusDistance | 4294967295 |
Artist | Arild Haug Kaarmo |
AutoLateralCA | 0 |
BitsPerSample (1) | 8, 8, 8 |
BitsPerSample (2) | 8 8 8 |
BitsPerSample | 8 |
Blacks2012 | 0 |
BlueHue | 0 |
BlueSaturation | 0 |
By-line | Arild Haug Kaarmo |
CameraProfile | Adobe Standard |
CFAPattern | [Red,Green][Green,Blue] |
CircleOfConfusion | 0.030 mm |
Clarity2012 | +93 |
ColorComponents | 3 |
ColorMode | RGB |
ColorNoiseReduction | 98 |
ColorNoiseReductionDetail | 99 |
ColorSpace | Uncalibrated |
ColorTemperature | 5800 |
Contrast | Normal |
Contrast2012 | +100 |
ConvertToGrayscale | False |
Copyright | Arild Haug Kaarmo |
CopyrightNotice | Arild Haug Kaarmo |
CreateDate | 2013:07:02 14:00:19 |
Creator | Arild Haug Kaarmo |
CreatorTool | Adobe Photoshop CS6 (Macintosh) |
CropAngle | 6.53599 |
CropBottom | 0.966596 |
CropConstrainToWarp | 0 |
CropLeft | 0.045671 |
CropRight | 0.883002 |
CropTop | 0.215493 |
CustomRendered | Normal |
DateCreated | 2013:07:02 |
DateTimeDigitized | 2013:07:02 14:00:19+02:00 |
DateTimeOriginal (1) | 2013:07:02 14:00:19+02:00 |
DateTimeOriginal | 2013:07:02 14:00:19 |
DefringeGreenAmount | 0 |
DefringeGreenHueHi | 60 |
DefringeGreenHueLo | 40 |
DefringePurpleAmount | 0 |
DefringePurpleHueHi | 70 |
DefringePurpleHueLo | 30 |
DigitalZoomRatio | 1 |
DOF | inf (1.10 m - inf) |
ExifImageHeight | 512 |
ExifImageWidth | 1280 |
Exposure2012 | 0.00 |
ExposureCompensation | +1/3 |
ExposureMode | Manual |
ExposureProgram | Manual |
ExposureTime | 1/6 |
Flash | No Flash |
FlashFired | False |
FlashFunction | False |
FlashMode | Unknown |
FlashRedEyeMode | False |
FlashReturn | No return detection |
FNumber | 29.0 |
FocalLength | 31.0 mm |
FocalLength35efl | 31.0 mm (35 mm equivalent: 31.0 mm) |
FocalLengthIn35mmFormat | 31 mm |
Format | image/jpeg |
FOV | 60.3 deg |
GainControl | Low gain up |
GrainAmount | 0 |
GreenHue | 0 |
GreenSaturation | 0 |
HasCrop | True |
HasSettings | True |
Highlights2012 | 0 |
HueAdjustmentAqua | 0 |
HueAdjustmentBlue | 0 |
HueAdjustmentGreen | 0 |
HueAdjustmentMagenta | 0 |
HueAdjustmentOrange | 0 |
HueAdjustmentPurple | 0 |
HueAdjustmentRed | 0 |
HueAdjustmentYellow | 0 |
HyperfocalDistance | 1.10 m |
ICCProfileName | ProPhoto RGB |
ImageHeight (2) | 3780 |
ImageHeight | 512 |
ImageNumber | 174851 |
ImageSize | 1280x512 |
ImageWidth (1) | 9449 |
ImageWidth | 1280 |
ISO | 500 |
Label | |
Lens | 15.0-31.0 mm f/3.5-4.5 |
LensID (1) | 38 |
LensID | Sigma 15-30mm F3.5-4.5 EX DG Aspherical DF |
LensInfo | 15-31mm f/3.5-4.5 |
LensManualDistortionAmount | 0 |
LensModel | 15.0-31.0 mm f/3.5-4.5 |
LensProfileEnable | 0 |
LensProfileSetup | LensDefaults |
LightSource | Unknown |
LightValue | 10.0 |
LuminanceAdjustmentAqua | 0 |
LuminanceAdjustmentBlue | 0 |
LuminanceAdjustmentGreen | 0 |
LuminanceAdjustmentMagenta | 0 |
LuminanceAdjustmentOrange | 0 |
LuminanceAdjustmentPurple | 0 |
LuminanceAdjustmentRed | 0 |
LuminanceAdjustmentYellow | 0 |
LuminanceNoiseReductionContrast | 99 |
LuminanceNoiseReductionDetail | 94 |
LuminanceSmoothing | 98 |
Make | NIKON CORPORATION |
MaxApertureValue | 4.4 |
Megapixels | 0.655 |
MeteringMode | Multi-segment |
Model | NIKON D3 |
ModifyDate (1) | 2013:07:15 19:48:48+02:00 |
ModifyDate | 2013:07:15 19:48:48 |
Orientation | Horizontal (normal) |
ParametricDarks | 0 |
ParametricHighlights | 0 |
ParametricHighlightSplit | 75 |
ParametricLights | 0 |
ParametricMidtoneSplit | 50 |
ParametricShadows | 0 |
ParametricShadowSplit | 25 |
PerspectiveAspect | 0 |
PerspectiveHorizontal | 0 |
PerspectiveRotate | 0.0 |
PerspectiveScale | 100 |
PerspectiveUpright | 0 |
PerspectiveVertical | 0 |
PhotometricInterpretation | RGB |
PostCropVignetteAmount | 0 |
ProcessVersion | 6.7 |
ProfileDescription | ProPhoto RGB |
Rating | 0 |
RawFileName | _DSC3815.NEF |
RedHue | 0 |
RedSaturation | 0 |
Rights | Arild Haug Kaarmo |
SamplesPerPixel | 3 |
Saturation (1) | 0 |
Saturation | Normal |
SaturationAdjustmentAqua | 0 |
SaturationAdjustmentBlue | 0 |
SaturationAdjustmentGreen | 0 |
SaturationAdjustmentMagenta | 0 |
SaturationAdjustmentOrange | 0 |
SaturationAdjustmentPurple | 0 |
SaturationAdjustmentRed | 0 |
SaturationAdjustmentYellow | 0 |
ScaleFactor35efl | 1.0 |
SceneCaptureType | Standard |
SceneType | Directly photographed |
SensingMethod | One-chip color area |
SerialNumber | 2027792 |
Shadows2012 | 0 |
ShadowTint | 0 |
SharpenDetail | 97 |
SharpenEdgeMasking | 97 |
SharpenRadius | +2.9 |
Sharpness (1) | 102 |
Sharpness | Normal |
ShutterSpeed | 1/6 |
ShutterSpeedValue | 1/6 |
Software | Adobe Photoshop CS4 Macintosh |
SplitToningBalance | 0 |
SplitToningHighlightHue | 0 |
SplitToningHighlightSaturation | 0 |
SplitToningShadowHue | 0 |
SplitToningShadowSaturation | 0 |
SubjectDistanceRange | Unknown |
Tint | -14 |
ToneCurveName2012 | Linear |
ToneCurvePV2012 | 0, 0, 255, 255 |
ToneCurvePV2012Blue | 0, 0, 255, 255 |
ToneCurvePV2012Green | 0, 0, 255, 255 |
ToneCurvePV2012Red | 0, 0, 255, 255 |
URL_List | |
UserComment | Arild Haug Kaarmo |
Version | 8.1 |
Vibrance | 0 |
VignetteAmount | 0 |
WhiteBalance (1) | As Shot |
WhiteBalance | Manual |
Whites2012 | 0 |