Felt | Verdi |
AlreadyApplied | True |
Aperture | 14.0 |
ApertureValue | 14.0 |
ApproximateFocusDistance | 4294967295 |
AutoLateralCA | 1 |
BitsPerSample | 8 |
Blacks2012 | 0 |
BlueHue | 0 |
BlueSaturation | 0 |
CameraProfile | Adobe Standard |
CFAPattern | [Red,Green][Green,Blue] |
CircleOfConfusion | 0.030 mm |
Clarity2012 | -55 |
ColorComponents | 3 |
ColorNoiseReduction | 25 |
ColorNoiseReductionDetail | 50 |
ColorTemperature | 5500 |
Contrast | Normal |
Contrast2012 | +29 |
ConvertToGrayscale | False |
CreateDate (1) | 2013:05:25 06:19:50.00 |
CreateDate | 2013:05:25 06:19:50 |
CreatorTool | Adobe Photoshop Lightroom 4.4 (Macintosh) |
CropAngle | 0 |
CropBottom | 0.96589 |
CropConstrainToWarp | 0 |
CropHeight | 2443 |
CropLeft | 0.137209 |
CropRight | 1 |
CropTop | 0.103099 |
CropUnit | pixels |
CropWidth | 3672 |
CustomRendered | Normal |
DateCreated (1) | 2013:05:25 |
DateCreated | 2013:05:25 06:19:50.00 |
DateTimeOriginal | 2013:05:25 06:19:50 |
DefringeGreenAmount | 0 |
DefringeGreenHueHi | 60 |
DefringeGreenHueLo | 40 |
DefringePurpleAmount | 0 |
DefringePurpleHueHi | 70 |
DefringePurpleHueLo | 30 |
DigitalZoomRatio | 1 |
DOF | inf (3.08 m - inf) |
Exposure2012 | +1.70 |
ExposureCompensation | 0 |
ExposureMode | Manual |
ExposureProgram | Manual |
ExposureTime | 1/100 |
Flash | No Flash |
FNumber | 14.0 |
FocalLength | 36.0 mm |
FocalLength35efl | 36.0 mm (35 mm equivalent: 36.0 mm) |
FocalLengthIn35mmFormat | 36 mm |
Format | image/jpeg |
FOV | 53.1 deg |
GainControl | None |
GradientBasedCorrActive | true |
GradientBasedCorrAmount | 1.000000 |
GradientBasedCorrBrightness | 0.320225 |
GradientBasedCorrClarity2012 | 0.887640 |
GradientBasedCorrContrast2012 | 0.019663 |
GradientBasedCorrDefringe | 0.000000 |
GradientBasedCorrExposure2012 | 0.003599 |
GradientBasedCorrHighlights2012 | 0.020014 |
GradientBasedCorrHue | 233.000000 |
GradientBasedCorrLuminanceNoise | 0.011236 |
GradientBasedCorrMaskFullX | 0.557749 |
GradientBasedCorrMaskFullY | 0.662194 |
GradientBasedCorrMaskValue | 1.000000 |
GradientBasedCorrMaskWhat | Mask/Gradient |
GradientBasedCorrMaskZeroX | 0.565080 |
GradientBasedCorrMaskZeroY | 0.582043 |
GradientBasedCorrMoire | -0.005442 |
GradientBasedCorrSaturation (1) | 0.056180 |
GradientBasedCorrSaturation | 0.000000 |
GradientBasedCorrShadows2012 | 0.088746 |
GradientBasedCorrSharpness | 0.056180 |
GradientBasedCorrTemperature | -0.011324 |
GradientBasedCorrTint | -0.011236 |
GradientBasedCorrWhat | Correction |
GrainAmount | 0 |
GreenHue | 0 |
GreenSaturation | 0 |
HasCrop | True |
HasSettings | True |
Highlights2012 | -84 |
HueAdjustmentAqua | 0 |
HueAdjustmentBlue | 0 |
HueAdjustmentGreen | 0 |
HueAdjustmentMagenta | 0 |
HueAdjustmentOrange | 0 |
HueAdjustmentPurple | 0 |
HueAdjustmentRed | 0 |
HueAdjustmentYellow | 0 |
HyperfocalDistance | 3.08 m |
ImageHeight | 2443 |
ImageNumber | 67236 |
ImageSize | 3672x2443 |
ImageWidth | 3672 |
ISO | 160 |
Lens | 28.0-300.0 mm f/3.5-5.6 |
LensID (1) | 165 |
LensID | AF-S Nikkor 28-300mm f/3.5-5.6G ED VR |
LensInfo | 28-300mm f/3.5-5.6 |
LensManualDistortionAmount | 0 |
LensModel | 28.0-300.0 mm f/3.5-5.6 |
LensProfileChromaticAberrationScale | 100 |
LensProfileDistortionScale | 100 |
LensProfileEnable | 1 |
LensProfileFilename | NIKON D3X (Nikon AF-S NIKKOR 28-300mm f3.5-5.6 ED VR) - RAW.lcp |
LensProfileName | Adobe (Nikon AF-S NIKKOR 28-300mm f/3.5-5.6 ED VR) |
LensProfileSetup | LensDefaults |
LensProfileVignettingScale | 100 |
LightSource | Fine Weather |
LightValue | 13.6 |
LuminanceAdjustmentAqua | 0 |
LuminanceAdjustmentBlue | 0 |
LuminanceAdjustmentGreen | 0 |
LuminanceAdjustmentMagenta | 0 |
LuminanceAdjustmentOrange | 0 |
LuminanceAdjustmentPurple | 0 |
LuminanceAdjustmentRed | 0 |
LuminanceAdjustmentYellow | 0 |
LuminanceSmoothing | 0 |
Make | NIKON CORPORATION |
MaxApertureValue | 4.0 |
Megapixels | 9.0 |
MeteringMode | Multi-segment |
Model | NIKON D3S |
ModifyDate (1) | 2013:07:03 23:48:20+02:00 |
ModifyDate | 2013:07:03 23:48:20 |
PaintCorrectionActive | true |
PaintCorrectionAmount | 1.000000 |
PaintCorrectionBrightness | 0.320225 |
PaintCorrectionClarity2012 (1) | 0.617978 |
PaintCorrectionClarity2012 | 0.910112 |
PaintCorrectionContrast2012 | 0.019663 |
PaintCorrectionDefringe | 0.000000 |
PaintCorrectionExposure2012 | 0.003599 |
PaintCorrectionHighlights2012 | 0.020014 |
PaintCorrectionHue | 233.000000 |
PaintCorrectionLuminanceNoise | 0.011236 |
PaintCorrectionMaskCenterWeight | 0.612751 |
PaintCorrectionMaskFlow | 0.989121 |
PaintCorrectionMaskRadius (1) | 0.089514 |
PaintCorrectionMaskRadius (10) | 0.089040 |
PaintCorrectionMaskRadius (11) | 0.089054 |
PaintCorrectionMaskRadius (12) | 0.027289 |
PaintCorrectionMaskRadius (13) | 0.027278 |
PaintCorrectionMaskRadius (14) | 0.027273 |
PaintCorrectionMaskRadius (15) | 0.027282 |
PaintCorrectionMaskRadius (16) | 0.027276 |
PaintCorrectionMaskRadius (17) | 0.027274 |
PaintCorrectionMaskRadius (18) | 0.027286 |
PaintCorrectionMaskRadius (2) | 0.089954 |
PaintCorrectionMaskRadius (20) | 0.027323 |
PaintCorrectionMaskRadius (21) | 0.027390 |
PaintCorrectionMaskRadius (22) | 0.027347 |
PaintCorrectionMaskRadius (23) | 0.027397 |
PaintCorrectionMaskRadius (24) | 0.027402 |
PaintCorrectionMaskRadius (25) | 0.027410 |
PaintCorrectionMaskRadius (26) | 0.027330 |
PaintCorrectionMaskRadius (27) | 0.027364 |
PaintCorrectionMaskRadius (28) | 0.091239 |
PaintCorrectionMaskRadius (29) | 0.091119 |
PaintCorrectionMaskRadius (3) | 0.089033 |
PaintCorrectionMaskRadius (30) | 0.091102 |
PaintCorrectionMaskRadius (31) | 0.091124 |
PaintCorrectionMaskRadius (32) | 0.091242 |
PaintCorrectionMaskRadius (33) | 0.091691 |
PaintCorrectionMaskRadius (34) | 0.091406 |
PaintCorrectionMaskRadius (35) | 0.091295 |
PaintCorrectionMaskRadius (4) | 0.088964 |
PaintCorrectionMaskRadius (5) | 0.088862 |
PaintCorrectionMaskRadius (6) | 0.088878 |
PaintCorrectionMaskRadius (7) | 0.089022 |
PaintCorrectionMaskRadius (8) | 0.088864 |
PaintCorrectionMaskRadius (9) | 0.088913 |
PaintCorrectionMaskRadius | 0.091261 |
PaintCorrectionMaskValue | 1.000000 |
PaintCorrectionMaskWhat | Mask/Paint |
PaintCorrectionMoire | -0.005442 |
PaintCorrectionSaturation (1) | 0.056180 |
PaintCorrectionSaturation | 0.000000 |
PaintCorrectionShadows2012 | 0.088746 |
PaintCorrectionSharpness | 0.056180 |
PaintCorrectionTemperature | -0.011324 |
PaintCorrectionTint | -0.011236 |
PaintCorrectionWhat | Correction |
ParametricDarks | 0 |
ParametricHighlights | -66 |
ParametricHighlightSplit | 75 |
ParametricLights | 0 |
ParametricMidtoneSplit | 50 |
ParametricShadows | +39 |
ParametricShadowSplit | 25 |
PerspectiveHorizontal | 0 |
PerspectiveRotate | 0.0 |
PerspectiveScale | 100 |
PerspectiveVertical | 0 |
PostCropVignetteAmount | 0 |
ProcessVersion | 6.7 |
ProfileDescription | sRGB IEC61966-2.1 |
RedHue | 0 |
RedSaturation | 0 |
Saturation (1) | +10 |
Saturation | Normal |
SaturationAdjustmentAqua | 0 |
SaturationAdjustmentBlue | 0 |
SaturationAdjustmentGreen | 0 |
SaturationAdjustmentMagenta | 0 |
SaturationAdjustmentOrange | 0 |
SaturationAdjustmentPurple | 0 |
SaturationAdjustmentRed | 0 |
SaturationAdjustmentYellow | 0 |
ScaleFactor35efl | 1.0 |
SceneCaptureType | Standard |
SceneType | Directly photographed |
SensingMethod | One-chip color area |
SerialNumber | 2058033 |
Shadows2012 | +84 |
ShadowTint | 0 |
SharpenDetail | 25 |
SharpenEdgeMasking | 0 |
SharpenRadius | +1.0 |
Sharpness (1) | 25 |
Sharpness | Normal |
ShutterSpeed | 1/100 |
ShutterSpeedValue | 1/100 |
Software | Adobe Photoshop Lightroom 4.4 (Macintosh) |
SplitToningBalance | 0 |
SplitToningHighlightHue | 0 |
SplitToningHighlightSaturation | 0 |
SplitToningShadowHue | 0 |
SplitToningShadowSaturation | 0 |
SubjectDistanceRange | Unknown |
Tint | +10 |
ToneCurveName2012 | Linear |
ToneCurvePV2012 | 0, 0, 255, 255 |
ToneCurvePV2012Blue | 0, 0, 255, 255 |
ToneCurvePV2012Green | 0, 0, 255, 255 |
ToneCurvePV2012Red | 0, 0, 255, 255 |
Version | 7.4 |
Vibrance | 0 |
VignetteAmount | 0 |
WhiteBalance (1) | Daylight |
WhiteBalance | Manual |
Whites2012 | 0 |