Felt | Verdi |
AlreadyApplied | True |
Aperture | 5.6 |
ApertureValue | 5.6 |
ApproximateFocusDistance | 47.3 |
AutoLateralCA | 0 |
BitsPerSample | 8 |
Blacks2012 | +18 |
BlueHue | 0 |
BlueSaturation | 0 |
CameraProfile | Adobe Standard |
CFAPattern | [Red,Green][Green,Blue] |
CircleOfConfusion | 0.030 mm |
Clarity2012 | +18 |
ColorComponents | 3 |
ColorNoiseReduction | 25 |
ColorNoiseReductionDetail | 50 |
ColorTemperature | 5100 |
Contrast | Normal |
Contrast2012 | +24 |
ConvertToGrayscale | False |
CreateDate (1) | 2013:07:26 15:35:20.36 |
CreateDate | 2013:07:26 15:35:20 |
CreatorTool | Adobe Photoshop Lightroom 4.4 (Macintosh) |
CropAngle | 0 |
CropBottom | 0.49504 |
CropConstrainToWarp | 0 |
CropHeight | 1094 |
CropLeft | 0 |
CropRight | 0.386471 |
CropTop | 0.108569 |
CropUnit | pixels |
CropWidth | 1645 |
CustomRendered | Normal |
DateCreated (1) | 2013:07:26 |
DateCreated | 2013:07:26 15:35:20.36 |
DateTimeOriginal | 2013:07:26 15:35:20 |
DefringeGreenAmount | 0 |
DefringeGreenHueHi | 60 |
DefringeGreenHueLo | 40 |
DefringePurpleAmount | 0 |
DefringePurpleHueHi | 70 |
DefringePurpleHueLo | 30 |
DigitalZoomRatio | 1 |
DOF | 2.07 m (46.29 - 48.36 m) |
Exposure2012 | +1.20 |
ExposureCompensation | 0 |
ExposureMode | Manual |
ExposureProgram | Manual |
ExposureTime | 1/1600 |
Flash | No Flash |
FNumber | 5.6 |
FocalLength | 600.0 mm |
FocalLength35efl | 600.0 mm (35 mm equivalent: 600.0 mm) |
FocalLengthIn35mmFormat | 600 mm |
Format | image/jpeg |
FOV | 3.4 deg |
GainControl | High gain up |
GradientBasedCorrActive | true |
GradientBasedCorrAmount | 1.000000 |
GradientBasedCorrBrightness | 0.320225 |
GradientBasedCorrClarity2012 | 0.011236 |
GradientBasedCorrContrast2012 | 0.062500 |
GradientBasedCorrDefringe | 0.000000 |
GradientBasedCorrExposure2012 | 0.212079 |
GradientBasedCorrHighlights2012 | 0.000790 |
GradientBasedCorrHue | 233.000000 |
GradientBasedCorrLuminanceNoise | 0.393258 |
GradientBasedCorrMaskFullX | 0.122923 |
GradientBasedCorrMaskFullY | 0.261086 |
GradientBasedCorrMaskValue | 1.000000 |
GradientBasedCorrMaskWhat | Mask/Gradient |
GradientBasedCorrMaskZeroX | 0.159467 |
GradientBasedCorrMaskZeroY | 0.361077 |
GradientBasedCorrMoire | -0.005442 |
GradientBasedCorrSaturation (1) | 0.370787 |
GradientBasedCorrSaturation | 0.000000 |
GradientBasedCorrShadows2012 | -0.730337 |
GradientBasedCorrSharpness | 0.393258 |
GradientBasedCorrTemperature | -0.011236 |
GradientBasedCorrTint | -0.011236 |
GradientBasedCorrWhat | Correction |
GrainAmount | 0 |
GreenHue | 0 |
GreenSaturation | 0 |
HasCrop | True |
HasSettings | True |
Highlights2012 | -7 |
HueAdjustmentAqua | 0 |
HueAdjustmentBlue | 0 |
HueAdjustmentGreen | 0 |
HueAdjustmentMagenta | 0 |
HueAdjustmentOrange | 0 |
HueAdjustmentPurple | 0 |
HueAdjustmentRed | 0 |
HueAdjustmentYellow | 0 |
HyperfocalDistance | 2139.56 m |
ImageHeight | 1094 |
ImageNumber | 78321 |
ImageSize | 1645x1094 |
ImageWidth | 1645 |
ISO | 1000 |
Lens | 120.0-300.0 mm f/2.8 |
LensID (1) | 141 |
LensID | Sigma 120-300mm F2.8 DG OS HSM Sports |
LensInfo | 120-300mm f/2.8 |
LensManualDistortionAmount | 0 |
LensModel | 120.0-300.0 mm f/2.8 |
LensProfileEnable | 0 |
LensProfileSetup | LensDefaults |
LightSource | Fine Weather |
LightValue | 12.3 |
LuminanceAdjustmentAqua | 0 |
LuminanceAdjustmentBlue | 0 |
LuminanceAdjustmentGreen | 0 |
LuminanceAdjustmentMagenta | 0 |
LuminanceAdjustmentOrange | 0 |
LuminanceAdjustmentPurple | 0 |
LuminanceAdjustmentRed | 0 |
LuminanceAdjustmentYellow | 0 |
LuminanceNoiseReductionContrast | 34 |
LuminanceNoiseReductionDetail | 50 |
LuminanceSmoothing | 31 |
Make | NIKON CORPORATION |
MaxApertureValue | 5.7 |
Megapixels | 1.8 |
MeteringMode | Multi-segment |
Model | NIKON D3S |
ModifyDate (1) | 2013:07:29 14:27:50+02:00 |
ModifyDate | 2013:07:29 14:27:50 |
PaintCorrectionActive | true |
PaintCorrectionAmount | 1.000000 |
PaintCorrectionBrightness | 0.320225 |
PaintCorrectionClarity2012 (1) | 0.011236 |
PaintCorrectionClarity2012 (2) | 0.797753 |
PaintCorrectionClarity2012 (3) | 0.842697 |
PaintCorrectionClarity2012 | 0.955056 |
PaintCorrectionContrast2012 | 0.062500 |
PaintCorrectionDefringe | 0.000000 |
PaintCorrectionExposure2012 (1) | 0.000000 |
PaintCorrectionExposure2012 (2) | 0.046787 |
PaintCorrectionExposure2012 (3) | 0.206900 |
PaintCorrectionExposure2012 | 0.280899 |
PaintCorrectionHighlights2012 (1) | 0.955056 |
PaintCorrectionHighlights2012 | 0.000790 |
PaintCorrectionHue | 233.000000 |
PaintCorrectionLuminanceNoise (1) | 0.056180 |
PaintCorrectionLuminanceNoise (2) | 0.797753 |
PaintCorrectionLuminanceNoise (3) | 0.730337 |
PaintCorrectionLuminanceNoise | 0.662921 |
PaintCorrectionMaskCenterWeight (63) | 0.244765 |
PaintCorrectionMaskCenterWeight | 0.354082 |
PaintCorrectionMaskFlow | 1.000000 |
PaintCorrectionMaskRadius (11) | 0.002207 |
PaintCorrectionMaskRadius (20) | 0.001130 |
PaintCorrectionMaskRadius (35) | 0.003026 |
PaintCorrectionMaskRadius (5) | 0.008067 |
PaintCorrectionMaskRadius | 0.002244 |
PaintCorrectionMaskValue | 1.000000 |
PaintCorrectionMaskWhat | Mask/Paint |
PaintCorrectionMoire | -0.005442 |
PaintCorrectionSaturation (3) | 0.528090 |
PaintCorrectionSaturation (5) | 0.011236 |
PaintCorrectionSaturation (7) | 0.348315 |
PaintCorrectionSaturation | 0.000000 |
PaintCorrectionShadows2012 (2) | 0.462956 |
PaintCorrectionShadows2012 | 0.056180 |
PaintCorrectionSharpness (1) | 0.056180 |
PaintCorrectionSharpness (2) | 0.438202 |
PaintCorrectionSharpness (3) | 0.730337 |
PaintCorrectionSharpness | 0.505618 |
PaintCorrectionTemperature (2) | -0.011236 |
PaintCorrectionTemperature | 0.132374 |
PaintCorrectionTint | -0.011236 |
PaintCorrectionWhat | Correction |
ParametricDarks | +23 |
ParametricHighlights | 0 |
ParametricHighlightSplit | 75 |
ParametricLights | +21 |
ParametricMidtoneSplit | 50 |
ParametricShadows | +25 |
ParametricShadowSplit | 25 |
PerspectiveHorizontal | 0 |
PerspectiveRotate | 0.0 |
PerspectiveScale | 100 |
PerspectiveVertical | 0 |
PostCropVignetteAmount | 0 |
ProcessVersion | 6.7 |
ProfileDescription | sRGB IEC61966-2.1 |
Rating | 5 |
RedHue | 0 |
RedSaturation | 0 |
Saturation (1) | 0 |
Saturation | Normal |
SaturationAdjustmentAqua | 0 |
SaturationAdjustmentBlue | 0 |
SaturationAdjustmentGreen | 0 |
SaturationAdjustmentMagenta | 0 |
SaturationAdjustmentOrange | 0 |
SaturationAdjustmentPurple | 0 |
SaturationAdjustmentRed | 0 |
SaturationAdjustmentYellow | 0 |
ScaleFactor35efl | 1.0 |
SceneCaptureType | Standard |
SceneType | Directly photographed |
SensingMethod | One-chip color area |
SerialNumber | 2058033 |
Shadows2012 | +17 |
ShadowTint | 0 |
SharpenDetail | 43 |
SharpenEdgeMasking | 28 |
SharpenRadius | +1.5 |
Sharpness (1) | 55 |
Sharpness | Normal |
ShutterSpeed | 1/1600 |
ShutterSpeedValue | 1/1600 |
Software | Adobe Photoshop Lightroom 4.4 (Macintosh) |
SplitToningBalance | 0 |
SplitToningHighlightHue | 0 |
SplitToningHighlightSaturation | 0 |
SplitToningShadowHue | 0 |
SplitToningShadowSaturation | 0 |
SubjectDistanceRange | Unknown |
Tint | +10 |
ToneCurveName2012 | Linear |
ToneCurvePV2012 | 0, 0, 255, 255 |
ToneCurvePV2012Blue | 0, 0, 255, 255 |
ToneCurvePV2012Green | 0, 0, 255, 255 |
ToneCurvePV2012Red | 0, 0, 255, 255 |
Version | 7.4 |
Vibrance | 0 |
VignetteAmount | 0 |
WhiteBalance (1) | As Shot |
WhiteBalance | Manual |
Whites2012 | 0 |