Felt | Verdi |
AlreadyApplied | True |
Aperture | 8.0 |
ApertureValue | 8.0 |
ApproximateFNumber | 6.0 |
AutoLateralCA | 0 |
BaseISO | 160 |
BitsPerSample | 8 |
Blacks2012 | -36 |
BlueBalance | 0.727079 |
BlueHue | 0 |
BlueSaturation | 0 |
CameraProfile | Adobe Standard |
CameraTemperature | 31 C |
CircleOfConfusion | 0.030 mm |
Clarity2012 | +12 |
ColorComponents | 1 |
ColorNoiseReduction | 25 |
ColorNoiseReductionDetail | 50 |
ColorTemperature | 4450 |
Contrast | Normal |
Contrast2012 | +17 |
ConvertToGrayscale | True |
CreateDate | 2013:07:16 15:47:28 |
CreatorTool | Adobe Photoshop Lightroom 4.4 (Windows) |
CropAngle | 0 |
CropBottom | 0.829971 |
CropConstrainToWarp | 0 |
CropHeight | 2589 |
CropLeft | 0.067114 |
CropRight | 0.796741 |
CropTop | 0.083573 |
CropUnit | pixels |
CropWidth | 3803 |
DateCreated (1) | 2013:07:16 |
DateCreated | 2013:07:16 15:47:28 |
DateTimeOriginal | 2013:07:16 15:47:28 |
DigitalZoomRatio | 0 |
Exposure2012 | 0.00 |
ExposureCompensation | 0 |
ExposureMode | Manual |
ExposureProgram | Manual |
ExposureTime | 1/750 |
ExternalSensorBrightnessValue | 7.73 |
FirmwareVersion | 1.196 |
Flash | No Flash |
FNumber | 8.0 |
FocalLength | 50.0 mm |
FocalLength35efl | 50.0 mm (35 mm equivalent: 50.0 mm) |
FocalLengthIn35mmFormat | 50 mm |
Format | image/jpeg |
FOV | 39.6 deg |
GrainAmount | 0 |
GrayMixerAqua | -17 |
GrayMixerBlue | +11 |
GrayMixerGreen | -27 |
GrayMixerMagenta | +3 |
GrayMixerOrange | -20 |
GrayMixerPurple | +16 |
GrayMixerRed | -11 |
GrayMixerYellow | -24 |
GreenHue | 0 |
GreenSaturation | 0 |
HasCrop | True |
HasSettings | True |
Highlights2012 | +29 |
HyperfocalDistance | 10.40 m |
ImageHeight | 2589 |
ImageSize | 3803x2589 |
ImageWidth | 3803 |
ISO | 80 |
JPEGQuality | Fine |
JPEGSize | 5216x3472 |
Lens | Leica Summicron-M 50mm f/2 (IV, V) |
LensID (1) | 33 |
LensID | Leica Summicron-M 50mm f/2 (IV, V) |
LensManualDistortionAmount | 0 |
LensModel | Leica Summicron-M 50mm f/2 (IV, V) |
LensProfileEnable | 0 |
LensProfileSetup | LensDefaults |
LensType | Summicron-M 50mm f/2 (IV, V) |
LightSource | Unknown |
LightValue | 15.9 |
LuminanceSmoothing | 0 |
Make | Leica Camera AG |
MakerNoteSafety | Safe |
MaxApertureValue | 2.0 |
MeasuredLV | 7.05 |
Megapixels | 9.8 |
MeteringMode | Center-weighted average |
Model | M9 Digital Camera |
ModifyDate (1) | 2013:07:22 23:27:19+02:00 |
ModifyDate | 2013:07:22 23:27:19 |
ParametricDarks | +19 |
ParametricHighlights | +36 |
ParametricHighlightSplit | 75 |
ParametricLights | -29 |
ParametricMidtoneSplit | 50 |
ParametricShadows | 0 |
ParametricShadowSplit | 25 |
PerspectiveHorizontal | 0 |
PerspectiveRotate | 0.0 |
PerspectiveScale | 100 |
PerspectiveVertical | 0 |
PostCropVignetteAmount | 0 |
ProcessVersion | 6.7 |
ProfileDescription | sRGB IEC61966-2.1 |
RedBalance | 0.477793 |
RedHue | 0 |
RedSaturation | 0 |
Saturation | Normal |
ScaleFactor35efl | 1.0 |
SceneCaptureType | Standard |
SceneType | Directly photographed |
SensorBitDepth | 14 |
SensorHeight | 3516 |
SensorWidth | 5270 |
SerialNumber | 4421788 |
Shadows2012 | -7 |
ShadowTint | 0 |
SharpenDetail | 25 |
SharpenEdgeMasking | 0 |
Sharpening | Normal |
SharpenRadius | +1.0 |
Sharpness | 25 |
ShutterSpeed | 1/750 |
ShutterSpeedValue | 1/750 |
Software | Adobe Photoshop Lightroom 4.4 (Windows) |
SplitToningBalance | 0 |
SplitToningHighlightHue | 0 |
SplitToningHighlightSaturation | 0 |
SplitToningShadowHue | 0 |
SplitToningShadowSaturation | 0 |
Tint | +3 |
ToneCurveName2012 | Linear |
ToneCurvePV2012 | 0, 0, 255, 255 |
ToneCurvePV2012Blue | 0, 0, 255, 255 |
ToneCurvePV2012Green | 0, 0, 255, 255 |
ToneCurvePV2012Red | 0, 0, 255, 255 |
UserProfile | Profile 3 |
Version | 7.4 |
VignetteAmount | 0 |
WB_RGBLevels | 0.4777930069 1 0.7270790805 |
WhiteBalance (2) | As Shot |
WhiteBalance | Auto |
Whites2012 | -17 |