Felt | Verdi |
AlreadyApplied | True |
Aperture | 5.6 |
ApertureValue | 5.6 |
ApproximateFocusDistance | 47.3 |
AutoLateralCA | 0 |
BitsPerSample | 8 |
Blacks2012 | -4 |
BlueHue | 0 |
BlueSaturation | 0 |
CameraProfile | Adobe Standard |
CFAPattern | [Red,Green][Green,Blue] |
CircleOfConfusion | 0.030 mm |
Clarity2012 | +24 |
ColorComponents | 3 |
ColorNoiseReduction | 25 |
ColorNoiseReductionDetail | 50 |
ColorTemperature | 5100 |
Contrast | Normal |
Contrast2012 | +20 |
ConvertToGrayscale | False |
CreateDate (1) | 2013:07:26 15:35:21.73 |
CreateDate | 2013:07:26 15:35:21 |
CreatorTool | Adobe Photoshop Lightroom 4.4 (Macintosh) |
CropAngle | -0.544729 |
CropBottom | 0.66439 |
CropConstrainToWarp | 0 |
CropHeight | 1290 |
CropLeft | 0.27326 |
CropRight | 0.731566 |
CropTop | 0.215473 |
CropUnit | pixels |
CropWidth | 1938 |
CustomRendered | Normal |
DateCreated (1) | 2013:07:26 |
DateCreated | 2013:07:26 15:35:21.73 |
DateTimeOriginal | 2013:07:26 15:35:21 |
DefringeGreenAmount | 0 |
DefringeGreenHueHi | 60 |
DefringeGreenHueLo | 40 |
DefringePurpleAmount | 0 |
DefringePurpleHueHi | 70 |
DefringePurpleHueLo | 30 |
DigitalZoomRatio | 1 |
DOF | 2.07 m (46.29 - 48.36 m) |
Exposure2012 | +1.05 |
ExposureCompensation | 0 |
ExposureMode | Manual |
ExposureProgram | Manual |
ExposureTime | 1/1600 |
Flash | No Flash |
FNumber | 5.6 |
FocalLength | 600.0 mm |
FocalLength35efl | 600.0 mm (35 mm equivalent: 600.0 mm) |
FocalLengthIn35mmFormat | 600 mm |
Format | image/jpeg |
FOV | 3.4 deg |
GainControl | High gain up |
GradientBasedCorrActive | true |
GradientBasedCorrAmount | 1.000000 |
GradientBasedCorrBrightness | 0.320225 |
GradientBasedCorrClarity2012 (1) | 0.797753 |
GradientBasedCorrClarity2012 (2) | 0.730337 |
GradientBasedCorrClarity2012 | 0.011236 |
GradientBasedCorrContrast2012 | 0.062500 |
GradientBasedCorrDefringe | 0.000000 |
GradientBasedCorrExposure2012 (1) | -0.191011 |
GradientBasedCorrExposure2012 (2) | -0.213483 |
GradientBasedCorrExposure2012 | -0.134568 |
GradientBasedCorrHighlights2012 (1) | 0.707865 |
GradientBasedCorrHighlights2012 (2) | 0.000790 |
GradientBasedCorrHighlights2012 | -0.438202 |
GradientBasedCorrHue | 233.000000 |
GradientBasedCorrLuminanceNoise | 0.056180 |
GradientBasedCorrMaskFullX (1) | 0.506004 |
GradientBasedCorrMaskFullX (2) | 0.492809 |
GradientBasedCorrMaskFullX | 0.637071 |
GradientBasedCorrMaskFullY (1) | 0.491943 |
GradientBasedCorrMaskFullY (2) | 0.295698 |
GradientBasedCorrMaskFullY | 0.297787 |
GradientBasedCorrMaskValue | 1.000000 |
GradientBasedCorrMaskWhat | Mask/Gradient |
GradientBasedCorrMaskZeroX (1) | 0.506004 |
GradientBasedCorrMaskZeroX (2) | 0.504752 |
GradientBasedCorrMaskZeroX | 0.629321 |
GradientBasedCorrMaskZeroY (1) | 0.469377 |
GradientBasedCorrMaskZeroY (2) | 0.353725 |
GradientBasedCorrMaskZeroY | 0.357195 |
GradientBasedCorrMoire | -0.005442 |
GradientBasedCorrSaturation (1) | 0.011236 |
GradientBasedCorrSaturation (3) | 0.348315 |
GradientBasedCorrSaturation (5) | 0.573034 |
GradientBasedCorrSaturation | 0.000000 |
GradientBasedCorrShadows2012 (1) | 0.056180 |
GradientBasedCorrShadows2012 | -0.325843 |
GradientBasedCorrSharpness | 0.056180 |
GradientBasedCorrTemperature (2) | -0.168539 |
GradientBasedCorrTemperature | -0.011236 |
GradientBasedCorrTint (2) | -0.228757 |
GradientBasedCorrTint | -0.011236 |
GradientBasedCorrWhat | Correction |
GrainAmount | 0 |
GreenHue | 0 |
GreenSaturation | 0 |
HasCrop | True |
HasSettings | True |
Highlights2012 | 0 |
HueAdjustmentAqua | 0 |
HueAdjustmentBlue | 0 |
HueAdjustmentGreen | 0 |
HueAdjustmentMagenta | 0 |
HueAdjustmentOrange | 0 |
HueAdjustmentPurple | 0 |
HueAdjustmentRed | 0 |
HueAdjustmentYellow | 0 |
HyperfocalDistance | 2139.56 m |
ImageHeight | 1290 |
ImageNumber | 78326 |
ImageSize | 1938x1290 |
ImageWidth | 1938 |
ISO | 1000 |
Lens | 120.0-300.0 mm f/2.8 |
LensID (1) | 141 |
LensID | Sigma 120-300mm F2.8 DG OS HSM Sports |
LensInfo | 120-300mm f/2.8 |
LensManualDistortionAmount | 0 |
LensModel | 120.0-300.0 mm f/2.8 |
LensProfileEnable | 0 |
LensProfileSetup | LensDefaults |
LightSource | Fine Weather |
LightValue | 12.3 |
LuminanceAdjustmentAqua | 0 |
LuminanceAdjustmentBlue | 0 |
LuminanceAdjustmentGreen | 0 |
LuminanceAdjustmentMagenta | 0 |
LuminanceAdjustmentOrange | 0 |
LuminanceAdjustmentPurple | 0 |
LuminanceAdjustmentRed | 0 |
LuminanceAdjustmentYellow | 0 |
LuminanceNoiseReductionContrast | 40 |
LuminanceNoiseReductionDetail | 50 |
LuminanceSmoothing | 38 |
Make | NIKON CORPORATION |
MaxApertureValue | 5.7 |
Megapixels | 2.5 |
MeteringMode | Multi-segment |
Model | NIKON D3S |
ModifyDate (1) | 2013:07:29 18:53:26+02:00 |
ModifyDate | 2013:07:29 18:53:26 |
PaintCorrectionActive | true |
PaintCorrectionAmount | 1.000000 |
PaintCorrectionBrightness (1) | 0.263558 |
PaintCorrectionBrightness | 0.320225 |
PaintCorrectionClarity2012 (1) | 0.483146 |
PaintCorrectionClarity2012 | 0.662921 |
PaintCorrectionContrast2012 (1) | 0.051440 |
PaintCorrectionContrast2012 | 0.062500 |
PaintCorrectionDefringe | 0.000000 |
PaintCorrectionExposure2012 (1) | 0.000000 |
PaintCorrectionExposure2012 | -0.119294 |
PaintCorrectionHighlights2012 (1) | 0.000650 |
PaintCorrectionHighlights2012 | 0.000790 |
PaintCorrectionHue | 233.000000 |
PaintCorrectionLuminanceNoise (1) | 0.865169 |
PaintCorrectionLuminanceNoise | 0.840151 |
PaintCorrectionMaskCenterWeight | 0.244765 |
PaintCorrectionMaskFlow | 1.000000 |
PaintCorrectionMaskRadius (1) | 0.004008 |
PaintCorrectionMaskRadius (21) | 0.003193 |
PaintCorrectionMaskRadius (24) | 0.001555 |
PaintCorrectionMaskRadius | 0.003813 |
PaintCorrectionMaskValue | 1.000000 |
PaintCorrectionMaskWhat | Mask/Paint |
PaintCorrectionMoire (1) | -0.004479 |
PaintCorrectionMoire | -0.005442 |
PaintCorrectionSaturation (1) | 0.348315 |
PaintCorrectionSaturation (3) | 0.303371 |
PaintCorrectionSaturation | 0.000000 |
PaintCorrectionShadows2012 (1) | 0.046238 |
PaintCorrectionShadows2012 | 0.056180 |
PaintCorrectionSharpness (1) | 0.393258 |
PaintCorrectionSharpness | 0.550562 |
PaintCorrectionTemperature (1) | -0.009248 |
PaintCorrectionTemperature | -0.011236 |
PaintCorrectionTint (1) | -0.009248 |
PaintCorrectionTint | -0.011236 |
PaintCorrectionWhat | Correction |
ParametricDarks | 0 |
ParametricHighlights | 0 |
ParametricHighlightSplit | 75 |
ParametricLights | 0 |
ParametricMidtoneSplit | 50 |
ParametricShadows | +45 |
ParametricShadowSplit | 25 |
PerspectiveHorizontal | 0 |
PerspectiveRotate | 0.0 |
PerspectiveScale | 100 |
PerspectiveVertical | 0 |
PostCropVignetteAmount | 0 |
ProcessVersion | 6.7 |
ProfileDescription | sRGB IEC61966-2.1 |
Rating | 5 |
RedHue | 0 |
RedSaturation | 0 |
Saturation (1) | +22 |
Saturation | Normal |
SaturationAdjustmentAqua | 0 |
SaturationAdjustmentBlue | 0 |
SaturationAdjustmentGreen | 0 |
SaturationAdjustmentMagenta | 0 |
SaturationAdjustmentOrange | 0 |
SaturationAdjustmentPurple | 0 |
SaturationAdjustmentRed | 0 |
SaturationAdjustmentYellow | 0 |
ScaleFactor35efl | 1.0 |
SceneCaptureType | Standard |
SceneType | Directly photographed |
SensingMethod | One-chip color area |
SerialNumber | 2058033 |
Shadows2012 | +42 |
ShadowTint | 0 |
SharpenDetail | 46 |
SharpenEdgeMasking | 20 |
SharpenRadius | +1.6 |
Sharpness (1) | 65 |
Sharpness | Normal |
ShutterSpeed | 1/1600 |
ShutterSpeedValue | 1/1600 |
Software | Adobe Photoshop Lightroom 4.4 (Macintosh) |
SplitToningBalance | 0 |
SplitToningHighlightHue | 0 |
SplitToningHighlightSaturation | 0 |
SplitToningShadowHue | 0 |
SplitToningShadowSaturation | 0 |
SubjectDistanceRange | Unknown |
Tint | +10 |
ToneCurveName2012 | Linear |
ToneCurvePV2012 | 0, 0, 255, 255 |
ToneCurvePV2012Blue | 0, 0, 255, 255 |
ToneCurvePV2012Green | 0, 0, 255, 255 |
ToneCurvePV2012Red | 0, 0, 255, 255 |
Version | 7.4 |
Vibrance | 0 |
VignetteAmount | 0 |
WhiteBalance (1) | As Shot |
WhiteBalance | Manual |
Whites2012 | 0 |