Felt | Verdi |
AlreadyApplied | True |
Aperture | 8.0 |
ApertureValue | 8.0 |
ApproximateFocusDistance | 1.11 |
BitsPerSample (1) | 8 8 8 |
BitsPerSample | 8 |
BlueHue | 0 |
BlueSaturation | 0 |
Brightness | +22 |
CameraProfile | Adobe Standard |
ChromaticAberrationB | 0 |
ChromaticAberrationR | 0 |
CircleOfConfusion | 0.019 mm |
Clarity | +10 |
ColorComponents | 3 |
ColorMode | RGB |
ColorNoiseReduction | 25 |
ColorNoiseReductionDetail | 50 |
ColorSpace | sRGB |
ColorTemperature | 7057 |
Contrast | +38 |
ConvertToGrayscale | False |
CreateDate (1) | 2013:06:12 18:08:33+02:00 |
CreateDate | 2013:06:12 18:08:33 |
CreatorTool | Adobe Photoshop Lightroom |
CropAngle | -1.45214 |
CropBottom | 0.964564 |
CropConstrainToWarp | 0 |
CropHeight | 1654 |
CropLeft | 0.028854 |
CropRight | 0.976526 |
CropTop | 0.068078 |
CropUnit | pixels |
CropWidth | 2481 |
CustomRendered | Normal |
DateCreated (1) | 2013:06:12 |
DateCreated | 2013:06:12 18:08:33.031+02:00 |
DateTimeOriginal | 2013:06:12 18:08:33 |
Defringe | 0 |
DOF | 1.56 m (0.73 - 2.29 m) |
ExifImageHeight | 1654 |
ExifImageWidth | 2481 |
Exposure | +1.15 |
ExposureCompensation | 0 |
ExposureMode | Manual |
ExposureProgram | Manual |
ExposureTime | 1/160 |
FillLight | 0 |
Firmware | 1.2.3 |
Flash | Off, Did not fire |
FlashCompensation | 0 |
FNumber | 8.0 |
FocalLength | 18.0 mm |
FocalLength35efl | 18.0 mm (35 mm equivalent: 28.3 mm) |
Format | image/jpeg |
FOV | 65.0 deg |
GradientBasedCorrActive | true |
GradientBasedCorrAmount | 1.000000 |
GradientBasedCorrBrightness (1) | 0.146000 |
GradientBasedCorrBrightness (2) | 0.024000 |
GradientBasedCorrBrightness (3) | 0.195000 |
GradientBasedCorrBrightness | 0.049000 |
GradientBasedCorrClarity | -0.060000 |
GradientBasedCorrContrast | -0.073000 |
GradientBasedCorrExposure (1) | 0.220000 |
GradientBasedCorrExposure (2) | 0.146000 |
GradientBasedCorrExposure | 0.073000 |
GradientBasedCorrHue | 0.000000 |
GradientBasedCorrMaskFullX (1) | 1.029120 |
GradientBasedCorrMaskFullX (2) | 0.464563 |
GradientBasedCorrMaskFullX (3) | 0.907287 |
GradientBasedCorrMaskFullX (4) | 0.901904 |
GradientBasedCorrMaskFullX (5) | 0.017734 |
GradientBasedCorrMaskFullX | 0.008509 |
GradientBasedCorrMaskFullY (1) | 0.770906 |
GradientBasedCorrMaskFullY (2) | 0.040236 |
GradientBasedCorrMaskFullY (3) | -0.030693 |
GradientBasedCorrMaskFullY (4) | 0.948873 |
GradientBasedCorrMaskFullY (5) | 0.872176 |
GradientBasedCorrMaskFullY | 0.072073 |
GradientBasedCorrMaskValue | 1.000000 |
GradientBasedCorrMaskWhat | Mask/Gradient |
GradientBasedCorrMaskZeroX (1) | 0.592616 |
GradientBasedCorrMaskZeroX (2) | 0.494047 |
GradientBasedCorrMaskZeroX (3) | 0.496090 |
GradientBasedCorrMaskZeroX (4) | 0.673178 |
GradientBasedCorrMaskZeroX (5) | 0.380971 |
GradientBasedCorrMaskZeroX | 0.481706 |
GradientBasedCorrMaskZeroY (1) | 0.370366 |
GradientBasedCorrMaskZeroY (2) | 0.577046 |
GradientBasedCorrMaskZeroY (3) | 0.555351 |
GradientBasedCorrMaskZeroY (4) | 0.419653 |
GradientBasedCorrMaskZeroY (5) | 0.243126 |
GradientBasedCorrMaskZeroY | 0.482492 |
GradientBasedCorrSaturation (11) | -0.073000 |
GradientBasedCorrSaturation | 0.000000 |
GradientBasedCorrSharpness | 0.000000 |
GradientBasedCorrWhat | Correction |
GrainAmount | 0 |
GreenHue | 0 |
GreenSaturation | 0 |
HasCrop | True |
HasSettings | True |
HighlightRecovery | 0 |
HueAdjustmentAqua | 0 |
HueAdjustmentBlue | 0 |
HueAdjustmentGreen | 0 |
HueAdjustmentMagenta | 0 |
HueAdjustmentOrange | 0 |
HueAdjustmentPurple | 0 |
HueAdjustmentRed | 0 |
HueAdjustmentYellow | 0 |
HyperfocalDistance | 2.12 m |
ICCProfileName | sRGB IEC61966-2.1 |
ImageHeight | 1654 |
ImageNumber | 0 |
ImageSize | 2481x1654 |
ImageWidth | 2481 |
ISO | 100 |
Lens | EF-S17-55mm f/2.8 IS USM |
LensID (1) | 240 |
LensID | Canon EF-S 17-55mm f/2.8 IS USM |
LensInfo | 17-55mm f/? |
LensManualDistortionAmount | 0 |
LensProfileEnable | 0 |
LensProfileSetup | LensDefaults |
LightValue | 13.3 |
LuminanceAdjustmentAqua | 0 |
LuminanceAdjustmentBlue | 0 |
LuminanceAdjustmentGreen | 0 |
LuminanceAdjustmentMagenta | 0 |
LuminanceAdjustmentOrange | 0 |
LuminanceAdjustmentPurple | 0 |
LuminanceAdjustmentRed | 0 |
LuminanceAdjustmentYellow | 0 |
LuminanceNoiseReductionContrast | 0 |
LuminanceNoiseReductionDetail | 50 |
LuminanceSmoothing | 20 |
Make | Canon |
MaxApertureValue | 2.8 |
Megapixels | 4.1 |
MeteringMode | Multi-segment |
Model | Canon EOS 7D |
ModifyDate (1) | 2013:08:05 22:23:16+02:00 |
ModifyDate | 2013:08:05 22:23:16 |
Orientation | Horizontal (normal) |
ParametricDarks | 0 |
ParametricHighlights | 0 |
ParametricHighlightSplit | 75 |
ParametricLights | 0 |
ParametricMidtoneSplit | 50 |
ParametricShadows | 0 |
ParametricShadowSplit | 25 |
PerspectiveHorizontal | 0 |
PerspectiveRotate | 0.0 |
PerspectiveScale | 100 |
PerspectiveVertical | 0 |
PhotometricInterpretation | RGB |
PostCropVignetteAmount | 0 |
ProcessVersion | 5.7 |
ProfileDescription | sRGB IEC61966-2.1 |
RedHue | 0 |
RedSaturation | 0 |
Saturation | -3 |
SaturationAdjustmentAqua | 0 |
SaturationAdjustmentBlue | 0 |
SaturationAdjustmentGreen | 0 |
SaturationAdjustmentMagenta | 0 |
SaturationAdjustmentOrange | 0 |
SaturationAdjustmentPurple | 0 |
SaturationAdjustmentRed | 0 |
SaturationAdjustmentYellow | 0 |
ScaleFactor35efl | 1.6 |
SceneCaptureType | Standard |
SerialNumber | 1961000057 |
Shadows | 11 |
ShadowTint | 0 |
SharpenDetail | 18 |
SharpenEdgeMasking | 17 |
SharpenRadius | +0.9 |
Sharpness | 52 |
ShutterSpeed | 1/160 |
ShutterSpeedValue | 1/160 |
Software | Adobe Photoshop Elements 11.0 Windows |
SplitToningBalance | 0 |
SplitToningHighlightHue | 0 |
SplitToningHighlightSaturation | 0 |
SplitToningShadowHue | 0 |
SplitToningShadowSaturation | 0 |
SubjectDistance | 1.11 m |
Tint | -12 |
ToneCurve | 0, 0, 32, 22, 64, 56, 128, 128, 192, 196, 255, 255 |
ToneCurveName | Medium Contrast |
URL_List | |
Version | 6.1 |
Vibrance | -10 |
VignetteAmount | 0 |
WhiteBalance (1) | Custom |
WhiteBalance | Manual |