Felt | Verdi |
AlreadyApplied | True |
Aperture | 5.6 |
ApertureValue | 5.6 |
ApproximateFocusDistance | 90.6 |
Artist | Odd Chr. Knutsen |
AutoLateralCA | 0 |
BitsPerSample | 8 |
Blacks2012 | +4 |
BlueHue | 0 |
BlueSaturation | 0 |
By-line | Odd Chr. Knutsen |
CameraProfile | Adobe Standard |
CircleOfConfusion | 0.007 mm |
Clarity2012 | 0 |
ColorComponents | 3 |
ColorNoiseReduction | 54 |
ColorNoiseReductionDetail | 50 |
ColorTemperature | 5738 |
Contrast2012 | +38 |
ConvertToGrayscale | False |
CreateDate (1) | 2013:08:09 06:45:29.00 |
CreateDate | 2013:08:09 06:45:29 |
Creator | Odd Chr. Knutsen |
CreatorTool | Adobe Photoshop Lightroom 4.4 (Macintosh) |
CropAngle | -0.536416 |
CropBottom | 0.734584 |
CropConstrainToWarp | 0 |
CropHeight | 917 |
CropLeft | 0.296517 |
CropRight | 0.797906 |
CropTop | 0.252137 |
CropUnit | pixels |
CropWidth | 1400 |
CustomRendered | Normal |
DateCreated (1) | 2013:08:09 |
DateCreated | 2013:08:09 06:45:29.00 |
DateTimeOriginal | 2013:08:09 06:45:29 |
DefringeGreenAmount | 0 |
DefringeGreenHueHi | 60 |
DefringeGreenHueLo | 40 |
DefringePurpleAmount | 0 |
DefringePurpleHueHi | 70 |
DefringePurpleHueLo | 30 |
DOF | 2.12 m (89.55 - 91.67 m) |
Exposure2012 | -0.10 |
ExposureCompensation | +1 |
ExposureMode | Auto |
ExposureProgram | Aperture-priority AE |
ExposureTime | 1/500 |
Firmware | 1.2.1 |
Flash | Off, Did not fire |
FlashCompensation | 0 |
FNumber | 5.6 |
FocalLength | 560.0 mm |
FocalLength35efl | 560.0 mm (35 mm equivalent: 2316.4 mm) |
Format | image/jpeg |
FOV | 0.9 deg |
GrainAmount | 0 |
GreenHue | 0 |
GreenSaturation | 0 |
HasCrop | True |
HasSettings | True |
Highlights2012 | +7 |
HueAdjustmentAqua | +2 |
HueAdjustmentBlue | 0 |
HueAdjustmentGreen | -5 |
HueAdjustmentMagenta | 0 |
HueAdjustmentOrange | -37 |
HueAdjustmentPurple | 0 |
HueAdjustmentRed | -61 |
HueAdjustmentYellow | -88 |
HyperfocalDistance | 7709.44 m |
ImageHeight | 917 |
ImageNumber | 0 |
ImageSize | 1400x917 |
ImageWidth | 1400 |
ISO | 1000 |
Lens | EF200-400mm f/4L IS USM EXT |
LensID (1) | 499 |
LensID | Canon EF 200-400mm f/4L IS USM + 1.4x |
LensInfo | 280-560mm f/? |
LensManualDistortionAmount | 0 |
LensModel | EF200-400mm f/4L IS USM EXT |
LensProfileEnable | 0 |
LensProfileSetup | LensDefaults |
LensSerialNumber | 0300000230 |
LightValue | 10.6 |
LuminanceAdjustmentAqua | 0 |
LuminanceAdjustmentBlue | 0 |
LuminanceAdjustmentGreen | 0 |
LuminanceAdjustmentMagenta | 0 |
LuminanceAdjustmentOrange | 0 |
LuminanceAdjustmentPurple | 0 |
LuminanceAdjustmentRed | 0 |
LuminanceAdjustmentYellow | 0 |
LuminanceNoiseReductionContrast | 1 |
LuminanceNoiseReductionDetail | 50 |
LuminanceSmoothing | 18 |
Make | Canon |
MaxApertureValue | 5.7 |
Megapixels | 1.3 |
MeteringMode | Multi-segment |
Model | Canon EOS 5D Mark III |
ModifyDate (1) | 2013:08:12 12:31:05+02:00 |
ModifyDate | 2013:08:12 12:31:05 |
ParametricDarks | -2 |
ParametricHighlights | +25 |
ParametricHighlightSplit | 75 |
ParametricLights | +35 |
ParametricMidtoneSplit | 50 |
ParametricShadows | +17 |
ParametricShadowSplit | 25 |
PerspectiveHorizontal | 0 |
PerspectiveRotate | 0.0 |
PerspectiveScale | 100 |
PerspectiveVertical | 0 |
PostCropVignetteAmount | 0 |
ProcessVersion | 6.7 |
ProfileDescription | sRGB IEC61966-2.1 |
RecommendedExposureIndex | 1000 |
RedHue | 0 |
RedSaturation | 0 |
Saturation | -32 |
SaturationAdjustmentAqua | 0 |
SaturationAdjustmentBlue | 0 |
SaturationAdjustmentGreen | 0 |
SaturationAdjustmentMagenta | 0 |
SaturationAdjustmentOrange | 0 |
SaturationAdjustmentPurple | 0 |
SaturationAdjustmentRed | 0 |
SaturationAdjustmentYellow | 0 |
ScaleFactor35efl | 4.1 |
SceneCaptureType | Standard |
SensitivityType | Recommended Exposure Index |
SerialNumber | 023021000669 |
Shadows2012 | -23 |
ShadowTint | 0 |
SharpenDetail | 33 |
SharpenEdgeMasking | 41 |
SharpenRadius | +1.7 |
Sharpness | 97 |
ShutterSpeed | 1/500 |
ShutterSpeedValue | 1/500 |
Software | Adobe Photoshop Lightroom 4.4 (Macintosh) |
SplitToningBalance | 0 |
SplitToningHighlightHue | 0 |
SplitToningHighlightSaturation | 0 |
SplitToningShadowHue | 0 |
SplitToningShadowSaturation | 0 |
Tint | +5 |
ToneCurveName2012 | Linear |
ToneCurvePV2012 | 0, 0, 255, 255 |
ToneCurvePV2012Blue | 0, 0, 255, 255 |
ToneCurvePV2012Green | 0, 0, 255, 255 |
ToneCurvePV2012Red | 0, 0, 255, 255 |
Version | 7.4 |
Vibrance | 0 |
VignetteAmount | 0 |
WhiteBalance (1) | Custom |
WhiteBalance | Manual |
Whites2012 | 0 |