Felt | Verdi |
AlreadyApplied | True |
Aperture | 11.0 |
ApertureValue | 11.0 |
ApproximateFocusDistance | 4294967295 |
Artist | Christian Roella |
AutoLateralCA | 0 |
BitsPerSample | 8 |
Blacks2012 | -28 |
BlueHue | 0 |
BlueSaturation | 0 |
Brightness | +50 |
By-line | Christian Roella |
CameraProfile | Adobe Standard |
CircleOfConfusion | 0.031 mm |
Clarity | 0 |
Clarity2012 | +13 |
ColorComponents | 3 |
ColorMode | RGB |
ColorNoiseReduction | 25 |
ColorNoiseReductionDetail | 50 |
ColorSpace | Uncalibrated |
ColorTemperature | 5300 |
Contrast | +25 |
Contrast2012 | +35 |
ConvertToGrayscale | False |
Copyright | Copyright: Christian Roella. |
CopyrightFlag | True |
CopyrightNotice | Copyright: Christian Roella. |
CreateDate | 2013:08:03 12:58:41 |
Creator | Christian Roella |
CreatorCity | Oslo |
CreatorCountry | Norway |
CreatorTool | Adobe Photoshop Camera Raw 7.0 (Macintosh) |
CreatorWorkEmail | mr.roella@hotmail.com |
CreatorWorkTelephone | 46222818 |
CropAngle | 0 |
CropBottom | 0.71762 |
CropConstrainToWarp | 1 |
CropHeight | 7 |
CropLeft | 0.117418 |
CropRight | 0.787197 |
CropTop | 0 |
CropUnit | Unknown (3) |
CropWidth | 5 |
CustomRendered | Normal |
DateCreated (1) | 2013:08:03 |
DateCreated | 2013:08:03 12:58:41.072+02:00 |
DateTimeOriginal | 2013:08:03 12:58:41 |
Defringe | 0 |
DOF | inf (7.38 m - inf) |
ExifImageHeight | 2687 |
ExifImageWidth | 3761 |
Exposure | 0.00 |
Exposure2012 | +0.10 |
ExposureCompensation | 0 |
ExposureMode | Manual |
ExposureProgram | Manual |
ExposureTime | 1/125 |
FillLight | 0 |
Firmware | 2.1.2 |
Flash | Off, Did not fire |
FlashCompensation | 0 |
FNumber | 11.0 |
FocalLength | 50.0 mm |
FocalLength35efl | 50.0 mm (35 mm equivalent: 48.8 mm) |
Format | image/jpeg |
FOV | 40.5 deg |
GradientBasedCorrActive | true |
GradientBasedCorrAmount | 1.000000 |
GradientBasedCorrBrightness | 0.000000 |
GradientBasedCorrClarity | 0.000000 |
GradientBasedCorrClarity2012 | 0.110000 |
GradientBasedCorrContrast | 0.000000 |
GradientBasedCorrContrast2012 (1) | 0.230000 |
GradientBasedCorrContrast2012 (2) | 0.100000 |
GradientBasedCorrContrast2012 | -1.000000 |
GradientBasedCorrExposure | 0.000000 |
GradientBasedCorrExposure2012 (1) | -0.587500 |
GradientBasedCorrExposure2012 (2) | 0.337500 |
GradientBasedCorrExposure2012 | -0.087500 |
GradientBasedCorrHighlights2012 | 0.670000 |
GradientBasedCorrHue | 0.000000 |
GradientBasedCorrLuminanceNoise | 0.000000 |
GradientBasedCorrMaskFullX (1) | 0.414799 |
GradientBasedCorrMaskFullX (2) | 0.478420 |
GradientBasedCorrMaskFullX | 0.794850 |
GradientBasedCorrMaskFullY (1) | -0.002512 |
GradientBasedCorrMaskFullY (2) | 0.721031 |
GradientBasedCorrMaskFullY | 0.006699 |
GradientBasedCorrMaskValue | 1.000000 |
GradientBasedCorrMaskWhat | Mask/Gradient |
GradientBasedCorrMaskZeroX (1) | 0.413683 |
GradientBasedCorrMaskZeroX (2) | 0.508556 |
GradientBasedCorrMaskZeroX | 0.514695 |
GradientBasedCorrMaskZeroY (1) | 0.739455 |
GradientBasedCorrMaskZeroY (2) | 0.223595 |
GradientBasedCorrMaskZeroY | 0.351723 |
GradientBasedCorrMoire | 0.000000 |
GradientBasedCorrSaturation (3) | -0.290000 |
GradientBasedCorrSaturation (5) | -0.140000 |
GradientBasedCorrSaturation | 0.000000 |
GradientBasedCorrShadows2012 (1) | 0.510000 |
GradientBasedCorrShadows2012 (2) | 0.000000 |
GradientBasedCorrShadows2012 | 0.850000 |
GradientBasedCorrSharpness | 0.000000 |
GradientBasedCorrTemperature (1) | -0.140000 |
GradientBasedCorrTemperature | -0.300000 |
GradientBasedCorrTint (1) | -0.590000 |
GradientBasedCorrTint | -0.240000 |
GradientBasedCorrWhat | Correction |
GrainAmount | 0 |
GreenHue | 0 |
GreenSaturation | 0 |
HasCrop | True |
HasSettings | True |
HighlightRecovery | 0 |
Highlights2012 | -13 |
HueAdjustmentAqua | 0 |
HueAdjustmentBlue | 0 |
HueAdjustmentGreen | 0 |
HueAdjustmentMagenta | 0 |
HueAdjustmentOrange | 0 |
HueAdjustmentPurple | 0 |
HueAdjustmentRed | 0 |
HueAdjustmentYellow | 0 |
HyperfocalDistance | 7.38 m |
ICCProfileName | Adobe RGB (1998) |
ImageHeight | 2687 |
ImageNumber | 0 |
ImageSize | 3761x2687 |
ImageWidth | 3761 |
ISO | 100 |
Lens | 50mm |
LensID (1) | 169 |
LensID | Sigma 50mm f/1.4 EX DG HSM |
LensInfo | 50mm f/? |
LensManualDistortionAmount | 0 |
LensModel | 50mm |
LensProfileEnable | 0 |
LensProfileSetup | LensDefaults |
LightValue | 13.9 |
LuminanceAdjustmentAqua | +90 |
LuminanceAdjustmentBlue | -22 |
LuminanceAdjustmentGreen | +21 |
LuminanceAdjustmentMagenta | 0 |
LuminanceAdjustmentOrange | -38 |
LuminanceAdjustmentPurple | 0 |
LuminanceAdjustmentRed | +16 |
LuminanceAdjustmentYellow | +41 |
LuminanceSmoothing | 0 |
Make | Canon |
Marked | True |
MaxApertureValue | 1.4 |
Megapixels | 10.1 |
MeteringMode | Partial |
Model | Canon EOS 5D Mark II |
ModifyDate (1) | 2013:08:17 01:56:15+02:00 |
ModifyDate | 2013:08:17 01:56:15 |
Orientation | Horizontal (normal) |
OwnerName | Christian Roella |
ParametricDarks | 0 |
ParametricHighlights | 0 |
ParametricHighlightSplit | 75 |
ParametricLights | 0 |
ParametricMidtoneSplit | 50 |
ParametricShadows | 0 |
ParametricShadowSplit | 25 |
PerspectiveHorizontal | 0 |
PerspectiveRotate | 0.0 |
PerspectiveScale | 100 |
PerspectiveVertical | 0 |
PostCropVignetteAmount | 0 |
ProcessVersion | 6.7 |
ProfileDescription | Adobe RGB (1998) |
Rating | 0 |
RawFileName | _MG_9188.dng |
RedHue | 0 |
RedSaturation | 0 |
Rights | Copyright: Christian Roella. |
Saturation | -11 |
SaturationAdjustmentAqua | 0 |
SaturationAdjustmentBlue | 0 |
SaturationAdjustmentGreen | 0 |
SaturationAdjustmentMagenta | 0 |
SaturationAdjustmentOrange | 0 |
SaturationAdjustmentPurple | 0 |
SaturationAdjustmentRed | 0 |
SaturationAdjustmentYellow | 0 |
ScaleFactor35efl | 1.0 |
SceneCaptureType | Standard |
SerialNumber | 662314349 |
Shadows | 5 |
Shadows2012 | -41 |
ShadowTint | 0 |
SharpenDetail | 25 |
SharpenEdgeMasking | 0 |
SharpenRadius | +1.0 |
Sharpness | 25 |
ShutterSpeed | 1/125 |
ShutterSpeedValue | 1/125 |
Software | Adobe Photoshop CS6 (Macintosh) |
SplitToningBalance | 0 |
SplitToningHighlightHue | 237 |
SplitToningHighlightSaturation | 10 |
SplitToningShadowHue | 35 |
SplitToningShadowSaturation | 24 |
Tint | -1 |
ToneCurve | 0, 0, 32, 22, 64, 56, 128, 128, 192, 196, 255, 255 |
ToneCurveBlue | 0, 0, 255, 255 |
ToneCurveGreen | 0, 0, 255, 255 |
ToneCurveName | Medium Contrast |
ToneCurveName2012 | Custom |
ToneCurvePV2012 | 0, 0, 131, 133, 204, 228, 255, 255 |
ToneCurvePV2012Blue | 0, 0, 255, 255 |
ToneCurvePV2012Green | 0, 0, 255, 255 |
ToneCurvePV2012Red | 0, 0, 255, 255 |
ToneCurveRed | 0, 0, 255, 255 |
URL_List | |
UsageTerms | All rights reserved to creator. |
Version | 7.0 |
Vibrance | +21 |
VignetteAmount | 0 |
WhiteBalance (1) | Custom |
WhiteBalance | Auto |
Whites2012 | -40 |