Felt | Verdi |
AlreadyApplied | True |
Aperture | 5.6 |
ApertureValue | 5.6 |
ApproximateFocusDistance | 11.2 |
AutoLateralCA | 1 |
BitsPerSample | 8 |
Blacks2012 | 0 |
BlueHue | 0 |
BlueSaturation | 0 |
CameraProfile | Camera Neutral |
CFAPattern | [Red,Green][Green,Blue] |
CircleOfConfusion | 0.030 mm |
Clarity2012 | +13 |
ColorComponents | 3 |
ColorNoiseReduction | 81 |
ColorNoiseReductionDetail | 22 |
ColorTemperature | 5500 |
Contrast | Normal |
Contrast2012 | +29 |
ConvertToGrayscale | False |
CreateDate (1) | 2013:08:19 11:12:35.05 |
CreateDate | 2013:08:19 11:12:35 |
CreatorTool | Adobe Photoshop Lightroom 4.4 (Macintosh) |
CropAngle | 0 |
CropBottom | 0.927985 |
CropConstrainToWarp | 0 |
CropHeight | 1951 |
CropLeft | 0.094392 |
CropRight | 0.73854 |
CropTop | 0.238908 |
CropUnit | pixels |
CropWidth | 2741 |
CustomRendered | Normal |
DateCreated (1) | 2013:08:19 |
DateCreated | 2013:08:19 11:12:35.05 |
DateTimeOriginal | 2013:08:19 11:12:35 |
DefringeGreenAmount | 0 |
DefringeGreenHueHi | 60 |
DefringeGreenHueLo | 40 |
DefringePurpleAmount | 0 |
DefringePurpleHueHi | 70 |
DefringePurpleHueLo | 30 |
DigitalZoomRatio | 1 |
DOF | 0.11 m (11.14 - 11.26 m) |
Exposure2012 | +0.18 |
ExposureCompensation | 0 |
ExposureMode | Manual |
ExposureProgram | Manual |
ExposureTime | 1/1250 |
Flash | No Flash |
FNumber | 5.6 |
FocalLength | 600.0 mm |
FocalLength35efl | 600.0 mm (35 mm equivalent: 600.0 mm) |
FocalLengthIn35mmFormat | 600 mm |
Format | image/jpeg |
FOV | 3.4 deg |
GainControl | High gain up |
GradientBasedCorrActive | true |
GradientBasedCorrAmount | 1.000000 |
GradientBasedCorrBrightness | 0.320225 |
GradientBasedCorrClarity2012 | 0.258427 |
GradientBasedCorrContrast2012 | 0.000088 |
GradientBasedCorrDefringe | 0.000000 |
GradientBasedCorrExposure2012 | -0.022647 |
GradientBasedCorrHighlights2012 | 0.001141 |
GradientBasedCorrHue | 233.000000 |
GradientBasedCorrLuminanceNoise | -0.011236 |
GradientBasedCorrMaskFullX | 0.517278 |
GradientBasedCorrMaskFullY | 0.656889 |
GradientBasedCorrMaskValue | 1.000000 |
GradientBasedCorrMaskWhat | Mask/Gradient |
GradientBasedCorrMaskZeroX | 0.500486 |
GradientBasedCorrMaskZeroY | 0.358049 |
GradientBasedCorrMoire | -0.005442 |
GradientBasedCorrSaturation (1) | 0.258427 |
GradientBasedCorrSaturation | 0.000000 |
GradientBasedCorrShadows2012 | -0.013518 |
GradientBasedCorrSharpness | -0.011236 |
GradientBasedCorrTemperature | -0.055302 |
GradientBasedCorrTint | -0.011236 |
GradientBasedCorrWhat | Correction |
GrainAmount | 0 |
GreenHue | 0 |
GreenSaturation | 0 |
HasCrop | True |
HasSettings | True |
Highlights2012 | -60 |
HueAdjustmentAqua | 0 |
HueAdjustmentBlue | 0 |
HueAdjustmentGreen | 0 |
HueAdjustmentMagenta | 0 |
HueAdjustmentOrange | 0 |
HueAdjustmentPurple | 0 |
HueAdjustmentRed | 0 |
HueAdjustmentYellow | 0 |
HyperfocalDistance | 2139.56 m |
ImageHeight | 1951 |
ImageNumber | 80794 |
ImageSize | 2741x1951 |
ImageWidth | 2741 |
ISO | 1000 |
Lens | 120.0-300.0 mm f/2.8 |
LensID (1) | 141 |
LensID | Sigma 120-300mm F2.8 DG OS HSM Sports |
LensInfo | 120-300mm f/2.8 |
LensManualDistortionAmount | 0 |
LensModel | 120.0-300.0 mm f/2.8 |
LensProfileEnable | 1 |
LensProfileSetup | LensDefaults |
LightSource | Fine Weather |
LightValue | 11.9 |
LuminanceAdjustmentAqua | 0 |
LuminanceAdjustmentBlue | 0 |
LuminanceAdjustmentGreen | 0 |
LuminanceAdjustmentMagenta | 0 |
LuminanceAdjustmentOrange | 0 |
LuminanceAdjustmentPurple | 0 |
LuminanceAdjustmentRed | 0 |
LuminanceAdjustmentYellow | 0 |
LuminanceNoiseReductionContrast | 28 |
LuminanceNoiseReductionDetail | 50 |
LuminanceSmoothing | 28 |
Make | NIKON CORPORATION |
MaxApertureValue | 5.7 |
Megapixels | 5.3 |
MeteringMode | Multi-segment |
Model | NIKON D3S |
ModifyDate (1) | 2013:08:20 14:22:47+02:00 |
ModifyDate | 2013:08:20 14:22:47 |
PaintCorrectionActive | true |
PaintCorrectionAmount | 1.000000 |
PaintCorrectionBrightness | 0.320225 |
PaintCorrectionClarity2012 (2) | 0.820225 |
PaintCorrectionClarity2012 | 0.056180 |
PaintCorrectionContrast2012 (2) | 0.000088 |
PaintCorrectionContrast2012 | 0.235955 |
PaintCorrectionDefringe | 0.000000 |
PaintCorrectionExposure2012 | -0.022647 |
PaintCorrectionHighlights2012 (5) | 0.001141 |
PaintCorrectionHighlights2012 | -0.303371 |
PaintCorrectionHue | 233.000000 |
PaintCorrectionLuminanceNoise | -0.011236 |
PaintCorrectionMaskCenterWeight | 0.244765 |
PaintCorrectionMaskFlow | 1.000000 |
PaintCorrectionMaskRadius (1) | 0.044891 |
PaintCorrectionMaskRadius (23) | 0.021527 |
PaintCorrectionMaskRadius (51) | 0.005991 |
PaintCorrectionMaskRadius (74) | 0.028949 |
PaintCorrectionMaskRadius | 0.070041 |
PaintCorrectionMaskValue | 0.890110 |
PaintCorrectionMaskWhat | Mask/Paint |
PaintCorrectionMoire | -0.005442 |
PaintCorrectionSaturation (1) | 0.257812 |
PaintCorrectionSaturation (5) | 0.033708 |
PaintCorrectionSaturation (7) | -0.146067 |
PaintCorrectionSaturation (9) | -0.071454 |
PaintCorrectionSaturation | 0.000000 |
PaintCorrectionShadows2012 (1) | 0.595506 |
PaintCorrectionShadows2012 (3) | -0.013518 |
PaintCorrectionShadows2012 | 0.393258 |
PaintCorrectionSharpness (1) | 0.280899 |
PaintCorrectionSharpness (2) | 0.550562 |
PaintCorrectionSharpness | -0.011236 |
PaintCorrectionTemperature (1) | -0.004126 |
PaintCorrectionTemperature (4) | 0.120962 |
PaintCorrectionTemperature (5) | -0.055302 |
PaintCorrectionTemperature | 0.067328 |
PaintCorrectionTint | -0.011236 |
PaintCorrectionWhat | Correction |
ParametricDarks | +8 |
ParametricHighlights | -15 |
ParametricHighlightSplit | 75 |
ParametricLights | +7 |
ParametricMidtoneSplit | 50 |
ParametricShadows | +37 |
ParametricShadowSplit | 25 |
PerspectiveHorizontal | 0 |
PerspectiveRotate | 0.0 |
PerspectiveScale | 100 |
PerspectiveVertical | 0 |
PostCropVignetteAmount | 0 |
ProcessVersion | 6.7 |
ProfileDescription | sRGB IEC61966-2.1 |
Rating | 5 |
RedHue | 0 |
RedSaturation | 0 |
Saturation (1) | +7 |
Saturation | Normal |
SaturationAdjustmentAqua | 0 |
SaturationAdjustmentBlue | 0 |
SaturationAdjustmentGreen | 0 |
SaturationAdjustmentMagenta | 0 |
SaturationAdjustmentOrange | 0 |
SaturationAdjustmentPurple | 0 |
SaturationAdjustmentRed | 0 |
SaturationAdjustmentYellow | 0 |
ScaleFactor35efl | 1.0 |
SceneCaptureType | Standard |
SceneType | Directly photographed |
SensingMethod | One-chip color area |
SerialNumber | 2058033 |
Shadows2012 | +87 |
ShadowTint | 0 |
SharpenDetail | 37 |
SharpenEdgeMasking | 21 |
SharpenRadius | +1.4 |
Sharpness (1) | 52 |
Sharpness | Normal |
ShutterSpeed | 1/1250 |
ShutterSpeedValue | 1/1250 |
Software | Adobe Photoshop Lightroom 4.4 (Macintosh) |
SplitToningBalance | 0 |
SplitToningHighlightHue | 0 |
SplitToningHighlightSaturation | 0 |
SplitToningShadowHue | 0 |
SplitToningShadowSaturation | 0 |
SubjectDistanceRange | Unknown |
Tint | +10 |
ToneCurveName2012 | Linear |
ToneCurvePV2012 | 0, 0, 255, 255 |
ToneCurvePV2012Blue | 0, 0, 255, 255 |
ToneCurvePV2012Green | 0, 0, 255, 255 |
ToneCurvePV2012Red | 0, 0, 255, 255 |
Version | 7.4 |
Vibrance | 0 |
VignetteAmount | 0 |
WhiteBalance (1) | Daylight |
WhiteBalance | Manual |
Whites2012 | 0 |