Felt | Verdi |
AlreadyApplied | True |
Aperture | 3.2 |
ApertureValue | 3.2 |
ApproximateFocusDistance | 4294967295 |
Artist | Jon H Laake |
AutoLateralCA | 1 |
BitsPerSample | 8 |
Blacks2012 | +80 |
BlueHue | 0 |
BlueSaturation | 0 |
By-line | Jon H Laake |
CameraProfile | Camera Standard |
CFAPattern | [Red,Green][Green,Blue] |
CircleOfConfusion | 0.030 mm |
Clarity2012 | +15 |
ColorComponents | 3 |
ColorNoiseReduction | 25 |
ColorNoiseReductionDetail | 50 |
ColorTemperature | 7500 |
Contrast | Normal |
Contrast2012 | +75 |
ConvertToGrayscale | False |
Copyright | Jon Henrik Laake |
CopyrightNotice | Jon Henrik Laake |
CreateDate (1) | 2013:08:22 20:36:41.00 |
CreateDate | 2013:08:22 20:36:41 |
Creator | Jon H Laake |
CreatorTool | Adobe Photoshop Lightroom 5.0 (Macintosh) |
CropAngle | 0 |
CropBottom | 0.873265 |
CropConstrainToWarp | 1 |
CropLeft | 0.039044 |
CropRight | 0.832417 |
CropTop | 0.079973 |
CustomRendered | Normal |
DateCreated (1) | 2013:08:22 |
DateCreated | 2013:08:22 20:36:41.00 |
DateTimeOriginal | 2013:08:22 20:36:41 |
DefringeGreenAmount | 15 |
DefringeGreenHueHi | 81 |
DefringeGreenHueLo | 67 |
DefringePurpleAmount | 17 |
DefringePurpleHueHi | 85 |
DefringePurpleHueLo | 64 |
DigitalZoomRatio | 1 |
DOF | inf (75.14 m - inf) |
Exposure2012 | -0.75 |
ExposureCompensation | 0 |
ExposureMode | Auto |
ExposureProgram | Aperture-priority AE |
ExposureTime | 1/60 |
Flash | Off, Did not fire |
FNumber | 3.2 |
FocalLength | 85.0 mm |
FocalLength35efl | 85.0 mm (35 mm equivalent: 85.0 mm) |
FocalLengthIn35mmFormat | 85 mm |
Format | image/jpeg |
FOV | 23.9 deg |
GainControl | None |
GradientBasedCorrActive | true |
GradientBasedCorrAmount | 1.000000 |
GradientBasedCorrBrightness | 0.000000 |
GradientBasedCorrClarity2012 (1) | 0.350000 |
GradientBasedCorrClarity2012 | 0.200000 |
GradientBasedCorrContrast2012 (1) | 0.400000 |
GradientBasedCorrContrast2012 | 0.300000 |
GradientBasedCorrDefringe | 0.000000 |
GradientBasedCorrExposure2012 (1) | -0.050000 |
GradientBasedCorrExposure2012 | 0.184559 |
GradientBasedCorrHighlights2012 (1) | 0.351375 |
GradientBasedCorrHighlights2012 | 0.000000 |
GradientBasedCorrHue | 240.000000 |
GradientBasedCorrLuminanceNoise | 0.000000 |
GradientBasedCorrMaskFullX (1) | 0.472840 |
GradientBasedCorrMaskFullX | 0.691647 |
GradientBasedCorrMaskFullY (1) | 0.352402 |
GradientBasedCorrMaskFullY | 0.528462 |
GradientBasedCorrMaskValue | 1.000000 |
GradientBasedCorrMaskWhat | Mask/Gradient |
GradientBasedCorrMaskZeroX (1) | 0.674761 |
GradientBasedCorrMaskZeroX | 0.464226 |
GradientBasedCorrMaskZeroY (1) | 0.351235 |
GradientBasedCorrMaskZeroY | 0.528454 |
GradientBasedCorrMoire | 0.000000 |
GradientBasedCorrSaturation (1) | 0.198558 |
GradientBasedCorrSaturation (3) | 0.300000 |
GradientBasedCorrSaturation | 0.000000 |
GradientBasedCorrShadows2012 (1) | -0.104708 |
GradientBasedCorrShadows2012 | 0.000000 |
GradientBasedCorrSharpness (1) | 0.103250 |
GradientBasedCorrSharpness | 0.000000 |
GradientBasedCorrTemperature | 0.000000 |
GradientBasedCorrTint | 0.000000 |
GradientBasedCorrWhat | Correction |
GrainAmount | 0 |
GreenHue | 0 |
GreenSaturation | 0 |
HasCrop | True |
HasSettings | True |
Highlights2012 | -80 |
HueAdjustmentAqua | 0 |
HueAdjustmentBlue | 0 |
HueAdjustmentGreen | 0 |
HueAdjustmentMagenta | 0 |
HueAdjustmentOrange | 0 |
HueAdjustmentPurple | 0 |
HueAdjustmentRed | 0 |
HueAdjustmentYellow | 0 |
HyperfocalDistance | 75.14 m |
ImageHeight | 5838 |
ImageNumber | 8460 |
ImageSize | 3896x5838 |
ImageWidth | 3896 |
ISO | 360 |
Lens | 85.0 mm f/1.4 |
LensID (1) | 155 |
LensID | Sigma 85mm F1.4 EX DG HSM |
LensInfo | 85mm f/1.4 |
LensManualDistortionAmount | 0 |
LensModel | 85.0 mm f/1.4 |
LensProfileChromaticAberrationScale | 100 |
LensProfileDistortionScale | 100 |
LensProfileEnable | 1 |
LensProfileFilename | NIKON CORPORATION (SIGMA 85mm F1.4 EX DG HSM) - RAW.lcp |
LensProfileName | Adobe (SIGMA 85mm F1.4 EX DG HSM, NIKON CORPORATION) |
LensProfileSetup | LensDefaults |
LensProfileVignettingScale | 100 |
LightSource | Unknown |
LightValue | 7.4 |
LuminanceAdjustmentAqua | 0 |
LuminanceAdjustmentBlue | 0 |
LuminanceAdjustmentGreen | 0 |
LuminanceAdjustmentMagenta | 0 |
LuminanceAdjustmentOrange | 0 |
LuminanceAdjustmentPurple | 0 |
LuminanceAdjustmentRed | 0 |
LuminanceAdjustmentYellow | 0 |
LuminanceNoiseReductionContrast | 0 |
LuminanceNoiseReductionDetail | 50 |
LuminanceSmoothing | 20 |
Make | NIKON CORPORATION |
MaxApertureValue | 1.4 |
Megapixels | 22.7 |
MeteringMode | Center-weighted average |
Model | NIKON D800E |
ModifyDate (1) | 2013:09:02 12:31:39+02:00 |
ModifyDate | 2013:09:02 12:31:39 |
ParametricDarks | 0 |
ParametricHighlights | 0 |
ParametricHighlightSplit | 75 |
ParametricLights | 0 |
ParametricMidtoneSplit | 50 |
ParametricShadows | 0 |
ParametricShadowSplit | 25 |
PerspectiveAspect | 0 |
PerspectiveHorizontal | 0 |
PerspectiveRotate | 0.0 |
PerspectiveScale | 100 |
PerspectiveUpright | 0 |
PerspectiveVertical | 0 |
PostCropVignetteAmount | 0 |
ProcessVersion | 6.7 |
ProfileDescription | ProPhoto RGB |
RedHue | 0 |
RedSaturation | 0 |
Rights | Jon Henrik Laake |
Saturation (1) | 0 |
Saturation | Normal |
SaturationAdjustmentAqua | 0 |
SaturationAdjustmentBlue | 0 |
SaturationAdjustmentGreen | 0 |
SaturationAdjustmentMagenta | 0 |
SaturationAdjustmentOrange | 0 |
SaturationAdjustmentPurple | 0 |
SaturationAdjustmentRed | 0 |
SaturationAdjustmentYellow | 0 |
ScaleFactor35efl | 1.0 |
SceneCaptureType | Standard |
SceneType | Directly photographed |
SensingMethod | One-chip color area |
SensitivityType | Recommended Exposure Index |
SerialNumber | 6008962 |
Shadows2012 | +80 |
ShadowTint | 0 |
SharpenDetail | 10 |
SharpenEdgeMasking | 30 |
SharpenRadius | +1.5 |
Sharpness (1) | 70 |
Sharpness | Normal |
ShutterSpeed | 1/60 |
ShutterSpeedValue | 1/60 |
Software | Adobe Photoshop Lightroom 5.0 (Macintosh) |
SplitToningBalance | 0 |
SplitToningHighlightHue | 0 |
SplitToningHighlightSaturation | 0 |
SplitToningShadowHue | 0 |
SplitToningShadowSaturation | 0 |
SubjectDistanceRange | Unknown |
Tint | 0 |
ToneCurveName2012 | Custom |
ToneCurvePV2012 | 0, 0, 38, 29, 96, 96, 160, 174, 223, 232, 255, 255 |
ToneCurvePV2012Blue | 0, 0, 255, 255 |
ToneCurvePV2012Green | 0, 0, 255, 255 |
ToneCurvePV2012Red | 0, 0, 255, 255 |
Version | 8.1 |
Vibrance | 0 |
VignetteAmount | +30 |
VignetteMidpoint | 30 |
WhiteBalance | Auto |
Whites2012 | -80 |