Felt | Verdi |
AlreadyApplied | True |
Aperture | 8.0 |
ApertureValue | 8.0 |
AutoLateralCA | 0 |
BitsPerSample | 8 |
Blacks2012 | 0 |
BlueHue | 0 |
BlueSaturation | 0 |
CameraProfile | Embedded |
CircleOfConfusion | 0.005 mm |
Clarity2012 | 0 |
ColorComponents | 1 |
ColorMode | RGB |
ColorNoiseReduction | 22 |
ColorNoiseReductionDetail | 50 |
ColorSpace | sRGB |
Contrast2012 | +65 |
ConvertToGrayscale | True |
CreateDate | 2013:07:02 01:14:37 |
CreatorTool | Adobe Photoshop Lightroom 5.0 (Windows) |
CropAngle | 0 |
CropBottom | 0.960317 |
CropConstrainToWarp | 0 |
CropLeft | 0.059859 |
CropRight | 1 |
CropTop | 0.111111 |
CustomRendered | Normal |
DateCreated | 2013:07:02 |
DateTimeOriginal (1) | 2013:07:02 01:14:37+02:00 |
DateTimeOriginal | 2013:07:02 01:14:37 |
DigitalZoomRatio | 1 |
ExifImageHeight | 3397 |
ExifImageWidth | 2634 |
Exposure2012 | 0.00 |
ExposureCompensation | 0 |
ExposureMode | Manual |
ExposureTime | 1/800 |
Flash | Off, Did not fire |
FlashFired | False |
FlashFunction | False |
FlashMode | Off |
FlashRedEyeMode | False |
FlashReturn | No return detection |
FNumber | 8.0 |
FocalLength | 7.8 mm |
FocalLength35efl | 7.8 mm (35 mm equivalent: 43.4 mm) |
Format | image/jpeg |
FOV | 45.1 deg |
GrainAmount | 0 |
GrayMixerAqua | -19 |
GrayMixerBlue | +30 |
GrayMixerGreen | +9 |
GrayMixerMagenta | +4 |
GrayMixerOrange | -18 |
GrayMixerPurple | +15 |
GrayMixerRed | +12 |
GrayMixerYellow | +6 |
GreenHue | 0 |
GreenSaturation | 0 |
HasCrop | True |
HasSettings | True |
Highlights2012 | 0 |
HyperfocalDistance | 1.40 m |
ICCProfileName | sRGB IEC61966-2.1 |
ImageHeight | 3397 |
ImageSize | 2634x3397 |
ImageWidth | 2634 |
IncrementalTemperature | 0 |
IncrementalTint | 0 |
ISO | 100 |
LensManualDistortionAmount | 0 |
LensProfileEnable | 0 |
LensProfileSetup | LensDefaults |
LightValue | 15.6 |
LuminanceNoiseReductionContrast | 29 |
LuminanceNoiseReductionDetail | 73 |
LuminanceSmoothing | 24 |
Make | Canon |
MaxApertureValue | 4.0 |
Megapixels | 8.9 |
MeteringMode | Center-weighted average |
Model | Canon PowerShot SX240 HS |
ModifyDate (1) | 2013:09:03 19:42:06+02:00 |
ModifyDate | 2013:09:03 19:42:06 |
Orientation | Horizontal (normal) |
ParametricDarks | -4 |
ParametricHighlights | -41 |
ParametricHighlightSplit | 75 |
ParametricLights | 0 |
ParametricMidtoneSplit | 50 |
ParametricShadows | -9 |
ParametricShadowSplit | 25 |
PerspectiveAspect | 0 |
PerspectiveHorizontal | 0 |
PerspectiveRotate | 0.0 |
PerspectiveScale | 100 |
PerspectiveUpright | 0 |
PerspectiveVertical | 0 |
PostCropVignetteAmount | 0 |
ProcessVersion | 6.7 |
ProfileDescription | sRGB IEC61966-2.1 |
RedHue | 0 |
RedSaturation | 0 |
ScaleFactor35efl | 5.6 |
SceneCaptureType | Standard |
SensingMethod | One-chip color area |
SensitivityType | Standard Output Sensitivity and Recommended Exposure Index |
Shadows2012 | 0 |
ShadowTint | 0 |
SharpenDetail | 25 |
SharpenEdgeMasking | 0 |
SharpenRadius | +1.0 |
Sharpness | 52 |
ShutterSpeed | 1/800 |
ShutterSpeedValue | 1/800 |
Software | Adobe Photoshop Elements 10.0 Windows |
SplitToningBalance | -59 |
SplitToningHighlightHue | 56 |
SplitToningHighlightSaturation | 0 |
SplitToningShadowHue | 0 |
SplitToningShadowSaturation | 0 |
ToneCurveName2012 | Linear |
ToneCurvePV2012 | 0, 0, 255, 255 |
ToneCurvePV2012Blue | 0, 0, 255, 255 |
ToneCurvePV2012Green | 0, 0, 255, 255 |
ToneCurvePV2012Red | 0, 0, 255, 255 |
URL_List | |
Version | 8.1 |
VignetteAmount | 0 |
WhiteBalance (1) | As Shot |
WhiteBalance | Manual |
Whites2012 | 0 |