Felt | Verdi |
AlreadyApplied | True |
Aperture | 2.8 |
ApertureValue | 2.8 |
ApproximateFocusDistance | 29.2 |
Around him people rush from A to B, suddenly disappears all people and he stands there for a few seconds to himself, he eats his lunch at a crossroads, where after he disappears in the crowds. |
Artist | Tommy Johansen |
As he reaches the crossing he stops, he enjoys the meal and the surroundings.
AutoLateralCA | 0 |
BitsPerSample | 8 |
Blacks2012 | -10 |
BlueHue | 0 |
BlueSaturation | 0 |
Brightness | +50 |
By-line | Tommy Johansen |
CameraProfile | Adobe Standard |
Caption-Abstract | A man approaches a crossing, immersed in a meal on the run.
CircleOfConfusion | 0.031 mm |
Clarity | 0 |
Clarity2012 | +80 |
ColorComponents | 1 |
ColorMode | Grayscale |
ColorNoiseReduction | 25 |
ColorNoiseReductionDetail | 50 |
ColorSpace | Uncalibrated |
ColorTemperature | 4750 |
Contrast | +25 |
Contrast2012 | -17 |
ConvertToGrayscale | True |
Copyright | All right reserved Tommy Johansen Aka Grayscale foto |
CopyrightFlag | True |
CopyrightNotice | All right reserved Tommy Johansen Aka Grayscale foto |
CreateDate | 2013:08:29 14:39:56 |
Creator | Tommy Johansen |
CropAngle | 0 |
CropBottom | 0.793187 |
CropConstrainToWarp | 1 |
CropHeight | 16 |
CropLeft | 0.22141 |
CropRight | 1 |
CropTop | 0.136252 |
CropUnit | Unknown (3) |
CropWidth | 9 |
CustomRendered | Normal |
DateCreated (1) | 2013:08:29 |
DateCreated | 2013:08:29 14:39:56.083 |
DateTimeOriginal | 2013:08:29 14:39:56 |
Defringe | 0 |
Description | A man approaches a crossing, immersed in a meal on the run.
DOF | 3.66 m (27.48 - 31.15 m) |
ExifImageHeight | 2460 |
ExifImageWidth | 4373 |
Exposure | 0.00 |
Exposure2012 | +0.55 |
ExposureCompensation | 0 |
ExposureMode | Auto |
ExposureProgram | Shutter speed priority AE |
ExposureTime | 1/640 |
FillLight | 0 |
Firmware | 2.1.2 |
Flash | Off, Did not fire |
FlashCompensation | 0 |
FNumber | 2.8 |
FocalLength | 200.0 mm |
FocalLength35efl | 200.0 mm (35 mm equivalent: 195.2 mm) |
Format | image/jpeg |
FOV | 10.5 deg |
GrainAmount | 0 |
GrayMixerAqua | -18 |
GrayMixerBlue | +9 |
GrayMixerGreen | -26 |
GrayMixerMagenta | +4 |
GrayMixerOrange | -18 |
GrayMixerPurple | +15 |
GrayMixerRed | -9 |
GrayMixerYellow | -22 |
GreenHue | 0 |
GreenSaturation | 0 |
HasCrop | True |
HasSettings | True |
he has no hurry to catch anything, just enjoying the meal and the city.
HighlightRecovery | 0 |
Highlights2012 | -23 |
HyperfocalDistance | 464.02 m |
ICCProfileName | Gray Gamma 2.2 |
ImageDescription | A man approaches a crossing, immersed in a meal on the run.
ImageHeight | 2460 |
ImageNumber | 0 |
ImageSize | 4373x2460 |
ImageWidth | 4373 |
ISO | 100 |
Keywords | Streatphoto, Blackandwhite, Canon, Bergen |
Lens | 70-200mm |
LensID (1) | 174 |
LensID | Sigma 70-200mm f/2.8 EX DG APO OS HSM |
LensInfo | 70-200mm f/? |
LensManualDistortionAmount | 0 |
LensModel | 70-200mm |
LensProfileEnable | 0 |
LensProfileSetup | LensDefaults |
LightValue | 12.3 |
LuminanceSmoothing | 0 |
Make | Canon |
Marked | True |
MaxApertureValue | 2.8 |
Megapixels | 10.8 |
MeteringMode | Multi-segment |
Model | Canon EOS 5D Mark II |
ModifyDate (1) | 2013:09:05 13:16:10+02:00 |
ModifyDate | 2013:09:05 13:16:10 |
ObjectName | lunch at a crossroad |
Orientation | Horizontal (normal) |
OwnerName | Tommy Johansen |
ParametricDarks | 0 |
ParametricHighlights | 0 |
ParametricHighlightSplit | 75 |
ParametricLights | 0 |
ParametricMidtoneSplit | 50 |
ParametricShadows | 0 |
ParametricShadowSplit | 25 |
PerspectiveHorizontal | 0 |
PerspectiveRotate | 0.0 |
PerspectiveScale | 100 |
PerspectiveVertical | 0 |
PostCropVignetteAmount | 0 |
ProcessVersion | 6.7 |
ProfileDescription | Gray Gamma 2.2 |
Rating | 0 |
RawFileName | IMG_5526.CR2 |
RedHue | 0 |
RedSaturation | 0 |
Rights | All right reserved Tommy Johansen Aka Grayscale foto |
ScaleFactor35efl | 1.0 |
SceneCaptureType | Standard |
SerialNumber | 1721002101 |
Shadows | 5 |
Shadows2012 | +23 |
ShadowTint | 0 |
SharpenDetail | 25 |
SharpenEdgeMasking | 0 |
SharpenRadius | +1.0 |
Sharpness | 25 |
ShutterSpeed | 1/640 |
ShutterSpeedValue | 1/640 |
Software | Adobe Photoshop CS6 (Windows) |
SplitToningBalance | 0 |
SplitToningHighlightHue | 0 |
SplitToningHighlightSaturation | 0 |
SplitToningShadowHue | 0 |
SplitToningShadowSaturation | 0 |
Subject | Streatphoto, Blackandwhite, Canon, Bergen |
Tint | +4 |
Title | lunch at a crossroad |
ToneCurve | 0, 0, 32, 22, 64, 56, 128, 128, 192, 196, 255, 255 |
ToneCurveBlue | 0, 0, 255, 255 |
ToneCurveGreen | 0, 0, 255, 255 |
ToneCurveName | Medium Contrast |
ToneCurveName2012 | Linear |
ToneCurvePV2012 | 0, 0, 255, 255 |
ToneCurvePV2012Blue | 0, 0, 255, 255 |
ToneCurvePV2012Green | 0, 0, 255, 255 |
ToneCurvePV2012Red | 0, 0, 255, 255 |
ToneCurveRed | 0, 0, 255, 255 |
URL_List | |
Version | 7.0 |
VignetteAmount | 0 |
WhiteBalance (1) | As Shot |
WhiteBalance | Auto |
Whites2012 | +36 |