Felt | Verdi |
AlreadyApplied | True |
Aperture | 4.5 |
ApertureValue | 4.5 |
AutoLateralCA | 0 |
BitsPerSample | 8 |
Blacks2012 | 0 |
BlueHue | 0 |
BlueSaturation | 0 |
CameraProfile | Embedded |
CircleOfConfusion | 0.005 mm |
Clarity2012 | 0 |
ColorComponents | 1 |
ColorNoiseReduction | 11 |
ColorNoiseReductionDetail | 24 |
Contrast2012 | +92 |
ConvertToGrayscale | True |
CreateDate | 2013:08:23 06:40:11 |
CreatorTool | Adobe Photoshop Lightroom 5.0 (Windows) |
CropAngle | -0.591969 |
CropBottom | 0.889886 |
CropConstrainToWarp | 0 |
CropLeft | 0.106365 |
CropRight | 0.998629 |
CropTop | 0.039644 |
CustomRendered | Normal |
DateCreated (1) | 2013:08:23 |
DateCreated | 2013:08:23 06:40:11 |
DateTimeOriginal | 2013:08:23 06:40:11 |
DigitalZoomRatio | 1 |
Exposure2012 | +0.53 |
ExposureCompensation | 0 |
ExposureMode | Manual |
ExposureTime | 1/20 |
Flash | Off, Did not fire |
FNumber | 4.5 |
FocalLength | 10.9 mm |
FocalLength35efl | 10.9 mm (35 mm equivalent: 60.8 mm) |
Format | image/jpeg |
FOV | 33.0 deg |
GrainAmount | 0 |
GrayMixerAqua | -18 |
GrayMixerBlue | +3 |
GrayMixerGreen | -26 |
GrayMixerMagenta | 0 |
GrayMixerOrange | -18 |
GrayMixerPurple | +14 |
GrayMixerRed | -50 |
GrayMixerYellow | -14 |
GreenHue | 0 |
GreenSaturation | 0 |
HasCrop | True |
HasSettings | True |
Highlights2012 | 0 |
HyperfocalDistance | 4.89 m |
ImageHeight | 3428 |
ImageSize | 2641x3428 |
ImageWidth | 2641 |
IncrementalTemperature | -22 |
IncrementalTint | -1 |
ISO | 400 |
LensManualDistortionAmount | 0 |
LensProfileEnable | 0 |
LensProfileSetup | LensDefaults |
LightValue | 6.7 |
LuminanceNoiseReductionContrast | 28 |
LuminanceNoiseReductionDetail | 50 |
LuminanceSmoothing | 15 |
Make | Canon |
MaxApertureValue | 4.5 |
Megapixels | 9.1 |
MeteringMode | Multi-segment |
Model | Canon PowerShot SX240 HS |
ModifyDate (1) | 2013:09:07 06:50:43+02:00 |
ModifyDate | 2013:09:07 06:50:43 |
ParametricDarks | +10 |
ParametricHighlights | -32 |
ParametricHighlightSplit | 75 |
ParametricLights | +24 |
ParametricMidtoneSplit | 50 |
ParametricShadows | +53 |
ParametricShadowSplit | 25 |
PerspectiveAspect | 0 |
PerspectiveHorizontal | 0 |
PerspectiveRotate | 0.0 |
PerspectiveScale | 100 |
PerspectiveUpright | 0 |
PerspectiveVertical | 0 |
PostCropVignetteAmount | 0 |
ProcessVersion | 6.7 |
ProfileDescription | sRGB IEC61966-2.1 |
RedHue | 0 |
RedSaturation | 0 |
ScaleFactor35efl | 5.6 |
SceneCaptureType | Standard |
SensingMethod | One-chip color area |
SensitivityType | Standard Output Sensitivity and Recommended Exposure Index |
Shadows2012 | 0 |
ShadowTint | 0 |
SharpenDetail | 57 |
SharpenEdgeMasking | 31 |
SharpenRadius | +0.6 |
Sharpness | 25 |
ShutterSpeed | 1/20 |
ShutterSpeedValue | 1/20 |
Software | Adobe Photoshop Lightroom 5.0 (Windows) |
SplitToningBalance | 0 |
SplitToningHighlightHue | 0 |
SplitToningHighlightSaturation | 0 |
SplitToningShadowHue | 0 |
SplitToningShadowSaturation | 0 |
ToneCurveName2012 | Linear |
ToneCurvePV2012 | 0, 0, 255, 255 |
ToneCurvePV2012Blue | 0, 0, 255, 255 |
ToneCurvePV2012Green | 0, 0, 255, 255 |
ToneCurvePV2012Red | 0, 0, 255, 255 |
Version | 8.1 |
VignetteAmount | 0 |
WhiteBalance (1) | Custom |
WhiteBalance | Manual |
Whites2012 | 0 |