Felt | Verdi |
AlreadyApplied | True |
Aperture | 1.6 |
ApertureValue | 1.6 |
Artist | Tommy Johansen |
AutoLateralCA | 1 |
BitsPerSample | 8 |
Blacks2012 | +37 |
BlueHue | 0 |
BlueSaturation | 0 |
Brightness | 0 |
By-line | Tommy Johansen |
CameraProfile | Embedded |
Caption-Abstract | this is a 4 frame melt of the Milky Way taken 50 m from where i live in Lofoten Islands |
CircleOfConfusion | 0.027 mm |
Clarity | 0 |
Clarity2012 | -100 |
ColorComponents | 3 |
ColorMode | RGB |
ColorNoiseReduction | 100 |
ColorNoiseReductionDetail | 50 |
ColorSpace | Uncalibrated |
Contrast (1) | 0 |
Contrast | Low |
Contrast2012 | +100 |
ConvertToGrayscale | False |
Copyright | All right reserved Tommy Johansen Aka Grayscale foto |
CopyrightFlag | True |
CopyrightNotice | All right reserved Tommy Johansen Aka Grayscale foto |
CreateDate | 2013:09:08 01:11:48 |
Creator | Tommy Johansen |
CreatorTool | SNS-HDR Pro v1.4.22 |
CustomRendered | Normal |
DateCreated (1) | 2013:09:08 |
DateCreated | 2013:09:08 01:11:48 |
DateTimeOriginal | 2013:09:08 01:11:48 |
Defringe | 0 |
Description | this is a 4 frame melt of the Milky Way taken 50 m from where i live in Lofoten Islands |
ExifImageHeight | 4679 |
ExifImageWidth | 3679 |
Exposure | 0.00 |
Exposure2012 | 0.00 |
ExposureCompensation | 0 |
ExposureMode | Manual |
ExposureProgram | Manual |
ExposureTime | 10 |
FillLight | 0 |
Flash | Off, Did not fire |
FNumber | 1.6 |
FocalLength | 50.0 mm |
FocalLength35efl | 50.0 mm (35 mm equivalent: 55.6 mm) |
Format | image/jpeg |
FOV | 35.9 deg |
GrainAmount | 0 |
GreenHue | 0 |
GreenSaturation | 0 |
HasCrop | False |
HasSettings | True |
HighlightRecovery | 0 |
Highlights2012 | +63 |
HueAdjustmentAqua | 0 |
HueAdjustmentBlue | 0 |
HueAdjustmentGreen | 0 |
HueAdjustmentMagenta | 0 |
HueAdjustmentOrange | 0 |
HueAdjustmentPurple | 0 |
HueAdjustmentRed | 0 |
HueAdjustmentYellow | 0 |
HyperfocalDistance | 57.82 m |
ICCProfileName | Adobe RGB (1998) |
ImageDescription | this is a 4 frame melt of the Milky Way taken 50 m from where i live in Lofoten Islands |
ImageHeight | 4679 |
ImageSize | 3679x4679 |
ImageWidth | 3679 |
IncrementalTemperature | 0 |
IncrementalTint | 0 |
ISO | 6400 |
Lens | 50mm |
LensManualDistortionAmount | 0 |
LensModel | 50mm |
LensProfileChromaticAberrationScale | 100 |
LensProfileDistortionScale | 100 |
LensProfileEnable | 1 |
LensProfileFilename | Canon EOS-1Ds Mark III (Canon EF 24-105mm f4 L IS USM).lcp |
LensProfileName | Adobe (Canon EF 24-105mm f/4 L IS USM) |
LensProfileSetup | Custom |
LensProfileVignettingScale | 100 |
LightValue | -8.0 |
LuminanceAdjustmentAqua | 0 |
LuminanceAdjustmentBlue | 0 |
LuminanceAdjustmentGreen | 0 |
LuminanceAdjustmentMagenta | 0 |
LuminanceAdjustmentOrange | 0 |
LuminanceAdjustmentPurple | 0 |
LuminanceAdjustmentRed | 0 |
LuminanceAdjustmentYellow | 0 |
LuminanceNoiseReductionContrast | 100 |
LuminanceNoiseReductionDetail | 50 |
LuminanceSmoothing | 50 |
Make | Canon |
Marked | True |
Megapixels | 17.2 |
MeteringMode | Multi-segment |
Model | Canon EOS 5D Mark II |
ModifyDate (1) | 2013:09:08 14:31:12+02:00 |
ModifyDate | 2013:09:08 14:31:12 |
ObjectName | Milky way |
Orientation | Horizontal (normal) |
OwnerName | Tommy Johansen |
ParametricDarks | 0 |
ParametricHighlights | 0 |
ParametricHighlightSplit | 75 |
ParametricLights | 0 |
ParametricMidtoneSplit | 50 |
ParametricShadows | 0 |
ParametricShadowSplit | 25 |
PerspectiveHorizontal | 0 |
PerspectiveRotate | 0.0 |
PerspectiveScale | 100 |
PerspectiveVertical | 0 |
PostCropVignetteAmount | 0 |
ProcessVersion | 6.7 |
ProfileDescription | Adobe RGB (1998) |
Rating | 0 |
RawFileName | IMG_5800-HDR(4).tif |
RedHue | 0 |
RedSaturation | 0 |
Rights | All right reserved Tommy Johansen Aka Grayscale foto |
Saturation (1) | -5 |
Saturation | Low |
SaturationAdjustmentAqua | 0 |
SaturationAdjustmentBlue | 0 |
SaturationAdjustmentGreen | 0 |
SaturationAdjustmentMagenta | 0 |
SaturationAdjustmentOrange | 0 |
SaturationAdjustmentPurple | 0 |
SaturationAdjustmentRed | 0 |
SaturationAdjustmentYellow | 0 |
ScaleFactor35efl | 1.1 |
SceneCaptureType | Standard |
SerialNumber | 1721002101 |
Shadows | 0 |
Shadows2012 | +18 |
ShadowTint | 0 |
SharpenDetail | 50 |
SharpenEdgeMasking | 70 |
SharpenRadius | +2.4 |
Sharpness (1) | 100 |
Sharpness | Hard |
ShutterSpeed | 10 |
ShutterSpeedValue | 10 |
Software | Adobe Photoshop CS6 (Windows) |
SplitToningBalance | 0 |
SplitToningHighlightHue | 0 |
SplitToningHighlightSaturation | 0 |
SplitToningShadowHue | 0 |
SplitToningShadowSaturation | 0 |
Title | Milky way |
ToneCurve | 0, 0, 255, 255 |
ToneCurveBlue | 0, 0, 255, 255 |
ToneCurveGreen | 0, 0, 255, 255 |
ToneCurveName | Linear |
ToneCurveName2012 | Linear |
ToneCurvePV2012 | 0, 0, 255, 255 |
ToneCurvePV2012Blue | 0, 0, 255, 255 |
ToneCurvePV2012Green | 0, 0, 255, 255 |
ToneCurvePV2012Red | 0, 0, 255, 255 |
ToneCurveRed | 0, 0, 255, 255 |
URL_List | |
Version | 7.0 |
Vibrance | +23 |
VignetteAmount | 0 |
WhiteBalance (1) | As Shot |
WhiteBalance | Auto |
Whites2012 | +20 |