Felt | Verdi |
AlreadyApplied | True |
Aperture | 6.3 |
ApertureValue | 6.3 |
ApproximateFocusDistance | 1.47 |
AutoLateralCA | 0 |
BitsPerSample | 8 |
Blacks2012 | 0 |
BlueHue | 0 |
BlueSaturation | 0 |
CameraProfile | Embedded |
CircleOfConfusion | 0.005 mm |
Clarity2012 | +31 |
ColorComponents | 1 |
ColorMode | RGB |
ColorNoiseReduction | 0 |
ColorSpace | sRGB |
Contrast2012 | +47 |
ConvertToGrayscale | True |
CreateDate | 2013:09:04 20:10:10 |
CreatorTool | Adobe Photoshop Lightroom 5.0 (Windows) |
CropAngle | 0 |
CropBottom | 0.913907 |
CropConstrainToWarp | 0 |
CropLeft | 0 |
CropRight | 0.920399 |
CropTop | 0.10596 |
CustomRendered | Normal |
DateCreated | 2013:09:04 |
DateTimeOriginal (1) | 2013:09:04 20:10:10+02:00 |
DateTimeOriginal | 2013:09:04 20:10:10 |
DigitalZoomRatio | 1 |
DOF | 1.81 m (1.00 - 2.80 m) |
ExifImageHeight | 3479 |
ExifImageWidth | 2424 |
Exposure2012 | +1.20 |
ExposureCompensation | 0 |
ExposureMode | Manual |
ExposureTime | 1/30 |
Firmware | 1.00 |
Flash | Off, Did not fire |
FlashCompensation | 0 |
FlashFired | False |
FlashFunction | False |
FlashMode | Off |
FlashRedEyeMode | False |
FlashReturn | No return detection |
FNumber | 6.3 |
FocalLength | 10.2 mm |
FocalLength35efl | 10.2 mm (35 mm equivalent: 57.0 mm) |
Format | image/jpeg |
FOV | 35.1 deg |
GrainAmount | 0 |
GrayMixerAqua | -19 |
GrayMixerBlue | +7 |
GrayMixerGreen | +8 |
GrayMixerMagenta | +4 |
GrayMixerOrange | -27 |
GrayMixerPurple | +14 |
GrayMixerRed | -34 |
GrayMixerYellow | -45 |
GreenHue | 0 |
GreenSaturation | 0 |
HasCrop | True |
HasSettings | True |
Highlights2012 | -40 |
HyperfocalDistance | 3.07 m |
ICCProfileName | sRGB IEC61966-2.1 |
ImageHeight | 3479 |
ImageSize | 2424x3479 |
ImageWidth | 2424 |
IncrementalTemperature | -5 |
IncrementalTint | 0 |
ISO | 400 |
Lens | 4.5-90.0 mm |
LensInfo | 4.5-90mm f/? |
LensManualDistortionAmount | 0 |
LensModel | 4.5-90.0 mm |
LensProfileEnable | 0 |
LensProfileSetup | LensDefaults |
LightValue | 8.2 |
LuminanceNoiseReductionContrast | 0 |
LuminanceNoiseReductionDetail | 50 |
LuminanceSmoothing | 25 |
Make | Canon |
MaxApertureValue | 4.0 |
Megapixels | 8.4 |
MeteringMode | Multi-segment |
Model | Canon PowerShot SX240 HS |
ModifyDate (1) | 2013:09:10 21:24:39+02:00 |
ModifyDate | 2013:09:10 21:24:39 |
Orientation | Horizontal (normal) |
ParametricDarks | +28 |
ParametricHighlights | -24 |
ParametricHighlightSplit | 75 |
ParametricLights | -51 |
ParametricMidtoneSplit | 50 |
ParametricShadows | -1 |
ParametricShadowSplit | 25 |
PerspectiveAspect | 0 |
PerspectiveHorizontal | 0 |
PerspectiveRotate | 0.0 |
PerspectiveScale | 100 |
PerspectiveUpright | 0 |
PerspectiveVertical | 0 |
PostCropVignetteAmount | 0 |
ProcessVersion | 6.7 |
ProfileDescription | sRGB IEC61966-2.1 |
RedHue | 0 |
RedSaturation | 0 |
ScaleFactor35efl | 5.6 |
SceneCaptureType | Standard |
SensingMethod | One-chip color area |
SensitivityType | Standard Output Sensitivity and Recommended Exposure Index |
Shadows2012 | 0 |
ShadowTint | 0 |
SharpenDetail | 25 |
SharpenEdgeMasking | 0 |
SharpenRadius | +0.6 |
Sharpness | 17 |
ShutterSpeed | 1/30 |
ShutterSpeedValue | 1/30 |
Software | Adobe Photoshop Elements 10.0 Windows |
SplitToningBalance | 0 |
SplitToningHighlightHue | 0 |
SplitToningHighlightSaturation | 0 |
SplitToningShadowHue | 0 |
SplitToningShadowSaturation | 0 |
ToneCurveName2012 | Linear |
ToneCurvePV2012 | 0, 0, 255, 255 |
ToneCurvePV2012Blue | 0, 0, 255, 255 |
ToneCurvePV2012Green | 0, 0, 255, 255 |
ToneCurvePV2012Red | 0, 0, 255, 255 |
URL_List | |
Version | 8.1 |
VignetteAmount | 0 |
WhiteBalance (1) | Custom |
WhiteBalance | Manual |
Whites2012 | 0 |