Felt | Verdi |
AlreadyApplied | True |
Aperture | 22.0 |
ApertureValue | 22.0 |
ApproximateFocusDistance | 4294967295 |
AutoLateralCA | 1 |
BitsPerSample | 8 |
Blacks2012 | 0 |
BlueHue | 0 |
BlueSaturation | 0 |
CameraProfile | Adobe Standard |
CFAPattern | [Red,Green][Green,Blue] |
CircleOfConfusion | 0.030 mm |
Clarity2012 | 0 |
ColorComponents | 3 |
ColorNoiseReduction | 25 |
ColorNoiseReductionDetail | 50 |
ColorTemperature | 5100 |
Contrast | Normal |
Contrast2012 | +17 |
ConvertToGrayscale | False |
CreateDate (1) | 2013:09:10 10:33:08.41 |
CreateDate | 2013:09:10 10:33:08 |
CreatorTool | Adobe Photoshop Lightroom 4.4 (Macintosh) |
CropAngle | 0 |
CropBottom | 0.998983 |
CropConstrainToWarp | 0 |
CropHeight | 2750 |
CropLeft | 0.013148 |
CropRight | 0.988251 |
CropTop | 0.028062 |
CropUnit | pixels |
CropWidth | 4150 |
CustomRendered | Normal |
DateCreated (1) | 2013:09:10 |
DateCreated | 2013:09:10 10:33:08.41 |
DateTimeOriginal | 2013:09:10 10:33:08 |
DefringeGreenAmount | 0 |
DefringeGreenHueHi | 60 |
DefringeGreenHueLo | 40 |
DefringePurpleAmount | 0 |
DefringePurpleHueHi | 70 |
DefringePurpleHueLo | 30 |
DigitalZoomRatio | 1 |
DOF | inf (0.39 m - inf) |
Exposure2012 | +0.55 |
ExposureCompensation | 0 |
ExposureMode | Manual |
ExposureProgram | Manual |
ExposureTime | 1/13 |
Flash | No Flash |
FNumber | 22.0 |
FocalLength | 16.0 mm |
FocalLength35efl | 16.0 mm (35 mm equivalent: 16.0 mm) |
FocalLengthIn35mmFormat | 16 mm |
Format | image/jpeg |
FOV | 96.7 deg |
GainControl | None |
GrainAmount | 0 |
GreenHue | 0 |
GreenSaturation | 0 |
HasCrop | True |
HasSettings | True |
Highlights2012 | -36 |
HueAdjustmentAqua | 0 |
HueAdjustmentBlue | 0 |
HueAdjustmentGreen | 0 |
HueAdjustmentMagenta | 0 |
HueAdjustmentOrange | 0 |
HueAdjustmentPurple | 0 |
HueAdjustmentRed | 0 |
HueAdjustmentYellow | 0 |
HyperfocalDistance | 0.39 m |
ImageHeight | 2750 |
ImageNumber | 83338 |
ImageSize | 4150x2750 |
ImageWidth | 4150 |
ISO | 100 |
Lens | 16.0-35.0 mm f/4.0 |
LensID (1) | 163 |
LensID | AF-S Nikkor 16-35mm f/4G ED VR |
LensInfo | 16-35mm f/4 |
LensManualDistortionAmount | 0 |
LensModel | 16.0-35.0 mm f/4.0 |
LensProfileChromaticAberrationScale | 100 |
LensProfileDistortionScale | 100 |
LensProfileEnable | 1 |
LensProfileFilename | NIKON D3X (Nikon AF-S NIKKOR 16-35mm f4G ED VR) - RAW.lcp |
LensProfileName | Adobe (Nikon AF-S NIKKOR 16-35mm f/4G ED VR) |
LensProfileSetup | LensDefaults |
LensProfileVignettingScale | 100 |
LightSource | Fine Weather |
LightValue | 12.6 |
LuminanceAdjustmentAqua | 0 |
LuminanceAdjustmentBlue | 0 |
LuminanceAdjustmentGreen | 0 |
LuminanceAdjustmentMagenta | 0 |
LuminanceAdjustmentOrange | 0 |
LuminanceAdjustmentPurple | 0 |
LuminanceAdjustmentRed | 0 |
LuminanceAdjustmentYellow | 0 |
LuminanceSmoothing | 0 |
Make | NIKON CORPORATION |
MaxApertureValue | 4.0 |
Megapixels | 11.4 |
MeteringMode | Multi-segment |
Model | NIKON D3S |
ModifyDate (1) | 2013:09:10 23:22:17+02:00 |
ModifyDate | 2013:09:10 23:22:17 |
PaintCorrectionActive | true |
PaintCorrectionAmount | 1.000000 |
PaintCorrectionBrightness | 0.320225 |
PaintCorrectionClarity2012 (1) | 0.235955 |
PaintCorrectionClarity2012 (4) | 0.617978 |
PaintCorrectionClarity2012 (5) | 0.011236 |
PaintCorrectionClarity2012 | 0.280899 |
PaintCorrectionContrast2012 | 0.011236 |
PaintCorrectionDefringe | 0.000000 |
PaintCorrectionExposure2012 (1) | 0.212079 |
PaintCorrectionExposure2012 (2) | 0.303371 |
PaintCorrectionExposure2012 (3) | -0.748771 |
PaintCorrectionExposure2012 (4) | -0.114817 |
PaintCorrectionExposure2012 (5) | 0.258427 |
PaintCorrectionExposure2012 | 0.000000 |
PaintCorrectionHighlights2012 (3) | -0.707865 |
PaintCorrectionHighlights2012 | -0.005794 |
PaintCorrectionHue | 233.000000 |
PaintCorrectionLuminanceNoise (4) | 0.460674 |
PaintCorrectionLuminanceNoise | -0.011236 |
PaintCorrectionMaskCenterWeight | 0.446584 |
PaintCorrectionMaskFlow | 1.000000 |
PaintCorrectionMaskRadius (34) | 0.143247 |
PaintCorrectionMaskRadius (43) | 0.050694 |
PaintCorrectionMaskRadius (44) | 0.050499 |
PaintCorrectionMaskRadius (45) | 0.052703 |
PaintCorrectionMaskRadius (46) | 0.051622 |
PaintCorrectionMaskRadius (57) | 0.012925 |
PaintCorrectionMaskRadius (72) | 0.131908 |
PaintCorrectionMaskRadius (73) | 0.137934 |
PaintCorrectionMaskRadius (74) | 0.133226 |
PaintCorrectionMaskRadius (75) | 0.127368 |
PaintCorrectionMaskRadius (76) | 0.125921 |
PaintCorrectionMaskRadius (77) | 0.135361 |
PaintCorrectionMaskRadius (78) | 0.141031 |
PaintCorrectionMaskRadius (79) | 0.134053 |
PaintCorrectionMaskRadius (80) | 0.126655 |
PaintCorrectionMaskRadius (81) | 0.128712 |
PaintCorrectionMaskRadius (82) | 0.049073 |
PaintCorrectionMaskRadius (83) | 0.047893 |
PaintCorrectionMaskRadius (84) | 0.046879 |
PaintCorrectionMaskRadius (85) | 0.047341 |
PaintCorrectionMaskRadius (86) | 0.048917 |
PaintCorrectionMaskRadius (87) | 0.050367 |
PaintCorrectionMaskRadius (88) | 0.004659 |
PaintCorrectionMaskRadius | 0.004654 |
PaintCorrectionMaskValue | 0.384615 |
PaintCorrectionMaskWhat | Mask/Paint |
PaintCorrectionMoire | -0.005442 |
PaintCorrectionSaturation (1) | 0.056355 |
PaintCorrectionSaturation (3) | -0.033708 |
PaintCorrectionSaturation (5) | 0.213483 |
PaintCorrectionSaturation (9) | 0.033708 |
PaintCorrectionSaturation | 0.000000 |
PaintCorrectionShadows2012 (1) | 0.842697 |
PaintCorrectionShadows2012 (3) | -0.280899 |
PaintCorrectionShadows2012 (5) | 0.550562 |
PaintCorrectionShadows2012 | 0.000000 |
PaintCorrectionSharpness (1) | 0.325843 |
PaintCorrectionSharpness (2) | 0.280899 |
PaintCorrectionSharpness (4) | 0.775281 |
PaintCorrectionSharpness | -0.021155 |
PaintCorrectionTemperature (2) | 0.179688 |
PaintCorrectionTemperature (3) | -0.228494 |
PaintCorrectionTemperature | -0.000878 |
PaintCorrectionTint | -0.011236 |
PaintCorrectionWhat | Correction |
ParametricDarks | 0 |
ParametricHighlights | 0 |
ParametricHighlightSplit | 75 |
ParametricLights | +49 |
ParametricMidtoneSplit | 50 |
ParametricShadows | 0 |
ParametricShadowSplit | 25 |
PerspectiveHorizontal | 0 |
PerspectiveRotate | 0.0 |
PerspectiveScale | 100 |
PerspectiveVertical | 0 |
PostCropVignetteAmount | 0 |
ProcessVersion | 6.7 |
ProfileDescription | sRGB IEC61966-2.1 |
Rating | 5 |
RedHue | 0 |
RedSaturation | 0 |
Saturation (1) | 0 |
Saturation | Normal |
SaturationAdjustmentAqua | 0 |
SaturationAdjustmentBlue | 0 |
SaturationAdjustmentGreen | 0 |
SaturationAdjustmentMagenta | 0 |
SaturationAdjustmentOrange | 0 |
SaturationAdjustmentPurple | 0 |
SaturationAdjustmentRed | 0 |
SaturationAdjustmentYellow | 0 |
ScaleFactor35efl | 1.0 |
SceneCaptureType | Standard |
SceneType | Directly photographed |
SensingMethod | One-chip color area |
SerialNumber | 2058033 |
Shadows2012 | +64 |
ShadowTint | 0 |
SharpenDetail | 41 |
SharpenEdgeMasking | 0 |
SharpenRadius | +1.5 |
Sharpness (1) | 58 |
Sharpness | Normal |
ShutterSpeed | 1/13 |
ShutterSpeedValue | 1/13 |
Software | Adobe Photoshop Lightroom 4.4 (Macintosh) |
SplitToningBalance | 0 |
SplitToningHighlightHue | 0 |
SplitToningHighlightSaturation | 0 |
SplitToningShadowHue | 0 |
SplitToningShadowSaturation | 0 |
SubjectDistanceRange | Unknown |
Tint | +10 |
ToneCurveName2012 | Linear |
ToneCurvePV2012 | 0, 0, 255, 255 |
ToneCurvePV2012Blue | 0, 0, 255, 255 |
ToneCurvePV2012Green | 0, 0, 255, 255 |
ToneCurvePV2012Red | 0, 0, 255, 255 |
Version | 7.4 |
Vibrance | 0 |
VignetteAmount | 0 |
WhiteBalance (1) | As Shot |
WhiteBalance | Manual |
Whites2012 | 0 |