Felt | Verdi |
AlreadyApplied | True |
Aperture | 5.6 |
ApertureValue | 5.6 |
ApproximateFocusDistance | 7.5 |
AutoLateralCA | 1 |
BitsPerSample | 8 |
Blacks2012 | -18 |
BlueHue | 0 |
BlueSaturation | 0 |
CameraProfile | Adobe Standard |
CircleOfConfusion | 0.011 mm |
Clarity2012 | -40 |
ColorComponents | 3 |
ColorNoiseReduction | 39 |
ColorNoiseReductionDetail | 60 |
ColorTemperature | 6000 |
Contrast | Normal |
Contrast2012 | +40 |
ConvertToGrayscale | False |
CreateDate (1) | 2011:11:09 07:49:39.00 |
CreateDate | 2011:11:09 07:49:39 |
CreatorTool | Adobe Photoshop Lightroom 4.4 (Macintosh) |
CropAngle | -3.15247 |
CropBottom | 0.780917 |
CropConstrainToWarp | 0 |
CropHeight | 2020 |
CropLeft | 0.013439 |
CropRight | 0.820174 |
CropTop | 0.066882 |
CropUnit | pixels |
CropWidth | 3018 |
CustomRendered | Normal |
DateCreated (1) | 2011:11:09 |
DateCreated | 2011:11:09 07:49:39.00 |
DateTimeOriginal | 2011:11:09 07:49:39 |
DefringeGreenAmount | 0 |
DefringeGreenHueHi | 60 |
DefringeGreenHueLo | 40 |
DefringePurpleAmount | 0 |
DefringePurpleHueHi | 70 |
DefringePurpleHueLo | 30 |
DigitalZoomRatio | 1 |
DOF | 10.59 m (4.94 - 15.54 m) |
Exposure2012 | -1.05 |
ExposureCompensation | 0 |
ExposureMode | Auto |
ExposureProgram | Not Defined |
ExposureTime | 1/200 |
Flash | No Flash |
FNumber | 5.6 |
FocalLength | 30.0 mm |
FocalLength35efl | 30.0 mm (35 mm equivalent: 81.0 mm) |
FocalLengthIn35mmFormat | 81 mm |
Format | image/jpeg |
FOV | 25.1 deg |
GainControl | None |
GradientBasedCorrActive | true |
GradientBasedCorrAmount | 1.000000 |
GradientBasedCorrBrightness | 0.320225 |
GradientBasedCorrClarity2012 (1) | 0.887640 |
GradientBasedCorrClarity2012 | -0.033708 |
GradientBasedCorrContrast2012 (1) | 0.865169 |
GradientBasedCorrContrast2012 | 0.011236 |
GradientBasedCorrDefringe | 0.000000 |
GradientBasedCorrExposure2012 (1) | 0.050474 |
GradientBasedCorrExposure2012 | 0.000000 |
GradientBasedCorrHighlights2012 (1) | 0.460674 |
GradientBasedCorrHighlights2012 | -0.005794 |
GradientBasedCorrHue | 233.000000 |
GradientBasedCorrLuminanceNoise (1) | 0.056180 |
GradientBasedCorrLuminanceNoise | -0.011236 |
GradientBasedCorrMaskFullX (1) | 0.483738 |
GradientBasedCorrMaskFullX | 0.436304 |
GradientBasedCorrMaskFullY (1) | 0.657080 |
GradientBasedCorrMaskFullY | 0.106935 |
GradientBasedCorrMaskValue | 1.000000 |
GradientBasedCorrMaskWhat | Mask/Gradient |
GradientBasedCorrMaskZeroX (1) | 0.479857 |
GradientBasedCorrMaskZeroX | 0.440040 |
GradientBasedCorrMaskZeroY (1) | 0.552450 |
GradientBasedCorrMaskZeroY | 0.334930 |
GradientBasedCorrMoire (1) | 0.127019 |
GradientBasedCorrMoire | -0.005442 |
GradientBasedCorrSaturation (1) | -0.002282 |
GradientBasedCorrSaturation (3) | -0.033708 |
GradientBasedCorrSaturation | 0.000000 |
GradientBasedCorrShadows2012 (1) | -0.370787 |
GradientBasedCorrShadows2012 | 0.011236 |
GradientBasedCorrSharpness (1) | 0.438202 |
GradientBasedCorrSharpness | -0.011236 |
GradientBasedCorrTemperature (1) | 0.011236 |
GradientBasedCorrTemperature | -0.213483 |
GradientBasedCorrTint (1) | -0.017907 |
GradientBasedCorrTint | -0.011236 |
GradientBasedCorrWhat | Correction |
GrainAmount | 0 |
GreenHue | 0 |
GreenSaturation | 0 |
HasCrop | True |
HasSettings | True |
Highlights2012 | -89 |
HueAdjustmentAqua | 0 |
HueAdjustmentBlue | 0 |
HueAdjustmentGreen | 0 |
HueAdjustmentMagenta | 0 |
HueAdjustmentOrange | 0 |
HueAdjustmentPurple | 0 |
HueAdjustmentRed | 0 |
HueAdjustmentYellow | 0 |
HyperfocalDistance | 14.44 m |
ImageHeight | 2020 |
ImageNumber | 1249 |
ImageSize | 3018x2020 |
ImageWidth | 3018 |
ISO | 100 |
Lens | 1 NIKKOR VR 10-30mm f/3.5-5.6 |
LensInfo | 10-30mm f/3.5-5.6 |
LensManualDistortionAmount | 0 |
LensModel | 1 NIKKOR VR 10-30mm f/3.5-5.6 |
LensProfileChromaticAberrationScale | 100 |
LensProfileDistortionScale | 100 |
LensProfileEnable | 1 |
LensProfileFilename | NIKON 1 J1 (Nikon 1 NIKKOR VR 10-30mm f3.5-5.6) - RAW.lcp |
LensProfileName | Adobe (Nikon 1 NIKKOR VR 10-30mm f/3.5-5.6) |
LensProfileSetup | LensDefaults |
LensProfileVignettingScale | 100 |
LightSource | Unknown |
LightValue | 12.6 |
LuminanceAdjustmentAqua | 0 |
LuminanceAdjustmentBlue | +10 |
LuminanceAdjustmentGreen | 0 |
LuminanceAdjustmentMagenta | 0 |
LuminanceAdjustmentOrange | 0 |
LuminanceAdjustmentPurple | 0 |
LuminanceAdjustmentRed | 0 |
LuminanceAdjustmentYellow | +2 |
LuminanceNoiseReductionContrast | 54 |
LuminanceNoiseReductionDetail | 74 |
LuminanceSmoothing | 60 |
Make | NIKON CORPORATION |
MaxApertureValue | 5.7 |
Megapixels | 6.1 |
MeteringMode | Multi-segment |
Model | NIKON 1 J1 |
ModifyDate (1) | 2013:09:16 20:14:06+02:00 |
ModifyDate | 2013:09:16 20:14:06 |
PaintCorrectionActive | true |
PaintCorrectionAmount | 1.000000 |
PaintCorrectionBrightness | 0.320225 |
PaintCorrectionClarity2012 (1) | 0.550562 |
PaintCorrectionClarity2012 (2) | -0.033708 |
PaintCorrectionClarity2012 | 0.505618 |
PaintCorrectionContrast2012 | 0.011236 |
PaintCorrectionDefringe | 0.000000 |
PaintCorrectionExposure2012 (1) | -0.186886 |
PaintCorrectionExposure2012 (2) | -0.041520 |
PaintCorrectionExposure2012 | 0.000000 |
PaintCorrectionHighlights2012 (1) | -0.685393 |
PaintCorrectionHighlights2012 | -0.005794 |
PaintCorrectionHue | 233.000000 |
PaintCorrectionLuminanceNoise | -0.011236 |
PaintCorrectionMaskCenterWeight (41) | 0.197754 |
PaintCorrectionMaskCenterWeight | 0.000000 |
PaintCorrectionMaskFlow | 1.000000 |
PaintCorrectionMaskRadius (1) | 0.160094 |
PaintCorrectionMaskRadius (10) | 0.160087 |
PaintCorrectionMaskRadius (108) | 0.040468 |
PaintCorrectionMaskRadius (11) | 0.160114 |
PaintCorrectionMaskRadius (114) | 0.040462 |
PaintCorrectionMaskRadius (115) | 0.040477 |
PaintCorrectionMaskRadius (116) | 0.040485 |
PaintCorrectionMaskRadius (118) | 0.040503 |
PaintCorrectionMaskRadius (119) | 0.040499 |
PaintCorrectionMaskRadius (12) | 0.160134 |
PaintCorrectionMaskRadius (120) | 0.040481 |
PaintCorrectionMaskRadius (125) | 0.040470 |
PaintCorrectionMaskRadius (127) | 0.040473 |
PaintCorrectionMaskRadius (128) | 0.040466 |
PaintCorrectionMaskRadius (129) | 0.040464 |
PaintCorrectionMaskRadius (131) | 0.122806 |
PaintCorrectionMaskRadius (132) | 0.122790 |
PaintCorrectionMaskRadius (133) | 0.122781 |
PaintCorrectionMaskRadius (134) | 0.122767 |
PaintCorrectionMaskRadius (135) | 0.122755 |
PaintCorrectionMaskRadius (136) | 0.122747 |
PaintCorrectionMaskRadius (137) | 0.122740 |
PaintCorrectionMaskRadius (138) | 0.122735 |
PaintCorrectionMaskRadius (14) | 0.160163 |
PaintCorrectionMaskRadius (140) | 0.122741 |
PaintCorrectionMaskRadius (141) | 0.122746 |
PaintCorrectionMaskRadius (143) | 0.122753 |
PaintCorrectionMaskRadius (144) | 0.122750 |
PaintCorrectionMaskRadius (145) | 0.122763 |
PaintCorrectionMaskRadius (146) | 0.122777 |
PaintCorrectionMaskRadius (147) | 0.122778 |
PaintCorrectionMaskRadius (148) | 0.122789 |
PaintCorrectionMaskRadius (149) | 0.122807 |
PaintCorrectionMaskRadius (15) | 0.160173 |
PaintCorrectionMaskRadius (150) | 0.122813 |
PaintCorrectionMaskRadius (151) | 0.122826 |
PaintCorrectionMaskRadius (152) | 0.122850 |
PaintCorrectionMaskRadius (153) | 0.122863 |
PaintCorrectionMaskRadius (154) | 0.122871 |
PaintCorrectionMaskRadius (16) | 0.160174 |
PaintCorrectionMaskRadius (17) | 0.160191 |
PaintCorrectionMaskRadius (18) | 0.160158 |
PaintCorrectionMaskRadius (19) | 0.160103 |
PaintCorrectionMaskRadius (2) | 0.160055 |
PaintCorrectionMaskRadius (20) | 0.160078 |
PaintCorrectionMaskRadius (21) | 0.160050 |
PaintCorrectionMaskRadius (22) | 0.160042 |
PaintCorrectionMaskRadius (23) | 0.160039 |
PaintCorrectionMaskRadius (24) | 0.160054 |
PaintCorrectionMaskRadius (25) | 0.160086 |
PaintCorrectionMaskRadius (26) | 0.160139 |
PaintCorrectionMaskRadius (27) | 0.160082 |
PaintCorrectionMaskRadius (28) | 0.160131 |
PaintCorrectionMaskRadius (29) | 0.160168 |
PaintCorrectionMaskRadius (3) | 0.160028 |
PaintCorrectionMaskRadius (30) | 0.160192 |
PaintCorrectionMaskRadius (31) | 0.160150 |
PaintCorrectionMaskRadius (32) | 0.160121 |
PaintCorrectionMaskRadius (33) | 0.160099 |
PaintCorrectionMaskRadius (34) | 0.160070 |
PaintCorrectionMaskRadius (35) | 0.160064 |
PaintCorrectionMaskRadius (36) | 0.052206 |
PaintCorrectionMaskRadius (37) | 0.019193 |
PaintCorrectionMaskRadius (38) | 0.019195 |
PaintCorrectionMaskRadius (39) | 0.019196 |
PaintCorrectionMaskRadius (4) | 0.160015 |
PaintCorrectionMaskRadius (40) | 0.019197 |
PaintCorrectionMaskRadius (41) | 0.019200 |
PaintCorrectionMaskRadius (42) | 0.019189 |
PaintCorrectionMaskRadius (45) | 0.040469 |
PaintCorrectionMaskRadius (48) | 0.040459 |
PaintCorrectionMaskRadius (49) | 0.040456 |
PaintCorrectionMaskRadius (5) | 0.160000 |
PaintCorrectionMaskRadius (50) | 0.040455 |
PaintCorrectionMaskRadius (53) | 0.040452 |
PaintCorrectionMaskRadius (6) | 0.160014 |
PaintCorrectionMaskRadius (63) | 0.040457 |
PaintCorrectionMaskRadius (66) | 0.040465 |
PaintCorrectionMaskRadius (7) | 0.160024 |
PaintCorrectionMaskRadius (70) | 0.040497 |
PaintCorrectionMaskRadius (71) | 0.040494 |
PaintCorrectionMaskRadius (72) | 0.040491 |
PaintCorrectionMaskRadius (73) | 0.040489 |
PaintCorrectionMaskRadius (74) | 0.040486 |
PaintCorrectionMaskRadius (76) | 0.040480 |
PaintCorrectionMaskRadius (77) | 0.040478 |
PaintCorrectionMaskRadius (79) | 0.040475 |
PaintCorrectionMaskRadius (8) | 0.160025 |
PaintCorrectionMaskRadius (81) | 0.040472 |
PaintCorrectionMaskRadius (84) | 0.040460 |
PaintCorrectionMaskRadius (85) | 0.040458 |
PaintCorrectionMaskRadius (9) | 0.160057 |
PaintCorrectionMaskRadius (91) | 0.040476 |
PaintCorrectionMaskRadius (92) | 0.040471 |
PaintCorrectionMaskRadius (94) | 0.040461 |
PaintCorrectionMaskRadius (96) | 0.040454 |
PaintCorrectionMaskRadius (97) | 0.040453 |
PaintCorrectionMaskRadius | 0.122872 |
PaintCorrectionMaskValue | 0.384615 |
PaintCorrectionMaskWhat | Mask/Paint |
PaintCorrectionMoire | -0.005442 |
PaintCorrectionSaturation (1) | 0.348315 |
PaintCorrectionSaturation (3) | -0.033708 |
PaintCorrectionSaturation (5) | 0.303371 |
PaintCorrectionSaturation | 0.000000 |
PaintCorrectionShadows2012 (1) | -0.370787 |
PaintCorrectionShadows2012 | 0.011236 |
PaintCorrectionSharpness | -0.011236 |
PaintCorrectionTemperature (1) | -0.280899 |
PaintCorrectionTemperature (2) | -0.171436 |
PaintCorrectionTemperature | 0.262553 |
PaintCorrectionTint (1) | 0.325843 |
PaintCorrectionTint (2) | -0.011236 |
PaintCorrectionTint | 0.322156 |
PaintCorrectionWhat | Correction |
ParametricDarks | -22 |
ParametricHighlights | -50 |
ParametricHighlightSplit | 75 |
ParametricLights | +15 |
ParametricMidtoneSplit | 50 |
ParametricShadows | -23 |
ParametricShadowSplit | 25 |
PerspectiveHorizontal | 0 |
PerspectiveRotate | 0.0 |
PerspectiveScale | 100 |
PerspectiveVertical | 0 |
PostCropVignetteAmount | 0 |
ProcessVersion | 6.7 |
ProfileDescription | sRGB IEC61966-2.1 |
Rating | 5 |
RedHue | 0 |
RedSaturation | 0 |
Saturation (1) | +28 |
Saturation | Normal |
SaturationAdjustmentAqua | 0 |
SaturationAdjustmentBlue | -7 |
SaturationAdjustmentGreen | 0 |
SaturationAdjustmentMagenta | 0 |
SaturationAdjustmentOrange | 0 |
SaturationAdjustmentPurple | 0 |
SaturationAdjustmentRed | 0 |
SaturationAdjustmentYellow | +6 |
ScaleFactor35efl | 2.7 |
SceneCaptureType | Landscape |
SceneType | Directly photographed |
SensingMethod | One-chip color area |
SensitivityType | Recommended Exposure Index |
SerialNumber | 62008246 |
Shadows2012 | +18 |
ShadowTint | 0 |
SharpenDetail | 41 |
SharpenEdgeMasking | 40 |
SharpenRadius | +1.5 |
Sharpness (1) | 63 |
Sharpness | Normal |
ShutterSpeed | 1/200 |
ShutterSpeedValue | 1/200 |
Software | Adobe Photoshop Lightroom 4.4 (Macintosh) |
SplitToningBalance | 0 |
SplitToningHighlightHue | 192 |
SplitToningHighlightSaturation | 0 |
SplitToningShadowHue | 0 |
SplitToningShadowSaturation | 0 |
SubjectDistanceRange | Unknown |
Tint | +10 |
ToneCurveName2012 | Linear |
ToneCurvePV2012 | 0, 0, 255, 255 |
ToneCurvePV2012Blue | 0, 0, 255, 255 |
ToneCurvePV2012Green | 0, 0, 255, 255 |
ToneCurvePV2012Red | 0, 0, 255, 255 |
Version | 7.4 |
Vibrance | +13 |
VignetteAmount | 0 |
WhiteBalance (1) | Custom |
WhiteBalance | Auto |
Whites2012 | 0 |