Felt | Verdi |
AlreadyApplied | True |
Aperture | 8.0 |
ApertureValue | 8.0 |
ApproximateFocusDistance | 45 |
AutoLateralCA | 0 |
BitsPerSample | 8 |
Blacks2012 | -40 |
BlueHue | 0 |
BlueSaturation | 0 |
CameraProfile | Adobe Standard |
Caption-Abstract | OLYMPUS DIGITAL CAMERA |
CFAPattern | [Red,Green][Green,Blue] |
CircleOfConfusion | 0.015 mm |
Clarity2012 | +26 |
ColorComponents | 3 |
ColorNoiseReduction | 62 |
ColorNoiseReductionDetail | 50 |
ColorTemperature | 6524 |
Contrast | Normal |
Contrast2012 | +29 |
ConvertToGrayscale | False |
CreateDate | 2013:09:08 19:34:04 |
CreatorTool | Adobe Photoshop Lightroom 4.4 (Windows) |
CropAngle | -0.319404 |
CropBottom | 0.921867 |
CropConstrainToWarp | 0 |
CropHeight | 3186 |
CropLeft | 0.001614 |
CropRight | 0.983319 |
CropTop | 0.007378 |
CropUnit | pixels |
CropWidth | 4506 |
CustomRendered | Normal |
DateCreated (1) | 2013:09:08 |
DateCreated | 2013:09:08 19:34:04 |
DateTimeOriginal | 2013:09:08 19:34:04 |
DefringeGreenAmount | 0 |
DefringeGreenHueHi | 60 |
DefringeGreenHueLo | 40 |
DefringePurpleAmount | 0 |
DefringePurpleHueHi | 70 |
DefringePurpleHueLo | 30 |
Description | OLYMPUS DIGITAL CAMERA |
DigitalZoomRatio | 1 |
DOF | inf (1.17 m - inf) |
Exposure2012 | +0.60 |
ExposureCompensation | 0 |
ExposureMode | Auto |
ExposureProgram | Aperture-priority AE |
ExposureTime | 1/80 |
Flash | Auto, Did not fire |
FlashCompensation | 0 |
FNumber | 8.0 |
FocalLength | 12.0 mm |
FocalLength35efl | 12.0 mm (35 mm equivalent: 24.0 mm) |
FocalLengthIn35mmFormat | 24 mm |
Format | image/jpeg |
FOV | 73.7 deg |
GainControl | None |
GradientBasedCorrActive | true |
GradientBasedCorrAmount | 1.000000 |
GradientBasedCorrBrightness | 0.000000 |
GradientBasedCorrClarity2012 | 0.000000 |
GradientBasedCorrContrast2012 | 0.000000 |
GradientBasedCorrDefringe | 0.000000 |
GradientBasedCorrExposure2012 (1) | -0.354251 |
GradientBasedCorrExposure2012 (2) | -0.300067 |
GradientBasedCorrExposure2012 (3) | -0.141129 |
GradientBasedCorrExposure2012 | -0.209425 |
GradientBasedCorrHighlights2012 (1) | -0.290323 |
GradientBasedCorrHighlights2012 (2) | -0.201865 |
GradientBasedCorrHighlights2012 (3) | -0.153226 |
GradientBasedCorrHighlights2012 | -0.185988 |
GradientBasedCorrHue (3) | 99.000000 |
GradientBasedCorrHue | 298.230011 |
GradientBasedCorrLuminanceNoise | 0.000000 |
GradientBasedCorrMaskFullX (1) | 0.903371 |
GradientBasedCorrMaskFullX (2) | 0.352385 |
GradientBasedCorrMaskFullX (3) | 0.325826 |
GradientBasedCorrMaskFullX | 0.422531 |
GradientBasedCorrMaskFullY (1) | 0.111487 |
GradientBasedCorrMaskFullY (2) | 0.058774 |
GradientBasedCorrMaskFullY (3) | 0.884805 |
GradientBasedCorrMaskFullY | 0.468939 |
GradientBasedCorrMaskValue | 1.000000 |
GradientBasedCorrMaskWhat | Mask/Gradient |
GradientBasedCorrMaskZeroX (1) | 0.683146 |
GradientBasedCorrMaskZeroX (2) | 0.609413 |
GradientBasedCorrMaskZeroX (3) | 0.750747 |
GradientBasedCorrMaskZeroX | 0.734987 |
GradientBasedCorrMaskZeroY (1) | 0.538852 |
GradientBasedCorrMaskZeroY (2) | 0.513860 |
GradientBasedCorrMaskZeroY (3) | 0.538338 |
GradientBasedCorrMaskZeroY | 0.365767 |
GradientBasedCorrMoire | 0.000000 |
GradientBasedCorrSaturation | 0.000000 |
GradientBasedCorrShadows2012 | 0.000000 |
GradientBasedCorrSharpness | 0.000000 |
GradientBasedCorrTemperature | 0.000000 |
GradientBasedCorrTint | 0.000000 |
GradientBasedCorrWhat | Correction |
GrainAmount | 0 |
GreenHue | 0 |
GreenSaturation | 0 |
HasCrop | True |
HasSettings | True |
Highlights2012 | -57 |
HueAdjustmentAqua | 0 |
HueAdjustmentBlue | 0 |
HueAdjustmentGreen | 0 |
HueAdjustmentMagenta | 0 |
HueAdjustmentOrange | 0 |
HueAdjustmentPurple | 0 |
HueAdjustmentRed | 0 |
HueAdjustmentYellow | 0 |
HyperfocalDistance | 1.20 m |
ImageDescription | OLYMPUS DIGITAL CAMERA |
ImageHeight | 3186 |
ImageSize | 4506x3186 |
ImageWidth | 4506 |
ISO | 200 |
Lens | OLYMPUS M.12-50mm F3.5-6.3 |
LensInfo | 12-50mm f/3.5-6.3 |
LensManualDistortionAmount | 0 |
LensModel | OLYMPUS M.12-50mm F3.5-6.3 |
LensProfileEnable | 0 |
LensProfileSetup | LensDefaults |
LensSerialNumber | ABP344666 |
LightSource | Unknown |
LightValue | 11.3 |
LuminanceAdjustmentAqua | 0 |
LuminanceAdjustmentBlue | 0 |
LuminanceAdjustmentGreen | 0 |
LuminanceAdjustmentMagenta | 0 |
LuminanceAdjustmentOrange | 0 |
LuminanceAdjustmentPurple | 0 |
LuminanceAdjustmentRed | 0 |
LuminanceAdjustmentYellow | 0 |
LuminanceNoiseReductionContrast | 100 |
LuminanceNoiseReductionDetail | 99 |
LuminanceSmoothing | 33 |
Make | OLYMPUS IMAGING CORP. |
MaxApertureValue | 3.5 |
Megapixels | 14.4 |
MeteringMode | Multi-segment |
Model | E-M5 |
ModifyDate (1) | 2013:09:14 19:35:01+02:00 |
ModifyDate | 2013:09:14 19:35:01 |
ParametricDarks | 0 |
ParametricHighlights | 0 |
ParametricHighlightSplit | 75 |
ParametricLights | 0 |
ParametricMidtoneSplit | 50 |
ParametricShadows | 0 |
ParametricShadowSplit | 25 |
PerspectiveHorizontal | 0 |
PerspectiveRotate | 0.0 |
PerspectiveScale | 100 |
PerspectiveVertical | 0 |
PostCropVignetteAmount | 0 |
ProcessVersion | 6.7 |
ProfileDescription | sRGB IEC61966-2.1 |
RedHue | 0 |
RedSaturation | 0 |
Saturation (1) | +5 |
Saturation | Normal |
SaturationAdjustmentAqua | 0 |
SaturationAdjustmentBlue | +33 |
SaturationAdjustmentGreen | 0 |
SaturationAdjustmentMagenta | 0 |
SaturationAdjustmentOrange | +7 |
SaturationAdjustmentPurple | 0 |
SaturationAdjustmentRed | 0 |
SaturationAdjustmentYellow | +16 |
ScaleFactor35efl | 2.0 |
SceneCaptureType | Standard |
SensitivityType | Standard Output Sensitivity |
SerialNumber | BEK533320 |
Shadows2012 | +40 |
ShadowTint | 0 |
SharpenDetail | 50 |
SharpenEdgeMasking | 54 |
SharpenRadius | +1.0 |
Sharpness (1) | 102 |
Sharpness | Normal |
ShutterSpeed | 1/80 |
ShutterSpeedValue | 1/80 |
Software | Adobe Photoshop Lightroom 4.4 (Windows) |
SplitToningBalance | 0 |
SplitToningHighlightHue | 0 |
SplitToningHighlightSaturation | 0 |
SplitToningShadowHue | 0 |
SplitToningShadowSaturation | 0 |
Tint | +2 |
ToneCurveName2012 | Custom |
ToneCurvePV2012 | 0, 0, 32, 32, 140, 150, 227, 242, 255, 255 |
ToneCurvePV2012Blue | 0, 0, 255, 255 |
ToneCurvePV2012Green | 0, 0, 255, 255 |
ToneCurvePV2012Red | 0, 0, 255, 255 |
Version | 7.4 |
Vibrance | +21 |
VignetteAmount | 0 |
WhiteBalance (1) | Custom |
WhiteBalance | Auto |
Whites2012 | +36 |