Felt | Verdi |
AlreadyApplied | True |
Aperture | 10.0 |
ApertureValue | 10.0 |
ApproximateFocusDistance | 4294967295 |
BitsPerSample | 8 |
BlueHue | 0 |
BlueSaturation | 0 |
Brightness | +50 |
CameraProfile | Adobe Standard |
CFAPattern | [Red,Green][Green,Blue] |
ChromaticAberrationB | 0 |
ChromaticAberrationR | 0 |
CircleOfConfusion | 0.020 mm |
Clarity | +33 |
ColorComponents | 3 |
ColorMode | RGB |
ColorNoiseReduction | 25 |
ColorNoiseReductionDetail | 50 |
ColorSpace | sRGB |
ColorTemperature | 4900 |
Contrast (2) | +25 |
Contrast | Normal |
ConvertToGrayscale | False |
CreateDate (1) | 2013:09:30 13:06:39.15+02:00 |
CreateDate | 2013:09:30 13:06:39 |
CreatorTool | Ver.1.10 |
CustomRendered | Normal |
DateAcquired | 2013:10:01 08:29:09.211 |
DateCreated | 2013:09:30 |
DateTimeDigitized | 2013:09:30 13:06:39+02:00 |
DateTimeOriginal (1) | 2013:09:30 13:06:39.15+02:00 |
DateTimeOriginal | 2013:09:30 13:06:39 |
Defringe | 0 |
DigitalZoomRatio | 1 |
DOF | inf (4.75 m - inf) |
ExifImageHeight | 850 |
ExifImageWidth | 1417 |
Exposure | -0.35 |
ExposureCompensation | +2/3 |
ExposureMode | Auto |
ExposureProgram | Program AE |
ExposureTime | 1/400 |
FillLight | 9 |
Flash | No Flash |
FlashFired | False |
FlashFunction | False |
FlashMode | Unknown |
FlashRedEyeMode | False |
FlashReturn | No return detection |
FNumber | 10.0 |
FocalLength | 31.0 mm |
FocalLength35efl | 31.0 mm (35 mm equivalent: 46.0 mm) |
FocalLengthIn35mmFormat | 46 mm |
Format | image/jpeg |
FOV | 42.7 deg |
GainControl | None |
GrainAmount | 0 |
GreenHue | 0 |
GreenSaturation | 0 |
HasCrop | False |
HasSettings | True |
HighlightRecovery | 52 |
HueAdjustmentAqua | 0 |
HueAdjustmentBlue | 0 |
HueAdjustmentGreen | 0 |
HueAdjustmentMagenta | 0 |
HueAdjustmentOrange | 0 |
HueAdjustmentPurple | 0 |
HueAdjustmentRed | 0 |
HueAdjustmentYellow | 0 |
HyperfocalDistance | 4.75 m |
ICCProfileName | sRGB IEC61966-2.1 |
ImageHeight | 850 |
ImageNumber | 29461 |
ImageSize | 1417x850 |
ImageWidth | 1417 |
ISO | 200 |
Lens | 16.0-85.0 mm f/3.5-5.6 |
LensID (1) | 153 |
LensID | AF-S DX VR Zoom-Nikkor 16-85mm f/3.5-5.6G ED |
LensInfo | 16-85mm f/3.5-5.6 |
LensManualDistortionAmount | 0 |
LensModel | 16.0-85.0 mm f/3.5-5.6 |
LensProfileEnable | 0 |
LensProfileSetup | LensDefaults |
LightSource | Unknown |
LightValue | 14.3 |
LuminanceAdjustmentAqua | 0 |
LuminanceAdjustmentBlue | 0 |
LuminanceAdjustmentGreen | 0 |
LuminanceAdjustmentMagenta | 0 |
LuminanceAdjustmentOrange | 0 |
LuminanceAdjustmentPurple | 0 |
LuminanceAdjustmentRed | 0 |
LuminanceAdjustmentYellow | 0 |
LuminanceNoiseReductionContrast | 0 |
LuminanceNoiseReductionDetail | 50 |
LuminanceSmoothing | 35 |
Make | NIKON CORPORATION |
MaxApertureValue | 4.4 |
Megapixels | 1.2 |
MeteringMode | Multi-segment |
Model | NIKON D300 |
ModifyDate (1) | 2013:10:01 08:58:22+02:00 |
ModifyDate | 2013:10:01 08:58:22 |
Orientation | Horizontal (normal) |
ParametricDarks | 0 |
ParametricHighlights | 0 |
ParametricHighlightSplit | 75 |
ParametricLights | 0 |
ParametricMidtoneSplit | 50 |
ParametricShadows | 0 |
ParametricShadowSplit | 25 |
PerspectiveHorizontal | 0 |
PerspectiveRotate | 0.0 |
PerspectiveScale | 100 |
PerspectiveVertical | 0 |
PostCropVignetteAmount | 0 |
ProcessVersion | 5.7 |
ProfileDescription | sRGB IEC61966-2.1 |
Rating | 0 |
RawFileName | 088.NEF |
RedHue | 0 |
RedSaturation | 0 |
Saturation (2) | 0 |
Saturation | Normal |
SaturationAdjustmentAqua | 0 |
SaturationAdjustmentBlue | 0 |
SaturationAdjustmentGreen | 0 |
SaturationAdjustmentMagenta | 0 |
SaturationAdjustmentOrange | 0 |
SaturationAdjustmentPurple | 0 |
SaturationAdjustmentRed | 0 |
SaturationAdjustmentYellow | 0 |
ScaleFactor35efl | 1.5 |
SceneCaptureType | Standard |
SceneType | Directly photographed |
SensingMethod | One-chip color area |
SerialNumber | 4133996 |
Shadows | 5 |
ShadowTint | 0 |
SharpenDetail | 25 |
SharpenEdgeMasking | 0 |
SharpenRadius | +1.3 |
Sharpness (2) | 53 |
Sharpness | Normal |
ShutterSpeed | 1/400 |
ShutterSpeedValue | 1/400 |
Software | Adobe Photoshop Elements 9.0 Windows |
SplitToningBalance | 0 |
SplitToningHighlightHue | 0 |
SplitToningHighlightSaturation | 0 |
SplitToningShadowHue | 0 |
SplitToningShadowSaturation | 0 |
SubjectDistance | 4294967295 m |
SubjectDistanceRange | Unknown |
Tint | +10 |
ToneCurve | 0, 0, 32, 22, 64, 56, 128, 128, 192, 196, 255, 255 |
ToneCurveName | Medium Contrast |
URL_List | |
Version | 6.5 |
Vibrance | 0 |
VignetteAmount | 0 |
WhiteBalance (2) | As Shot |
WhiteBalance | Auto |