Felt | Verdi |
AlreadyApplied | True |
Aperture | 9.0 |
ApertureValue | 9.0 |
ApproximateFocusDistance | 4294967295 |
Artist | Torstein Johansen |
AutoLateralCA | 0 |
BitsPerSample | 8 |
Blacks2012 | 0 |
BlueHue | 0 |
BlueSaturation | 0 |
By-line | Torstein Johansen |
CameraProfile | Embedded |
CircleOfConfusion | 0.007 mm |
Clarity2012 | +26 |
ColorComponents | 1 |
ColorNoiseReduction | 0 |
Contrast2012 | +14 |
ConvertToGrayscale | True |
CreateDate (1) | 2013:09:28 09:22:43.00 |
CreateDate | 2013:09:28 09:22:43 |
Creator | Torstein Johansen |
CreatorTool | Adobe Photoshop Lightroom 4.4 (Windows) |
CropAngle | 0 |
CropBottom | 0.912913 |
CropConstrainToWarp | 0 |
CropHeight | 933 |
CropLeft | 0.235235 |
CropRight | 0.946947 |
CropTop | 0.201201 |
CropUnit | pixels |
CropWidth | 1400 |
CustomRendered | Normal |
DateCreated (1) | 2013:09:28 |
DateCreated | 2013:09:28 09:22:43.00 |
DateTimeOriginal | 2013:09:28 09:22:43 |
DOF | inf (1192.96 m - inf) |
Exposure2012 | +1.91 |
ExposureCompensation | 0 |
ExposureMode | Auto |
ExposureProgram | Aperture-priority AE |
ExposureTime | 1/2000 |
Firmware | 1.1.3 |
Flash | Off, Did not fire |
FlashCompensation | 0 |
FNumber | 9.0 |
FocalLength | 280.0 mm |
FocalLength35efl | 280.0 mm (35 mm equivalent: 1152.1 mm) |
Format | image/jpeg |
FOV | 1.8 deg |
GradientBasedCorrActive | true |
GradientBasedCorrAmount | 1.000000 |
GradientBasedCorrBrightness | -0.414635 |
GradientBasedCorrClarity2012 (1) | 0.471260 |
GradientBasedCorrClarity2012 | 0.402300 |
GradientBasedCorrContrast2012 (1) | 0.540230 |
GradientBasedCorrContrast2012 | -0.425290 |
GradientBasedCorrDefringe | 0.000000 |
GradientBasedCorrExposure2012 (1) | 0.126500 |
GradientBasedCorrExposure2012 | 0.402250 |
GradientBasedCorrHighlights2012 (1) | 0.448280 |
GradientBasedCorrHighlights2012 | 0.425290 |
GradientBasedCorrHue | 239.000000 |
GradientBasedCorrLuminanceNoise | 0.000000 |
GradientBasedCorrMaskFullX (1) | 0.474264 |
GradientBasedCorrMaskFullX | 0.458149 |
GradientBasedCorrMaskFullY (1) | 0.096871 |
GradientBasedCorrMaskFullY | 0.912913 |
GradientBasedCorrMaskValue | 1.000000 |
GradientBasedCorrMaskWhat | Mask/Gradient |
GradientBasedCorrMaskZeroX (1) | 0.474264 |
GradientBasedCorrMaskZeroX | 0.458149 |
GradientBasedCorrMaskZeroY (1) | 0.636189 |
GradientBasedCorrMaskZeroY | 0.727477 |
GradientBasedCorrMoire | 0.000000 |
GradientBasedCorrSaturation | 0.000000 |
GradientBasedCorrShadows2012 (1) | 0.655170 |
GradientBasedCorrShadows2012 | -0.356320 |
GradientBasedCorrSharpness (1) | 0.379310 |
GradientBasedCorrSharpness | 0.000000 |
GradientBasedCorrTemperature | -0.080460 |
GradientBasedCorrTint | 0.000000 |
GradientBasedCorrWhat | Correction |
GrainAmount | 100 |
GrainFrequency | 50 |
GrainSize | 45 |
GrayMixerAqua | -42 |
GrayMixerBlue | +8 |
GrayMixerGreen | -100 |
GrayMixerMagenta | +3 |
GrayMixerOrange | -100 |
GrayMixerPurple | +15 |
GrayMixerRed | -100 |
GrayMixerYellow | -100 |
GreenHue | 0 |
GreenSaturation | 0 |
HasCrop | True |
HasSettings | True |
Highlights2012 | +33 |
HyperfocalDistance | 1192.96 m |
ImageHeight | 933 |
ImageNumber | 0 |
ImageSize | 1400x933 |
ImageWidth | 1400 |
IncrementalTemperature | 0 |
IncrementalTint | 0 |
ISO | 200 |
Lens | EF200mm f/2.8L USM +1.4x |
LensID (1) | 170 |
LensID | Canon EF 200mm f/2.8L II USM + 1.4x |
LensInfo | 280mm f/? |
LensManualDistortionAmount | 0 |
LensModel | EF200mm f/2.8L USM +1.4x |
LensProfileEnable | 0 |
LensProfileSetup | LensDefaults |
LensSerialNumber | 0000000000 |
LightValue | 16.3 |
LuminanceNoiseReductionContrast | 0 |
LuminanceNoiseReductionDetail | 50 |
LuminanceSmoothing | 52 |
Make | Canon |
MaxApertureValue | 4.0 |
Megapixels | 1.3 |
MeteringMode | Multi-segment |
Model | Canon EOS 5D Mark III |
ModifyDate (1) | 2013:10:04 07:04:12+02:00 |
ModifyDate | 2013:10:04 07:04:12 |
PaintCorrectionActive | true |
PaintCorrectionAmount | 1.000000 |
PaintCorrectionBrightness (5) | -0.360732 |
PaintCorrectionBrightness | -0.414635 |
PaintCorrectionClarity2012 (3) | 0.034480 |
PaintCorrectionClarity2012 | 0.000000 |
PaintCorrectionContrast2012 | 0.000000 |
PaintCorrectionDefringe | 0.000000 |
PaintCorrectionExposure2012 (1) | -0.011500 |
PaintCorrectionExposure2012 (3) | 0.057500 |
PaintCorrectionExposure2012 (4) | -0.103500 |
PaintCorrectionExposure2012 (6) | -1.000000 |
PaintCorrectionExposure2012 (7) | -0.126500 |
PaintCorrectionExposure2012 | -0.264250 |
PaintCorrectionHighlights2012 | 0.000000 |
PaintCorrectionHue | 239.000000 |
PaintCorrectionLuminanceNoise | 0.000000 |
PaintCorrectionMaskCenterWeight | 0.042275 |
PaintCorrectionMaskFlow | 0.344000 |
PaintCorrectionMaskRadius (10) | 0.034075 |
PaintCorrectionMaskRadius (3) | 0.043165 |
PaintCorrectionMaskRadius (5) | 0.039108 |
PaintCorrectionMaskRadius (6) | 0.048253 |
PaintCorrectionMaskRadius (8) | 0.011563 |
PaintCorrectionMaskRadius (9) | 0.022332 |
PaintCorrectionMaskRadius | 0.066337 |
PaintCorrectionMaskValue (10) | 1.000000 |
PaintCorrectionMaskValue (7) | 0.831000 |
PaintCorrectionMaskValue | 0.607000 |
PaintCorrectionMaskWhat | Mask/Paint |
PaintCorrectionMoire | 0.000000 |
PaintCorrectionSaturation (5) | -0.333330 |
PaintCorrectionSaturation (7) | -1.000000 |
PaintCorrectionSaturation (9) | -0.870000 |
PaintCorrectionSaturation | 0.000000 |
PaintCorrectionShadows2012 | 0.000000 |
PaintCorrectionSharpness | 0.000000 |
PaintCorrectionTemperature (5) | -0.070000 |
PaintCorrectionTemperature | -0.080460 |
PaintCorrectionTint | 0.000000 |
PaintCorrectionWhat | Correction |
ParametricDarks | -38 |
ParametricHighlights | -26 |
ParametricHighlightSplit | 75 |
ParametricLights | -15 |
ParametricMidtoneSplit | 50 |
ParametricShadows | 0 |
ParametricShadowSplit | 25 |
PerspectiveHorizontal | 0 |
PerspectiveRotate | 0.0 |
PerspectiveScale | 100 |
PerspectiveVertical | 0 |
PostCropVignetteAmount | 0 |
ProcessVersion | 6.7 |
ProfileDescription | sRGB IEC61966-2.1 |
RecommendedExposureIndex | 200 |
RedHue | 0 |
RedSaturation | 0 |
ScaleFactor35efl | 4.1 |
SceneCaptureType | Standard |
SensitivityType | Recommended Exposure Index |
SerialNumber | 053024009274 |
Shadows2012 | -100 |
ShadowTint | 0 |
SharpenDetail | 25 |
SharpenEdgeMasking | 0 |
SharpenRadius | +1.0 |
Sharpness | 59 |
ShutterSpeed | 1/2000 |
ShutterSpeedValue | 1/2000 |
Software | Adobe Photoshop Lightroom 4.4 (Windows) |
SplitToningBalance | 0 |
SplitToningHighlightHue | 0 |
SplitToningHighlightSaturation | 0 |
SplitToningShadowHue | 0 |
SplitToningShadowSaturation | 0 |
ToneCurveName2012 | Linear |
ToneCurvePV2012 | 0, 0, 255, 255 |
ToneCurvePV2012Blue | 0, 0, 255, 255 |
ToneCurvePV2012Green | 0, 0, 255, 255 |
ToneCurvePV2012Red | 0, 0, 255, 255 |
Version | 7.4 |
VignetteAmount | 0 |
WhiteBalance (1) | As Shot |
WhiteBalance | Auto |
Whites2012 | 0 |