Felt | Verdi |
AlreadyApplied | True |
Aperture | 14.0 |
ApertureValue | 14.0 |
ApproximateFocusDistance | 4294967295 |
AutoLateralCA | 0 |
BitsPerSample | 8 |
Blacks2012 | 0 |
BlueHue | 0 |
BlueSaturation | 0 |
CameraProfile | Adobe Standard |
CFAPattern | [Red,Green][Green,Blue] |
CircleOfConfusion | 0.030 mm |
Clarity2012 | +12 |
ColorComponents | 3 |
ColorNoiseReduction | 42 |
ColorNoiseReductionDetail | 50 |
ColorTemperature | 7500 |
Contrast | Normal |
Contrast2012 | +15 |
ConvertToGrayscale | False |
CreateDate (1) | 2013:10:05 16:25:49.57 |
CreateDate | 2013:10:05 16:25:49 |
CreatorTool | Adobe Photoshop Lightroom 4.4 (Macintosh) |
CustomRendered | Normal |
DateCreated (1) | 2013:10:05 |
DateCreated | 2013:10:05 16:25:49.57 |
DateTimeOriginal | 2013:10:05 16:25:49 |
DefringeGreenAmount | 0 |
DefringeGreenHueHi | 60 |
DefringeGreenHueLo | 40 |
DefringePurpleAmount | 0 |
DefringePurpleHueHi | 70 |
DefringePurpleHueLo | 30 |
DigitalZoomRatio | 1 |
DOF | inf (0.61 m - inf) |
Exposure2012 | -0.10 |
ExposureCompensation | 0 |
ExposureMode | Manual |
ExposureProgram | Manual |
ExposureTime | 1/250 |
Flash | No Flash |
FNumber | 14.0 |
FocalLength | 16.0 mm |
FocalLength35efl | 16.0 mm (35 mm equivalent: 16.0 mm) |
FocalLengthIn35mmFormat | 16 mm |
Format | image/jpeg |
FOV | 96.7 deg |
GainControl | None |
GradientBasedCorrActive | true |
GradientBasedCorrAmount | 1.000000 |
GradientBasedCorrBrightness | 0.320225 |
GradientBasedCorrClarity2012 (1) | 0.348315 |
GradientBasedCorrClarity2012 (2) | 0.438202 |
GradientBasedCorrClarity2012 | 0.070137 |
GradientBasedCorrContrast2012 | 0.033708 |
GradientBasedCorrDefringe | 0.000000 |
GradientBasedCorrExposure2012 (1) | 0.381847 |
GradientBasedCorrExposure2012 (2) | 0.059340 |
GradientBasedCorrExposure2012 | -0.011236 |
GradientBasedCorrHighlights2012 (2) | 0.178546 |
GradientBasedCorrHighlights2012 | -0.011236 |
GradientBasedCorrHue | 233.000000 |
GradientBasedCorrLuminanceNoise | 0.011236 |
GradientBasedCorrMaskFullX (1) | 0.495845 |
GradientBasedCorrMaskFullX (2) | 0.516808 |
GradientBasedCorrMaskFullX | 0.399748 |
GradientBasedCorrMaskFullY (1) | 0.623070 |
GradientBasedCorrMaskFullY (2) | 0.433750 |
GradientBasedCorrMaskFullY | 0.054924 |
GradientBasedCorrMaskValue | 1.000000 |
GradientBasedCorrMaskWhat | Mask/Gradient |
GradientBasedCorrMaskZeroX (1) | 0.496847 |
GradientBasedCorrMaskZeroX (2) | 0.520807 |
GradientBasedCorrMaskZeroX | 0.440101 |
GradientBasedCorrMaskZeroY (1) | 0.560606 |
GradientBasedCorrMaskZeroY (2) | 0.590909 |
GradientBasedCorrMaskZeroY | 0.471591 |
GradientBasedCorrMoire | -0.005442 |
GradientBasedCorrSaturation (5) | 0.084357 |
GradientBasedCorrSaturation | 0.000000 |
GradientBasedCorrShadows2012 (1) | 0.393258 |
GradientBasedCorrShadows2012 (2) | -0.380267 |
GradientBasedCorrShadows2012 | 0.011236 |
GradientBasedCorrSharpness | -0.011236 |
GradientBasedCorrTemperature (1) | 0.000000 |
GradientBasedCorrTemperature (2) | -0.182935 |
GradientBasedCorrTemperature | -0.107971 |
GradientBasedCorrTint | -0.011236 |
GradientBasedCorrWhat | Correction |
GrainAmount | 0 |
GreenHue | 0 |
GreenSaturation | 0 |
HasCrop | False |
HasSettings | True |
Highlights2012 | -38 |
HueAdjustmentAqua | 0 |
HueAdjustmentBlue | 0 |
HueAdjustmentGreen | 0 |
HueAdjustmentMagenta | 0 |
HueAdjustmentOrange | 0 |
HueAdjustmentPurple | 0 |
HueAdjustmentRed | 0 |
HueAdjustmentYellow | 0 |
HyperfocalDistance | 0.61 m |
ImageHeight | 2832 |
ImageNumber | 84482 |
ImageSize | 4256x2832 |
ImageWidth | 4256 |
ISO | 320 |
Lens | 16.0-35.0 mm f/4.0 |
LensID (1) | 163 |
LensID | AF-S Nikkor 16-35mm f/4G ED VR |
LensInfo | 16-35mm f/4 |
LensManualDistortionAmount | 0 |
LensModel | 16.0-35.0 mm f/4.0 |
LensProfileEnable | 0 |
LensProfileSetup | LensDefaults |
LightSource | Fine Weather |
LightValue | 13.9 |
LuminanceAdjustmentAqua | 0 |
LuminanceAdjustmentBlue | 0 |
LuminanceAdjustmentGreen | 0 |
LuminanceAdjustmentMagenta | 0 |
LuminanceAdjustmentOrange | 0 |
LuminanceAdjustmentPurple | 0 |
LuminanceAdjustmentRed | 0 |
LuminanceAdjustmentYellow | 0 |
LuminanceNoiseReductionContrast | 39 |
LuminanceNoiseReductionDetail | 33 |
LuminanceSmoothing | 39 |
Make | NIKON CORPORATION |
MaxApertureValue | 4.0 |
Megapixels | 12.1 |
MeteringMode | Multi-segment |
Model | NIKON D3S |
ModifyDate (1) | 2013:10:07 08:18:29+02:00 |
ModifyDate | 2013:10:07 08:18:29 |
PaintCorrectionActive | true |
PaintCorrectionAmount | 1.000000 |
PaintCorrectionBrightness | 0.320225 |
PaintCorrectionClarity2012 | 0.070137 |
PaintCorrectionContrast2012 | 0.033708 |
PaintCorrectionDefringe | 0.000000 |
PaintCorrectionExposure2012 (1) | 0.087781 |
PaintCorrectionExposure2012 (2) | 0.179775 |
PaintCorrectionExposure2012 (3) | 0.125527 |
PaintCorrectionExposure2012 (4) | 0.148438 |
PaintCorrectionExposure2012 (5) | 0.117275 |
PaintCorrectionExposure2012 (6) | -0.011236 |
PaintCorrectionExposure2012 | 0.191011 |
PaintCorrectionHighlights2012 | -0.011236 |
PaintCorrectionHue | 233.000000 |
PaintCorrectionLuminanceNoise | 0.011236 |
PaintCorrectionMaskCenterWeight (128) | 0.012841 |
PaintCorrectionMaskCenterWeight (61) | 0.963550 |
PaintCorrectionMaskCenterWeight | 0.215544 |
PaintCorrectionMaskFlow | 1.000000 |
PaintCorrectionMaskRadius (106) | 0.017669 |
PaintCorrectionMaskRadius (109) | 0.128431 |
PaintCorrectionMaskRadius (129) | 0.213390 |
PaintCorrectionMaskRadius (19) | 0.116113 |
PaintCorrectionMaskRadius (32) | 0.017902 |
PaintCorrectionMaskRadius | 0.023773 |
PaintCorrectionMaskValue | 1.000000 |
PaintCorrectionMaskWhat | Mask/Paint |
PaintCorrectionMoire | -0.005442 |
PaintCorrectionSaturation (1) | 0.084357 |
PaintCorrectionSaturation | 0.000000 |
PaintCorrectionShadows2012 (1) | 0.573034 |
PaintCorrectionShadows2012 (2) | 0.492890 |
PaintCorrectionShadows2012 (3) | 0.011236 |
PaintCorrectionShadows2012 (4) | 0.245699 |
PaintCorrectionShadows2012 (5) | 0.174860 |
PaintCorrectionShadows2012 | 0.348315 |
PaintCorrectionSharpness | -0.011236 |
PaintCorrectionTemperature | 0.000000 |
PaintCorrectionTint | -0.011236 |
PaintCorrectionWhat | Correction |
ParametricDarks | 0 |
ParametricHighlights | -54 |
ParametricHighlightSplit | 75 |
ParametricLights | +21 |
ParametricMidtoneSplit | 50 |
ParametricShadows | +18 |
ParametricShadowSplit | 25 |
PerspectiveHorizontal | 0 |
PerspectiveRotate | 0.0 |
PerspectiveScale | 100 |
PerspectiveVertical | 0 |
PostCropVignetteAmount | 0 |
ProcessVersion | 6.7 |
ProfileDescription | sRGB IEC61966-2.1 |
Rating | 5 |
RedHue | 0 |
RedSaturation | 0 |
Saturation (1) | +12 |
Saturation | Normal |
SaturationAdjustmentAqua | 0 |
SaturationAdjustmentBlue | 0 |
SaturationAdjustmentGreen | 0 |
SaturationAdjustmentMagenta | 0 |
SaturationAdjustmentOrange | 0 |
SaturationAdjustmentPurple | 0 |
SaturationAdjustmentRed | 0 |
SaturationAdjustmentYellow | 0 |
ScaleFactor35efl | 1.0 |
SceneCaptureType | Standard |
SceneType | Directly photographed |
SensingMethod | One-chip color area |
SerialNumber | 2058033 |
Shadows2012 | +80 |
ShadowTint | 0 |
SharpenDetail | 25 |
SharpenEdgeMasking | 14 |
SharpenRadius | +1.0 |
Sharpness (1) | 25 |
Sharpness | Normal |
ShutterSpeed | 1/250 |
ShutterSpeedValue | 1/250 |
Software | Adobe Photoshop Lightroom 4.4 (Macintosh) |
SplitToningBalance | 0 |
SplitToningHighlightHue | 0 |
SplitToningHighlightSaturation | 0 |
SplitToningShadowHue | 0 |
SplitToningShadowSaturation | 0 |
SubjectDistanceRange | Unknown |
Tint | +10 |
ToneCurveName2012 | Linear |
ToneCurvePV2012 | 0, 0, 255, 255 |
ToneCurvePV2012Blue | 0, 0, 255, 255 |
ToneCurvePV2012Green | 0, 0, 255, 255 |
ToneCurvePV2012Red | 0, 0, 255, 255 |
Version | 7.4 |
Vibrance | 0 |
VignetteAmount | 0 |
WhiteBalance (1) | Shade |
WhiteBalance | Manual |
Whites2012 | 0 |