Felt | Verdi |
AlreadyApplied | True |
Aperture | 14.0 |
ApertureValue | 14.0 |
ApproximateFocusDistance | 3.49 |
AutoLateralCA | 1 |
BitsPerSample | 8 |
BlackClip | 0.304650 |
Blacks2012 | -12 |
BlueHue | 0 |
BlueSaturation | 0 |
CameraProfile | Embedded |
Clarity2012 | +7 |
ColorComponents | 3 |
ColorNoiseReduction | 89 |
ColorNoiseReductionDetail | 50 |
ColorSaturation | 56.0 |
ColorTemperature | 0.8 |
Contrast2012 | +67 |
ConvertToGrayscale | False |
CreateDate (1) | 2013:09:24 17:43:26.21 |
CreateDate | 2013:09:24 17:43:26 |
CreatorTool | Adobe Photoshop Lightroom 4.4 (Windows) |
CropAngle | 0 |
CropBottom | 1 |
CropConstrainToWarp | 0 |
CropHeight | 2981 |
CropLeft | 0 |
CropRight | 1 |
CropTop | 0.011527 |
CropUnit | pixels |
CropWidth | 5182 |
DateCreated (1) | 2013:09:24 |
DateCreated | 2013:09:24 17:43:26.21 |
DateTimeOriginal | 2013:09:24 17:43:26 |
DefringeGreenAmount | 0 |
DefringeGreenHueHi | 60 |
DefringeGreenHueLo | 40 |
DefringePurpleAmount | 0 |
DefringePurpleHueHi | 70 |
DefringePurpleHueLo | 30 |
Exposure2012 | +0.95 |
ExposureTime | 1/10 |
Firmware | 1.0.2 |
FlashCompensation | 0 |
FNumber | 14.0 |
FocalLength | 18.0 mm |
FocalLength35efl | 18.0 mm |
Format | image/jpeg |
Gamma | 0.96 |
GrainAmount | 0 |
GreenHue | 0 |
GreenSaturation | 0 |
HasCrop | True |
HasSettings | True |
Highlights2012 | -45 |
HighlightsSmoothing | 0.0 |
HueAdjustmentAqua | 0 |
HueAdjustmentBlue | 0 |
HueAdjustmentGreen | 0 |
HueAdjustmentMagenta | 0 |
HueAdjustmentOrange | 0 |
HueAdjustmentPurple | 0 |
HueAdjustmentRed | 0 |
HueAdjustmentYellow | 0 |
ImageHeight | 2981 |
ImageNumber | 0 |
ImageSize | 5182x2981 |
ImageWidth | 5182 |
IncrementalTemperature | 0 |
IncrementalTint | +14 |
ISO | 100 |
IsPano360 | No |
Lens | EF-S18-55mm f/3.5-5.6 IS II |
LensID (1) | 52 |
LensID | Canon EF-S 18-55mm f/3.5-5.6 IS II |
LensInfo | 18-55mm f/? |
LensManualDistortionAmount | 0 |
LensModel | EF-S18-55mm f/3.5-5.6 IS II |
LensProfileChromaticAberrationScale | 100 |
LensProfileDistortionScale | 100 |
LensProfileEnable | 1 |
LensProfileFilename | 931b460149624c90828470fc86a3f49a.lcp |
LensProfileName | Canon EOS 60D - EF-S18-55mm f/3.5-5.6 IS |
LensProfileSetup | Custom |
LensProfileVignettingScale | 100 |
LensSerialNumber | 000009b637 |
LightValue | 10.9 |
LuminanceAdjustmentAqua | 0 |
LuminanceAdjustmentBlue | 0 |
LuminanceAdjustmentGreen | 0 |
LuminanceAdjustmentMagenta | 0 |
LuminanceAdjustmentOrange | 0 |
LuminanceAdjustmentPurple | 0 |
LuminanceAdjustmentRed | 0 |
LuminanceAdjustmentYellow | 0 |
LuminanceNoiseReductionContrast | 0 |
LuminanceNoiseReductionDetail | 50 |
LuminanceSmoothing | 23 |
Luminosity | -3.7 |
Make | Canon |
Megapixels | 15.4 |
Method | Details Enhancer |
Microcontrast | 10.0 |
Microsmoothing | 22.6 |
Model | Canon EOS 600D |
ModifyDate (1) | 2013:09:24 20:43:48+02:00 |
ModifyDate | 2013:09:24 20:43:48 |
ParametricDarks | 0 |
ParametricHighlights | 0 |
ParametricHighlightSplit | 75 |
ParametricLights | 0 |
ParametricMidtoneSplit | 50 |
ParametricShadows | 0 |
ParametricShadowSplit | 25 |
PerspectiveHorizontal | 0 |
PerspectiveRotate | 0.0 |
PerspectiveScale | 100 |
PerspectiveVertical | 0 |
PostCropVignetteAmount | 0 |
ProcessVersion | 6.7 |
ProfileDescription | sRGB IEC61966-2.1 |
RedHue | 0 |
RedSaturation | 0 |
Saturation | 0 |
SaturationAdjustmentAqua | 0 |
SaturationAdjustmentBlue | 0 |
SaturationAdjustmentGreen | 0 |
SaturationAdjustmentMagenta | 0 |
SaturationAdjustmentOrange | 0 |
SaturationAdjustmentPurple | 0 |
SaturationAdjustmentRed | 0 |
SaturationAdjustmentYellow | 0 |
SaturationHighlights | 0.8 |
SaturationShadows | 1.4 |
SerialNumber | 123063002682 |
Shadows2012 | +62 |
ShadowsClipping | 0.0 |
ShadowsSmoothing | 0.0 |
ShadowTint | 0 |
SharpenDetail | 25 |
SharpenEdgeMasking | 6 |
SharpenRadius | +1.0 |
Sharpness | 70 |
ShutterSpeed | 1/10 |
ShutterSpeedValue | 1/10 |
Smoothing | Very High |
SmoothingMode | Light |
Software | Adobe Photoshop Lightroom 4.4 (Windows) |
SplitToningBalance | 0 |
SplitToningHighlightHue | 0 |
SplitToningHighlightSaturation | 0 |
SplitToningShadowHue | 0 |
SplitToningShadowSaturation | 0 |
Strength | 84.0 |
ToneCurveName2012 | Medium Contrast |
ToneCurvePV2012 | 0, 0, 32, 22, 64, 56, 128, 128, 192, 196, 255, 255 |
ToneCurvePV2012Blue | 0, 0, 255, 255 |
ToneCurvePV2012Green | 0, 0, 255, 255 |
ToneCurvePV2012Red | 0, 0, 255, 255 |
Version (1) | 4.2 |
Version | 7.4 |
Vibrance | +12 |
VignetteAmount | 0 |
WhiteBalance | Custom |
WhiteClip | 0.558550 |
Whites2012 | +21 |