Felt | Verdi |
AlreadyApplied | True |
Aperture | 10.0 |
ApertureValue | 10.0 |
ApproximateFocusDistance | 4294967295 |
AutoLateralCA | 0 |
BitsPerSample | 8 |
Blacks2012 | 0 |
BlueHue | 0 |
BlueSaturation | 0 |
CameraProfile | Adobe Standard |
CFAPattern | [Red,Green][Green,Blue] |
CircleOfConfusion | 0.030 mm |
Clarity2012 | +10 |
ColorComponents | 3 |
ColorNoiseReduction | 25 |
ColorNoiseReductionDetail | 50 |
ColorTemperature | 5100 |
Contrast | Normal |
Contrast2012 | +44 |
ConvertToGrayscale | False |
CreateDate (1) | 2013:09:11 06:32:46.60 |
CreateDate | 2013:09:11 06:32:46 |
CreatorTool | Adobe Photoshop Lightroom 4.4 (Macintosh) |
CropAngle | 0 |
CropBottom | 1 |
CropConstrainToWarp | 0 |
CropHeight | 2578 |
CropLeft | 0.052151 |
CropRight | 0.962366 |
CropTop | 0.089785 |
CropUnit | pixels |
CropWidth | 3874 |
CustomRendered | Normal |
DateCreated (1) | 2013:09:11 |
DateCreated | 2013:09:11 06:32:46.60 |
DateTimeOriginal | 2013:09:11 06:32:46 |
DefringeGreenAmount | 0 |
DefringeGreenHueHi | 60 |
DefringeGreenHueLo | 40 |
DefringePurpleAmount | 0 |
DefringePurpleHueHi | 70 |
DefringePurpleHueLo | 30 |
DigitalZoomRatio | 1 |
DOF | inf (0.96 m - inf) |
Exposure2012 | 0.00 |
ExposureCompensation | 0 |
ExposureMode | Manual |
ExposureProgram | Manual |
ExposureTime | 1/80 |
Flash | No Flash |
FNumber | 10.0 |
FocalLength | 17.0 mm |
FocalLength35efl | 17.0 mm (35 mm equivalent: 17.0 mm) |
FocalLengthIn35mmFormat | 17 mm |
Format | image/jpeg |
FOV | 93.3 deg |
GainControl | High gain up |
GrainAmount | 0 |
GreenHue | 0 |
GreenSaturation | 0 |
HasCrop | True |
HasSettings | True |
Highlights2012 | -67 |
HueAdjustmentAqua | 0 |
HueAdjustmentBlue | 0 |
HueAdjustmentGreen | 0 |
HueAdjustmentMagenta | 0 |
HueAdjustmentOrange | 0 |
HueAdjustmentPurple | 0 |
HueAdjustmentRed | 0 |
HueAdjustmentYellow | 0 |
HyperfocalDistance | 0.96 m |
ImageHeight | 2578 |
ImageNumber | 83531 |
ImageSize | 3874x2578 |
ImageWidth | 3874 |
ISO | 1600 |
Lens | 16.0-35.0 mm f/4.0 |
LensID (1) | 163 |
LensID | AF-S Nikkor 16-35mm f/4G ED VR |
LensInfo | 16-35mm f/4 |
LensManualDistortionAmount | 0 |
LensModel | 16.0-35.0 mm f/4.0 |
LensProfileEnable | 0 |
LensProfileSetup | LensDefaults |
LightSource | Fine Weather |
LightValue | 9.0 |
LuminanceAdjustmentAqua | 0 |
LuminanceAdjustmentBlue | 0 |
LuminanceAdjustmentGreen | 0 |
LuminanceAdjustmentMagenta | 0 |
LuminanceAdjustmentOrange | 0 |
LuminanceAdjustmentPurple | 0 |
LuminanceAdjustmentRed | 0 |
LuminanceAdjustmentYellow | 0 |
LuminanceSmoothing | 0 |
Make | NIKON CORPORATION |
MaxApertureValue | 4.0 |
Megapixels | 10.0 |
MeteringMode | Multi-segment |
Model | NIKON D3S |
ModifyDate (1) | 2013:10:17 14:49:29+02:00 |
ModifyDate | 2013:10:17 14:49:29 |
PaintCorrectionActive | true |
PaintCorrectionAmount | 1.000000 |
PaintCorrectionBrightness | 0.320225 |
PaintCorrectionClarity2012 (1) | 0.371225 |
PaintCorrectionClarity2012 (2) | 0.393258 |
PaintCorrectionClarity2012 (3) | 0.505618 |
PaintCorrectionClarity2012 (4) | -0.415730 |
PaintCorrectionClarity2012 (5) | 0.213483 |
PaintCorrectionClarity2012 (9) | -0.910112 |
PaintCorrectionClarity2012 | -0.011236 |
PaintCorrectionContrast2012 (3) | 0.327862 |
PaintCorrectionContrast2012 (4) | 0.041696 |
PaintCorrectionContrast2012 (5) | 0.535354 |
PaintCorrectionContrast2012 (6) | 0.117275 |
PaintCorrectionContrast2012 (7) | 0.528090 |
PaintCorrectionContrast2012 (8) | 0.640449 |
PaintCorrectionContrast2012 (9) | 0.258427 |
PaintCorrectionContrast2012 | 0.011236 |
PaintCorrectionDefringe | 0.000000 |
PaintCorrectionExposure2012 (1) | -0.393258 |
PaintCorrectionExposure2012 (2) | -0.112623 |
PaintCorrectionExposure2012 (3) | -0.152827 |
PaintCorrectionExposure2012 (5) | 0.010101 |
PaintCorrectionExposure2012 (6) | 0.213483 |
PaintCorrectionExposure2012 (8) | -0.141503 |
PaintCorrectionExposure2012 (9) | 0.052054 |
PaintCorrectionExposure2012 | 0.258427 |
PaintCorrectionHighlights2012 (1) | -0.820225 |
PaintCorrectionHighlights2012 (2) | -0.378336 |
PaintCorrectionHighlights2012 (4) | -0.595506 |
PaintCorrectionHighlights2012 (5) | -0.357883 |
PaintCorrectionHighlights2012 | 0.011236 |
PaintCorrectionHue | 233.000000 |
PaintCorrectionLuminanceNoise | 0.011236 |
PaintCorrectionMaskCenterWeight | 0.600774 |
PaintCorrectionMaskFlow | 1.000000 |
PaintCorrectionMaskRadius (101) | 0.029014 |
PaintCorrectionMaskRadius (126) | 0.215927 |
PaintCorrectionMaskRadius (13) | 0.056001 |
PaintCorrectionMaskRadius (141) | 0.053386 |
PaintCorrectionMaskRadius (15) | 0.032052 |
PaintCorrectionMaskRadius (165) | 0.028951 |
PaintCorrectionMaskRadius (26) | 0.018118 |
PaintCorrectionMaskRadius (7) | 0.100270 |
PaintCorrectionMaskRadius | 0.063518 |
PaintCorrectionMaskValue | 0.417582 |
PaintCorrectionMaskWhat | Mask/Paint |
PaintCorrectionMoire | -0.005442 |
PaintCorrectionSaturation (13) | -0.011236 |
PaintCorrectionSaturation (3) | 0.235955 |
PaintCorrectionSaturation (5) | 0.069961 |
PaintCorrectionSaturation | 0.000000 |
PaintCorrectionShadows2012 (1) | -0.483146 |
PaintCorrectionShadows2012 (2) | 0.415730 |
PaintCorrectionShadows2012 (5) | -0.033708 |
PaintCorrectionShadows2012 (6) | 0.400544 |
PaintCorrectionShadows2012 (8) | 0.325843 |
PaintCorrectionShadows2012 (9) | 0.393258 |
PaintCorrectionShadows2012 | 0.483146 |
PaintCorrectionSharpness (1) | 0.393258 |
PaintCorrectionSharpness (3) | 0.388430 |
PaintCorrectionSharpness (5) | 0.213483 |
PaintCorrectionSharpness | 0.033708 |
PaintCorrectionTemperature (5) | 0.191011 |
PaintCorrectionTemperature (7) | 0.258427 |
PaintCorrectionTemperature | 0.011236 |
PaintCorrectionTint | -0.011236 |
PaintCorrectionWhat | Correction |
ParametricDarks | 0 |
ParametricHighlights | -52 |
ParametricHighlightSplit | 75 |
ParametricLights | +37 |
ParametricMidtoneSplit | 50 |
ParametricShadows | 0 |
ParametricShadowSplit | 25 |
PerspectiveHorizontal | 0 |
PerspectiveRotate | 0.0 |
PerspectiveScale | 100 |
PerspectiveVertical | 0 |
PostCropVignetteAmount | 0 |
ProcessVersion | 6.7 |
ProfileDescription | sRGB IEC61966-2.1 |
Rating | 5 |
RedHue | 0 |
RedSaturation | 0 |
Saturation (1) | +7 |
Saturation | Normal |
SaturationAdjustmentAqua | 0 |
SaturationAdjustmentBlue | 0 |
SaturationAdjustmentGreen | 0 |
SaturationAdjustmentMagenta | 0 |
SaturationAdjustmentOrange | 0 |
SaturationAdjustmentPurple | 0 |
SaturationAdjustmentRed | 0 |
SaturationAdjustmentYellow | 0 |
ScaleFactor35efl | 1.0 |
SceneCaptureType | Standard |
SceneType | Directly photographed |
SensingMethod | One-chip color area |
SerialNumber | 2058033 |
Shadows2012 | +42 |
ShadowTint | 0 |
SharpenDetail | 25 |
SharpenEdgeMasking | 0 |
SharpenRadius | +1.0 |
Sharpness (1) | 25 |
Sharpness | Normal |
ShutterSpeed | 1/80 |
ShutterSpeedValue | 1/80 |
Software | Adobe Photoshop Lightroom 4.4 (Macintosh) |
SplitToningBalance | 0 |
SplitToningHighlightHue | 0 |
SplitToningHighlightSaturation | 0 |
SplitToningShadowHue | 0 |
SplitToningShadowSaturation | 0 |
SubjectDistanceRange | Unknown |
Tint | +10 |
ToneCurveName2012 | Linear |
ToneCurvePV2012 | 0, 0, 255, 255 |
ToneCurvePV2012Blue | 0, 0, 255, 255 |
ToneCurvePV2012Green | 0, 0, 255, 255 |
ToneCurvePV2012Red | 0, 0, 255, 255 |
Version | 7.4 |
Vibrance | 0 |
VignetteAmount | 0 |
WhiteBalance (1) | As Shot |
WhiteBalance | Manual |
Whites2012 | -20 |