Felt | Verdi |
AlreadyApplied | True |
AutoLateralCA | 0 |
BitsPerSample | 8 |
Blacks2012 | +37 |
BlueHue | 0 |
BlueSaturation | 0 |
CameraProfile | Embedded |
Clarity2012 | +100 |
ColorComponents | 3 |
ColorNoiseReduction | 0 |
Contrast2012 | +41 |
ConvertToGrayscale | True |
CreatorTool | Adobe Photoshop Lightroom 4.4 (Macintosh) |
CropAngle | 0 |
CropBottom | 0.951957 |
CropConstrainToWarp | 0 |
CropHeight | 2970 |
CropLeft | 0.048043 |
CropRight | 1 |
CropTop | 0 |
CropUnit | pixels |
CropWidth | 1980 |
Exposure2012 | 0.00 |
Format | image/jpeg |
GradientBasedCorrActive | true |
GradientBasedCorrAmount | 1.000000 |
GradientBasedCorrBrightness | 0.000000 |
GradientBasedCorrClarity2012 | -0.284743 |
GradientBasedCorrContrast2012 | -0.283180 |
GradientBasedCorrDefringe | 0.000000 |
GradientBasedCorrExposure2012 | -0.169210 |
GradientBasedCorrHighlights2012 | 0.415993 |
GradientBasedCorrHue | 223.727005 |
GradientBasedCorrLuminanceNoise | 0.000000 |
GradientBasedCorrMaskFullX | 0.526691 |
GradientBasedCorrMaskFullY | -0.001187 |
GradientBasedCorrMaskValue | 1.000000 |
GradientBasedCorrMaskWhat | Mask/Gradient |
GradientBasedCorrMaskZeroX | 0.521352 |
GradientBasedCorrMaskZeroY | 0.226713 |
GradientBasedCorrMoire | 0.000000 |
GradientBasedCorrSaturation | 0.000000 |
GradientBasedCorrShadows2012 | 0.031618 |
GradientBasedCorrSharpness | 0.777022 |
GradientBasedCorrTemperature | 0.000000 |
GradientBasedCorrTint | 0.000000 |
GradientBasedCorrWhat | Correction |
GrainAmount | 65 |
GrainFrequency | 35 |
GrainSize | 15 |
GrayMixerAqua | -18 |
GrayMixerBlue | +10 |
GrayMixerGreen | +89 |
GrayMixerMagenta | +4 |
GrayMixerOrange | +59 |
GrayMixerPurple | +16 |
GrayMixerRed | +55 |
GrayMixerYellow | -23 |
GreenHue | 0 |
GreenSaturation | 0 |
HasCrop | True |
HasSettings | True |
Highlights2012 | -55 |
ImageHeight | 2970 |
ImageSize | 1980x2970 |
ImageWidth | 1980 |
IncrementalTemperature | 0 |
IncrementalTint | 0 |
LensManualDistortionAmount | 0 |
LensProfileEnable | 0 |
LensProfileSetup | LensDefaults |
LuminanceSmoothing | 0 |
Megapixels | 5.9 |
ModifyDate (1) | 2013:10:17 23:35:23+02:00 |
ModifyDate | 2013:10:17 23:35:23 |
PaintCorrectionActive | true |
PaintCorrectionAmount | 1.000000 |
PaintCorrectionBrightness | 0.000000 |
PaintCorrectionClarity2012 (1) | -0.026746 |
PaintCorrectionClarity2012 | -0.027434 |
PaintCorrectionContrast2012 (1) | -0.283180 |
PaintCorrectionContrast2012 | -0.290469 |
PaintCorrectionDefringe | 0.000000 |
PaintCorrectionExposure2012 (1) | 0.000000 |
PaintCorrectionExposure2012 | 0.497426 |
PaintCorrectionHighlights2012 (1) | 0.415993 |
PaintCorrectionHighlights2012 | 0.426700 |
PaintCorrectionHue | 223.727005 |
PaintCorrectionLuminanceNoise | 0.000000 |
PaintCorrectionMaskCenterWeight | 0.095961 |
PaintCorrectionMaskFlow | 0.426856 |
PaintCorrectionMaskRadius (1) | 0.029669 |
PaintCorrectionMaskRadius (4) | 0.168669 |
PaintCorrectionMaskRadius | 0.015802 |
PaintCorrectionMaskValue | 0.626886 |
PaintCorrectionMaskWhat | Mask/Paint |
PaintCorrectionMoire | 0.000000 |
PaintCorrectionSaturation | 0.000000 |
PaintCorrectionShadows2012 (1) | 0.031618 |
PaintCorrectionShadows2012 | 0.032432 |
PaintCorrectionSharpness (1) | 0.777022 |
PaintCorrectionSharpness | 0.797022 |
PaintCorrectionTemperature | 0.000000 |
PaintCorrectionTint | 0.000000 |
PaintCorrectionWhat | Correction |
ParametricDarks | +9 |
ParametricHighlights | 0 |
ParametricHighlightSplit | 75 |
ParametricLights | +43 |
ParametricMidtoneSplit | 50 |
ParametricShadows | -43 |
ParametricShadowSplit | 25 |
PerspectiveHorizontal | 0 |
PerspectiveRotate | 0.0 |
PerspectiveScale | 100 |
PerspectiveVertical | 0 |
PostCropVignetteAmount | -25 |
PostCropVignetteFeather | 62 |
PostCropVignetteHighlightContrast | 0 |
PostCropVignetteMidpoint | 37 |
PostCropVignetteRoundness | +25 |
PostCropVignetteStyle | 1 |
ProcessVersion | 6.7 |
ProfileDescription | sRGB IEC61966-2.1 |
RedHue | 0 |
RedSaturation | 0 |
Shadows2012 | +86 |
ShadowTint | 0 |
SharpenDetail | 25 |
SharpenEdgeMasking | 27 |
SharpenRadius | +1.0 |
Sharpness | 75 |
Software | Adobe Photoshop Lightroom 4.4 (Macintosh) |
SplitToningBalance | 0 |
SplitToningHighlightHue | 0 |
SplitToningHighlightSaturation | 0 |
SplitToningShadowHue | 42 |
SplitToningShadowSaturation | 19 |
ToneCurveName2012 | Medium Contrast |
ToneCurvePV2012 | 0, 0, 32, 22, 64, 56, 128, 128, 192, 196, 255, 255 |
ToneCurvePV2012Blue | 0, 0, 255, 255 |
ToneCurvePV2012Green | 0, 0, 255, 255 |
ToneCurvePV2012Red | 0, 0, 255, 255 |
Version | 7.4 |
VignetteAmount | 0 |
WhiteBalance | As Shot |
Whites2012 | -89 |