Felt | Verdi |
AlreadyApplied | True |
Aperture | 8.0 |
ApertureValue | 8.0 |
ApproximateFocusDistance | 4294967295 |
Artist | Geir Manshaus |
AutoLateralCA | 0 |
AutoWhiteVersion | 134348800 |
BitsPerSample | 8 |
Blacks2012 | -9 |
BlueHue | 0 |
BlueSaturation | 0 |
By-line | Geir Manshaus |
CameraProfile | Adobe Standard |
CircleOfConfusion | 0.006 mm |
Clarity2012 | +9 |
ColorComponents | 3 |
ColorNoiseReduction | 25 |
ColorNoiseReductionDetail | 50 |
ColorNoiseReductionSmoothness | 50 |
ColorTemperature | 4900 |
Contrast2012 | +5 |
ConvertToGrayscale | False |
Copyright | Geir Manshaus |
CopyrightFlag | True |
CopyrightNotice | Geir Manshaus |
CreateDate (1) | 2013:10:26 16:05:05.00 |
CreateDate | 2013:10:26 16:05:05 |
Creator | Geir Manshaus |
CreatorAddress | Sons gate 25 |
CreatorCountry | Norge-Norway- |
CreatorPostalCode | 0654 |
CreatorRegion | Oslo |
CreatorTool | Adobe Photoshop Lightroom 5.0 (Windows) |
CreatorWorkEmail | geirhandyman@hotmail.com |
CreatorWorkTelephone | 0047 97 68 29 88 |
CropAngle | 0 |
CropBottom | 0.794686 |
CropConstrainToWarp | 0 |
CropLeft | 0 |
CropRight | 0.714976 |
CropTop | 0 |
CustomRendered | Normal |
DateCreated (1) | 2013:10:26 |
DateCreated | 2013:10:26 16:05:05.00 |
DateTimeOriginal | 2013:10:26 16:05:05 |
DefringeGreenAmount | 0 |
DefringeGreenHueHi | 60 |
DefringeGreenHueLo | 40 |
DefringePurpleAmount | 0 |
DefringePurpleHueHi | 70 |
DefringePurpleHueLo | 30 |
Director | Geir Manshaus |
DOF | inf (11.11 m - inf) |
Exposure2012 | 0.00 |
ExposureCompensation | 0 |
ExposureMode | Manual |
ExposureProgram | Manual |
ExposureTime | 1/250 |
Firmware | 1.2.1 |
Flash | Off, Did not fire |
FlashCompensation | 0 |
FNumber | 8.0 |
FocalLength | 24.0 mm |
FocalLength35efl | 24.0 mm (35 mm equivalent: 111.3 mm) |
Format | image/jpeg |
FOV | 18.4 deg |
GrainAmount | 0 |
GreenHue | 0 |
GreenSaturation | 0 |
HasCrop | True |
HasSettings | True |
Highlights2012 | -100 |
HueAdjustmentAqua | 0 |
HueAdjustmentBlue | 0 |
HueAdjustmentGreen | 0 |
HueAdjustmentMagenta | 0 |
HueAdjustmentOrange | 0 |
HueAdjustmentPurple | 0 |
HueAdjustmentRed | 0 |
HueAdjustmentYellow | 0 |
HyperfocalDistance | 11.11 m |
ImageHeight | 889 |
ImageNumber | 0 |
ImageSize | 1200x889 |
ImageWidth | 1200 |
ISO | 640 |
Keywords | Horten |
Lens | EF24-70mm f/2.8L II USM |
LensID (1) | 495 |
LensID | Canon EF 24-70mm f/2.8L II USM |
LensInfo | 24-70mm f/? |
LensManualDistortionAmount | 0 |
LensModel | EF24-70mm f/2.8L II USM |
LensProfileEnable | 0 |
LensProfileSetup | LensDefaults |
LensSerialNumber | 9515006525 |
LightValue | 11.3 |
LuminanceAdjustmentAqua | 0 |
LuminanceAdjustmentBlue | 0 |
LuminanceAdjustmentGreen | 0 |
LuminanceAdjustmentMagenta | 0 |
LuminanceAdjustmentOrange | 0 |
LuminanceAdjustmentPurple | 0 |
LuminanceAdjustmentRed | 0 |
LuminanceAdjustmentYellow | 0 |
LuminanceSmoothing | 0 |
Make | Canon |
Marked | True |
MaxApertureValue | 2.8 |
Megapixels | 1.1 |
MeteringMode | Multi-segment |
Model | Canon EOS 5D Mark III |
ModifyDate (1) | 2013:10:26 19:27:46+02:00 |
ModifyDate | 2013:10:26 19:27:46 |
ParametricDarks | +9 |
ParametricHighlights | +13 |
ParametricHighlightSplit | 75 |
ParametricLights | +6 |
ParametricMidtoneSplit | 50 |
ParametricShadows | +4 |
ParametricShadowSplit | 25 |
PerspectiveAspect | 0 |
PerspectiveHorizontal | 0 |
PerspectiveRotate | 0.0 |
PerspectiveScale | 100 |
PerspectiveUpright | 0 |
PerspectiveVertical | 0 |
PostCropVignetteAmount | 0 |
ProcessVersion | 6.7 |
ProfileDescription | sRGB IEC61966-2.1 |
RecommendedExposureIndex | 640 |
RedHue | 0 |
RedSaturation | 0 |
Rights | Geir Manshaus |
Saturation | 0 |
SaturationAdjustmentAqua | 0 |
SaturationAdjustmentBlue | 0 |
SaturationAdjustmentGreen | 0 |
SaturationAdjustmentMagenta | 0 |
SaturationAdjustmentOrange | 0 |
SaturationAdjustmentPurple | 0 |
SaturationAdjustmentRed | 0 |
SaturationAdjustmentYellow | 0 |
ScaleFactor35efl | 4.6 |
SceneCaptureType | Standard |
SensitivityType | Recommended Exposure Index |
SerialNumber | 053024009161 |
Shadows2012 | +40 |
ShadowTint | 0 |
SharpenDetail | 25 |
SharpenEdgeMasking | 0 |
SharpenRadius | +1.0 |
Sharpness | 57 |
ShutterSpeed | 1/250 |
ShutterSpeedValue | 1/250 |
Software | Adobe Photoshop Lightroom 5.0 (Windows) |
SplitToningBalance | 0 |
SplitToningHighlightHue | 0 |
SplitToningHighlightSaturation | 0 |
SplitToningShadowHue | 0 |
SplitToningShadowSaturation | 0 |
Subject | Horten |
Tint | -2 |
ToneCurveName2012 | Linear |
ToneCurvePV2012 | 0, 0, 255, 255 |
ToneCurvePV2012Blue | 0, 0, 255, 255 |
ToneCurvePV2012Green | 0, 0, 255, 255 |
ToneCurvePV2012Red | 0, 0, 255, 255 |
Version | 8.2 |
Vibrance | 0 |
VignetteAmount | 0 |
WhiteBalance (1) | As Shot |
WhiteBalance | Auto |
Whites2012 | +7 |