Felt | Verdi |
AlreadyApplied | True |
Aperture | 9.0 |
ApertureValue | 9.0 |
ApproximateFocusDistance | 3.72 |
AutoLateralCA | 1 |
BitsPerSample | 8 |
Blacks2012 | +16 |
BlueHue | -27 |
BlueSaturation | 0 |
CameraProfile | Adobe Standard |
CircleOfConfusion | 0.019 mm |
Clarity2012 | +100 |
ColorComponents | 3 |
ColorNoiseReduction | 86 |
ColorNoiseReductionDetail | 50 |
ColorTemperature | 7250 |
Contrast2012 | +38 |
ConvertToGrayscale | True |
CreateDate (1) | 2013:05:03 20:31:13.00 |
CreateDate | 2013:05:03 20:31:13 |
CreatorTool | Adobe Photoshop Lightroom 4.4 (Macintosh) |
CropAngle | 0.4 |
CropBottom | 0.972455 |
CropConstrainToWarp | 0 |
CropHeight | 770 |
CropLeft | 0.004458 |
CropRight | 0.995542 |
CropTop | 0.004164 |
CropUnit | pixels |
CropWidth | 1200 |
CustomRendered | Normal |
DateCreated (1) | 2013:05:03 |
DateCreated | 2013:05:03 20:31:13.00 |
DateTimeOriginal | 2013:05:03 20:31:13 |
DOF | inf (1.84 m - inf) |
Exposure2012 | +0.10 |
ExposureCompensation | 0 |
ExposureMode | Auto |
ExposureProgram | Aperture-priority AE |
ExposureTime | 1/50 |
Firmware | 1.0.9 |
Flash | Off, Did not fire |
FlashCompensation | 0 |
FNumber | 9.0 |
FocalLength | 25.0 mm |
FocalLength35efl | 25.0 mm (35 mm equivalent: 39.3 mm) |
Format | image/jpeg |
FOV | 49.2 deg |
GrainAmount | 0 |
GrayMixerAqua | -21 |
GrayMixerBlue | -4 |
GrayMixerGreen | -67 |
GrayMixerMagenta | -17 |
GrayMixerOrange | +2 |
GrayMixerPurple | -4 |
GrayMixerRed | +6 |
GrayMixerYellow | -8 |
GreenHue | +38 |
GreenSaturation | 0 |
HasCrop | True |
HasSettings | True |
Highlights2012 | -100 |
HyperfocalDistance | 3.64 m |
ImageHeight | 770 |
ImageNumber | 0 |
ImageSize | 1200x770 |
ImageWidth | 1200 |
ISO | 800 |
Lens | EF17-40mm f/4L USM |
LensID (1) | 231 |
LensID | Canon EF 17-40mm f/4L USM |
LensInfo | 17-40mm f/? |
LensManualDistortionAmount | 0 |
LensModel | EF17-40mm f/4L USM |
LensProfileChromaticAberrationScale | 100 |
LensProfileDistortionScale | 100 |
LensProfileEnable | 1 |
LensProfileFilename | Canon EOS-1D Mark III (Canon EF 17-40mm f4 L USM) - RAW.lcp |
LensProfileName | Canon EOS-1D Mark III (Canon EF 17-40mm f/4 L USM) |
LensProfileSetup | LensDefaults |
LensProfileVignettingScale | 100 |
LightValue | 9.0 |
LuminanceSmoothing | 0 |
Make | Canon |
MaxApertureValue | 4.0 |
Megapixels | 0.924 |
MeteringMode | Partial |
Model | Canon EOS 550D |
ModifyDate (1) | 2013:10:30 21:26:49+01:00 |
ModifyDate | 2013:10:30 21:26:49 |
PaintCorrectionActive | true |
PaintCorrectionAmount | 1.000000 |
PaintCorrectionBrightness | 0.000000 |
PaintCorrectionClarity2012 (3) | 0.623529 |
PaintCorrectionClarity2012 | 0.035294 |
PaintCorrectionContrast2012 (1) | 0.247059 |
PaintCorrectionContrast2012 (2) | 0.341176 |
PaintCorrectionContrast2012 (3) | 0.176471 |
PaintCorrectionContrast2012 | 0.435294 |
PaintCorrectionDefringe | 0.000000 |
PaintCorrectionExposure2012 (2) | -0.058824 |
PaintCorrectionExposure2012 (3) | 0.129412 |
PaintCorrectionExposure2012 | -0.035294 |
PaintCorrectionHighlights2012 (2) | 0.000000 |
PaintCorrectionHighlights2012 (3) | 0.388235 |
PaintCorrectionHighlights2012 | -0.458824 |
PaintCorrectionHue | 57.000000 |
PaintCorrectionLuminanceNoise | 0.000000 |
PaintCorrectionMaskCenterWeight (10) | 0.072806 |
PaintCorrectionMaskCenterWeight (22) | 0.024400 |
PaintCorrectionMaskCenterWeight | 0.004580 |
PaintCorrectionMaskFlow (14) | 0.681379 |
PaintCorrectionMaskFlow (23) | 1.000000 |
PaintCorrectionMaskFlow | 0.613103 |
PaintCorrectionMaskRadius (1) | 0.111725 |
PaintCorrectionMaskRadius (10) | 0.116745 |
PaintCorrectionMaskRadius (11) | 0.114879 |
PaintCorrectionMaskRadius (12) | 0.116957 |
PaintCorrectionMaskRadius (13) | 0.117039 |
PaintCorrectionMaskRadius (14) | 0.122947 |
PaintCorrectionMaskRadius (15) | 0.122771 |
PaintCorrectionMaskRadius (16) | 0.124095 |
PaintCorrectionMaskRadius (17) | 0.125657 |
PaintCorrectionMaskRadius (2) | 0.111909 |
PaintCorrectionMaskRadius (21) | 0.281879 |
PaintCorrectionMaskRadius (22) | 0.124859 |
PaintCorrectionMaskRadius (23) | 0.125723 |
PaintCorrectionMaskRadius (24) | 0.124857 |
PaintCorrectionMaskRadius (25) | 0.124597 |
PaintCorrectionMaskRadius (26) | 0.124274 |
PaintCorrectionMaskRadius (27) | 0.132311 |
PaintCorrectionMaskRadius (3) | 0.115527 |
PaintCorrectionMaskRadius (30) | 0.231757 |
PaintCorrectionMaskRadius (38) | 0.099839 |
PaintCorrectionMaskRadius (39) | 0.241535 |
PaintCorrectionMaskRadius (4) | 0.116639 |
PaintCorrectionMaskRadius (41) | 0.125616 |
PaintCorrectionMaskRadius (42) | 0.248917 |
PaintCorrectionMaskRadius (5) | 0.116411 |
PaintCorrectionMaskRadius (6) | 0.115538 |
PaintCorrectionMaskRadius (7) | 0.115141 |
PaintCorrectionMaskRadius (8) | 0.115729 |
PaintCorrectionMaskRadius (9) | 0.116475 |
PaintCorrectionMaskRadius | 0.249713 |
PaintCorrectionMaskValue (24) | 0.000000 |
PaintCorrectionMaskValue | 1.000000 |
PaintCorrectionMaskWhat | Mask/Paint |
PaintCorrectionMoire | 0.000000 |
PaintCorrectionSaturation (1) | -0.247059 |
PaintCorrectionSaturation | 0.000000 |
PaintCorrectionShadows2012 (3) | 0.576471 |
PaintCorrectionShadows2012 | 0.000000 |
PaintCorrectionSharpness | 0.000000 |
PaintCorrectionTemperature (1) | -0.388235 |
PaintCorrectionTemperature | 0.000000 |
PaintCorrectionTint | 0.000000 |
PaintCorrectionWhat | Correction |
ParametricDarks | 0 |
ParametricHighlights | 0 |
ParametricHighlightSplit | 75 |
ParametricLights | 0 |
ParametricMidtoneSplit | 50 |
ParametricShadows | 0 |
ParametricShadowSplit | 25 |
PerspectiveHorizontal | 0 |
PerspectiveRotate | 0.0 |
PerspectiveScale | 100 |
PerspectiveVertical | 0 |
PostCropVignetteAmount | -20 |
PostCropVignetteFeather | 50 |
PostCropVignetteHighlightContrast | 0 |
PostCropVignetteMidpoint | 50 |
PostCropVignetteRoundness | 0 |
PostCropVignetteStyle | 1 |
ProcessVersion | 6.7 |
ProfileDescription | sRGB IEC61966-2.1 |
RedHue | +27 |
RedSaturation | 0 |
ScaleFactor35efl | 1.6 |
SceneCaptureType | Standard |
SerialNumber | 1935004596 |
Shadows2012 | +96 |
ShadowTint | -29 |
SharpenDetail | 0 |
SharpenEdgeMasking | 97 |
SharpenRadius | +0.5 |
Sharpness | 60 |
ShutterSpeed | 1/50 |
ShutterSpeedValue | 1/50 |
Software | Adobe Photoshop Lightroom 4.4 (Macintosh) |
SplitToningBalance | 0 |
SplitToningHighlightHue | 57 |
SplitToningHighlightSaturation | 27 |
SplitToningShadowHue | 298 |
SplitToningShadowSaturation | 9 |
Tint | +7 |
ToneCurveName2012 | Custom |
ToneCurvePV2012 | 0, 0, 136, 122, 255, 255 |
ToneCurvePV2012Blue | 0, 0, 255, 255 |
ToneCurvePV2012Green | 0, 0, 255, 255 |
ToneCurvePV2012Red | 0, 0, 255, 255 |
Version | 7.4 |
VignetteAmount | 0 |
WhiteBalance (1) | As Shot |
WhiteBalance | Auto |
Whites2012 | +47 |