Felt | Verdi |
AlreadyApplied | True |
Aperture | 5.6 |
ApertureValue | 5.6 |
ApproximateFocusDistance | 4294967295 |
AutoLateralCA | 0 |
BitsPerSample | 8 |
Blacks2012 | 0 |
BlueHue | 0 |
BlueSaturation | 0 |
CameraProfile | Adobe Standard |
CFAPattern | [Red,Green][Green,Blue] |
CircleOfConfusion | 0.030 mm |
Clarity2012 | -9 |
ColorComponents | 3 |
ColorNoiseReduction | 25 |
ColorNoiseReductionDetail | 50 |
ColorTemperature | 5100 |
Contrast | Normal |
Contrast2012 | +29 |
ConvertToGrayscale | False |
CreateDate (1) | 2013:05:20 06:59:51.32 |
CreateDate | 2013:05:20 06:59:51 |
CreatorTool | Adobe Photoshop Lightroom 4.4 (Macintosh) |
CropAngle | 2.0437 |
CropBottom | 0.978883 |
CropConstrainToWarp | 0 |
CropHeight | 2585 |
CropLeft | 0.021656 |
CropRight | 0.913534 |
CropTop | 0.017864 |
CropUnit | pixels |
CropWidth | 3890 |
CustomRendered | Normal |
DateCreated (1) | 2013:05:20 |
DateCreated | 2013:05:20 06:59:51.32 |
DateTimeOriginal | 2013:05:20 06:59:51 |
DefringeGreenAmount | 0 |
DefringeGreenHueHi | 60 |
DefringeGreenHueLo | 40 |
DefringePurpleAmount | 0 |
DefringePurpleHueHi | 70 |
DefringePurpleHueLo | 30 |
DigitalZoomRatio | 1 |
DOF | inf (79.97 m - inf) |
Exposure2012 | 0.00 |
ExposureCompensation | 0 |
ExposureMode | Manual |
ExposureProgram | Manual |
ExposureTime | 1/20 |
Flash | No Flash |
FNumber | 5.6 |
FocalLength | 116.0 mm |
FocalLength35efl | 116.0 mm (35 mm equivalent: 116.0 mm) |
FocalLengthIn35mmFormat | 116 mm |
Format | image/jpeg |
FOV | 17.6 deg |
GainControl | None |
GradientBasedCorrActive | true |
GradientBasedCorrAmount | 1.000000 |
GradientBasedCorrBrightness | 0.320225 |
GradientBasedCorrClarity2012 (1) | -0.528090 |
GradientBasedCorrClarity2012 (2) | -1.000000 |
GradientBasedCorrClarity2012 (3) | 0.955056 |
GradientBasedCorrClarity2012 | -0.797753 |
GradientBasedCorrContrast2012 (1) | -0.483146 |
GradientBasedCorrContrast2012 (2) | -0.325843 |
GradientBasedCorrContrast2012 (3) | 0.325843 |
GradientBasedCorrContrast2012 | 0.004301 |
GradientBasedCorrDefringe | 0.000000 |
GradientBasedCorrExposure2012 (1) | -0.029582 |
GradientBasedCorrExposure2012 (3) | -0.066977 |
GradientBasedCorrExposure2012 | 0.000000 |
GradientBasedCorrHighlights2012 (1) | -0.348315 |
GradientBasedCorrHighlights2012 (2) | -0.235955 |
GradientBasedCorrHighlights2012 (3) | 0.662921 |
GradientBasedCorrHighlights2012 | 0.078652 |
GradientBasedCorrHue | 233.000000 |
GradientBasedCorrLuminanceNoise (1) | -0.483146 |
GradientBasedCorrLuminanceNoise (2) | 0.528090 |
GradientBasedCorrLuminanceNoise (3) | 0.056180 |
GradientBasedCorrLuminanceNoise | 0.012114 |
GradientBasedCorrMaskFullX (1) | 0.654878 |
GradientBasedCorrMaskFullX (2) | 0.262116 |
GradientBasedCorrMaskFullX (3) | 0.437918 |
GradientBasedCorrMaskFullX | 0.425811 |
GradientBasedCorrMaskFullY (1) | 0.365434 |
GradientBasedCorrMaskFullY (2) | 0.384371 |
GradientBasedCorrMaskFullY (3) | 0.849491 |
GradientBasedCorrMaskFullY | 0.519795 |
GradientBasedCorrMaskValue | 1.000000 |
GradientBasedCorrMaskWhat | Mask/Gradient |
GradientBasedCorrMaskZeroX (1) | 0.614185 |
GradientBasedCorrMaskZeroX (2) | 0.289058 |
GradientBasedCorrMaskZeroX (3) | 0.439460 |
GradientBasedCorrMaskZeroX | 0.419995 |
GradientBasedCorrMaskZeroY (1) | 0.401594 |
GradientBasedCorrMaskZeroY (2) | 0.403474 |
GradientBasedCorrMaskZeroY (3) | 0.784553 |
GradientBasedCorrMaskZeroY | 0.808202 |
GradientBasedCorrMoire | -0.005442 |
GradientBasedCorrSaturation (1) | 0.033708 |
GradientBasedCorrSaturation (3) | -0.191011 |
GradientBasedCorrSaturation (5) | 0.056180 |
GradientBasedCorrSaturation | 0.000000 |
GradientBasedCorrShadows2012 (1) | 0.258427 |
GradientBasedCorrShadows2012 (2) | -0.235955 |
GradientBasedCorrShadows2012 (3) | 0.010270 |
GradientBasedCorrShadows2012 | 0.550562 |
GradientBasedCorrSharpness (1) | -0.483146 |
GradientBasedCorrSharpness (2) | -0.640449 |
GradientBasedCorrSharpness (3) | 0.076721 |
GradientBasedCorrSharpness | -0.004565 |
GradientBasedCorrTemperature (3) | -0.031777 |
GradientBasedCorrTemperature | 0.000000 |
GradientBasedCorrTint | -0.011236 |
GradientBasedCorrWhat | Correction |
GrainAmount | 0 |
GreenHue | 0 |
GreenSaturation | 0 |
HasCrop | True |
HasSettings | True |
Highlights2012 | -4 |
HueAdjustmentAqua | 0 |
HueAdjustmentBlue | 0 |
HueAdjustmentGreen | 0 |
HueAdjustmentMagenta | 0 |
HueAdjustmentOrange | 0 |
HueAdjustmentPurple | 0 |
HueAdjustmentRed | 0 |
HueAdjustmentYellow | 0 |
HyperfocalDistance | 79.97 m |
ImageHeight | 2585 |
ImageNumber | 66732 |
ImageSize | 3890x2585 |
ImageWidth | 3890 |
ISO | 100 |
Lens | 28.0-300.0 mm f/3.5-5.6 |
LensID (1) | 165 |
LensID | AF-S Nikkor 28-300mm f/3.5-5.6G ED VR |
LensInfo | 28-300mm f/3.5-5.6 |
LensManualDistortionAmount | 0 |
LensModel | 28.0-300.0 mm f/3.5-5.6 |
LensProfileEnable | 0 |
LensProfileSetup | LensDefaults |
LightSource | Fine Weather |
LightValue | 9.3 |
LuminanceAdjustmentAqua | 0 |
LuminanceAdjustmentBlue | 0 |
LuminanceAdjustmentGreen | 0 |
LuminanceAdjustmentMagenta | 0 |
LuminanceAdjustmentOrange | 0 |
LuminanceAdjustmentPurple | 0 |
LuminanceAdjustmentRed | 0 |
LuminanceAdjustmentYellow | 0 |
LuminanceSmoothing | 0 |
Make | NIKON CORPORATION |
MaxApertureValue | 5.7 |
Megapixels | 10.1 |
MeteringMode | Multi-segment |
Model | NIKON D3S |
ModifyDate (1) | 2013:09:19 06:47:25+02:00 |
ModifyDate | 2013:09:19 06:47:25 |
PaintCorrectionActive | true |
PaintCorrectionAmount | 1.000000 |
PaintCorrectionBrightness | 0.320225 |
PaintCorrectionClarity2012 (1) | 0.752809 |
PaintCorrectionClarity2012 | -0.955056 |
PaintCorrectionContrast2012 (1) | 0.602353 |
PaintCorrectionContrast2012 | -0.955056 |
PaintCorrectionDefringe | 0.000000 |
PaintCorrectionExposure2012 (1) | 0.000000 |
PaintCorrectionExposure2012 | 0.095681 |
PaintCorrectionHighlights2012 (1) | 0.325843 |
PaintCorrectionHighlights2012 | -0.910112 |
PaintCorrectionHue | 233.000000 |
PaintCorrectionLuminanceNoise (1) | 0.528090 |
PaintCorrectionLuminanceNoise | -1.000000 |
PaintCorrectionMaskCenterWeight (1) | 0.098504 |
PaintCorrectionMaskCenterWeight | 0.301095 |
PaintCorrectionMaskFlow | 1.000000 |
PaintCorrectionMaskRadius (19) | 0.060917 |
PaintCorrectionMaskRadius (2) | 0.208729 |
PaintCorrectionMaskRadius | 0.020154 |
PaintCorrectionMaskValue | 0.549451 |
PaintCorrectionMaskWhat | Mask/Paint |
PaintCorrectionMoire | -0.005442 |
PaintCorrectionSaturation (1) | 0.568294 |
PaintCorrectionSaturation (3) | 0.415730 |
PaintCorrectionSaturation | 0.000000 |
PaintCorrectionShadows2012 (1) | -0.107795 |
PaintCorrectionShadows2012 | -0.910112 |
PaintCorrectionSharpness (1) | 0.640449 |
PaintCorrectionSharpness | -1.000000 |
PaintCorrectionTemperature (1) | 0.258427 |
PaintCorrectionTemperature | -0.031777 |
PaintCorrectionTint | -0.011236 |
PaintCorrectionWhat | Correction |
ParametricDarks | 0 |
ParametricHighlights | 0 |
ParametricHighlightSplit | 75 |
ParametricLights | 0 |
ParametricMidtoneSplit | 50 |
ParametricShadows | 0 |
ParametricShadowSplit | 25 |
PerspectiveHorizontal | 0 |
PerspectiveRotate | 0.0 |
PerspectiveScale | 100 |
PerspectiveVertical | 0 |
PostCropVignetteAmount | 0 |
ProcessVersion | 6.7 |
ProfileDescription | sRGB IEC61966-2.1 |
Rating | 5 |
RedHue | 0 |
RedSaturation | 0 |
Saturation (1) | +30 |
Saturation | Normal |
SaturationAdjustmentAqua | 0 |
SaturationAdjustmentBlue | 0 |
SaturationAdjustmentGreen | 0 |
SaturationAdjustmentMagenta | 0 |
SaturationAdjustmentOrange | 0 |
SaturationAdjustmentPurple | 0 |
SaturationAdjustmentRed | 0 |
SaturationAdjustmentYellow | 0 |
ScaleFactor35efl | 1.0 |
SceneCaptureType | Standard |
SceneType | Directly photographed |
SensingMethod | One-chip color area |
SerialNumber | 2058033 |
Shadows2012 | +38 |
ShadowTint | 0 |
SharpenDetail | 25 |
SharpenEdgeMasking | 0 |
SharpenRadius | +1.0 |
Sharpness (1) | 25 |
Sharpness | Normal |
ShutterSpeed | 1/20 |
ShutterSpeedValue | 1/20 |
Software | Adobe Photoshop Lightroom 4.4 (Macintosh) |
SplitToningBalance | 0 |
SplitToningHighlightHue | 0 |
SplitToningHighlightSaturation | 0 |
SplitToningShadowHue | 0 |
SplitToningShadowSaturation | 0 |
SubjectDistanceRange | Unknown |
Tint | +10 |
ToneCurveName2012 | Linear |
ToneCurvePV2012 | 0, 0, 255, 255 |
ToneCurvePV2012Blue | 0, 0, 255, 255 |
ToneCurvePV2012Green | 0, 0, 255, 255 |
ToneCurvePV2012Red | 0, 0, 255, 255 |
Version | 7.4 |
Vibrance | 0 |
VignetteAmount | 0 |
WhiteBalance (1) | As Shot |
WhiteBalance | Manual |
Whites2012 | 0 |