Felt | Verdi |
AlreadyApplied | True |
Aperture | 6.3 |
ApertureValue | 6.3 |
ApproximateFocusDistance | 0.17 |
AutoLateralCA | 0 |
AutoWhiteVersion | 134348800 |
BitsPerSample | 8 |
Blacks2012 | -5 |
BlueHue | 0 |
BlueSaturation | 0 |
CameraProfile | Embedded |
CFAPattern | [Red,Green][Green,Blue] |
CircleOfConfusion | 0.030 mm |
Clarity2012 | -3 |
ColorComponents | 3 |
ColorNoiseReduction | 0 |
ColorSpace | sRGB |
Contrast | Normal |
Contrast2012 | +15 |
ConvertToGrayscale | False |
CreateDate (1) | 2012:04:24 05:49:13.70+02:00 |
CreateDate | 2012:04:24 05:49:13 |
CreatorTool | Adobe Photoshop Lightroom 5.0 (Windows) |
CustomRendered | Normal |
DateCreated (1) | 2012:04:24 |
DateCreated | 2012:04:24 05:49:13.007 |
DateTimeOriginal | 2012:04:24 05:49:13 |
DefringeGreenAmount | 0 |
DefringeGreenHueHi | 60 |
DefringeGreenHueLo | 40 |
DefringePurpleAmount | 0 |
DefringePurpleHueHi | 70 |
DefringePurpleHueLo | 30 |
DigitalZoomRatio | 1 |
DOF | 0.002 m (0.169 - 0.171 m) |
Exposure2012 | -0.03 |
ExposureCompensation | 0 |
ExposureMode | Manual |
ExposureProgram | Manual |
ExposureTime | 1/100 |
Flash | Off, Did not fire |
FNumber | 6.3 |
FocalLength | 65.0 mm |
FocalLength35efl | 65.0 mm (35 mm equivalent: 65.0 mm) |
FocalLengthIn35mmFormat | 65 mm |
Format | image/jpeg |
FOV | 31.0 deg |
GainControl | None |
GrainAmount | 0 |
GreenHue | 0 |
GreenSaturation | 0 |
HasCrop | False |
HasSettings | True |
Highlights2012 | -63 |
HueAdjustmentAqua | 0 |
HueAdjustmentBlue | 0 |
HueAdjustmentGreen | 0 |
HueAdjustmentMagenta | 0 |
HueAdjustmentOrange | 0 |
HueAdjustmentPurple | 0 |
HueAdjustmentRed | 0 |
HueAdjustmentYellow | 0 |
HyperfocalDistance | 22.32 m |
ImageHeight | 7360 |
ImageNumber | 2610 |
ImageSize | 4912x7360 |
ImageWidth | 4912 |
IncrementalTemperature | 0 |
IncrementalTint | 0 |
ISO | 100 |
Lens | 24.0-85.0 mm f/3.5-4.5 |
LensID (1) | 93 |
LensID | AF-S Zoom-Nikkor 28-70mm f/2.8D IF-ED |
LensInfo | 24-85mm f/3.5-4.5 |
LensManualDistortionAmount | 0 |
LensModel | 24.0-85.0 mm f/3.5-4.5 |
LensProfileChromaticAberrationScale | 100 |
LensProfileDistortionScale | 100 |
LensProfileEnable | 1 |
LensProfileFilename | Canon EOS-1Ds Mark III (Canon EF 50mm f1.4 USM).lcp |
LensProfileName | Adobe (Canon EF 50mm f/1.4 USM) |
LensProfileSetup | Custom |
LensProfileVignettingScale | 100 |
LightSource | Unknown |
LightValue | 12.0 |
LuminanceAdjustmentAqua | 0 |
LuminanceAdjustmentBlue | 0 |
LuminanceAdjustmentGreen | 0 |
LuminanceAdjustmentMagenta | 0 |
LuminanceAdjustmentOrange | 0 |
LuminanceAdjustmentPurple | 0 |
LuminanceAdjustmentRed | 0 |
LuminanceAdjustmentYellow | 0 |
LuminanceSmoothing | 0 |
Make | NIKON CORPORATION |
MaxApertureValue | 4.4 |
Megapixels | 36.2 |
MeteringMode | Multi-segment |
Model | NIKON D800 |
ModifyDate (1) | 2013:11:16 02:42:39+01:00 |
ModifyDate | 2013:11:16 02:42:39 |
ParametricDarks | -20 |
ParametricHighlights | +83 |
ParametricHighlightSplit | 75 |
ParametricLights | +4 |
ParametricMidtoneSplit | 50 |
ParametricShadows | -13 |
ParametricShadowSplit | 25 |
PerspectiveAspect | 0 |
PerspectiveHorizontal | 0 |
PerspectiveRotate | 0.0 |
PerspectiveScale | 100 |
PerspectiveUpright | 0 |
PerspectiveVertical | 0 |
PostCropVignetteAmount | 0 |
ProcessVersion | 6.7 |
ProfileDescription | sRGB IEC61966-2.1 |
RedHue | 0 |
RedSaturation | 0 |
Saturation (1) | -12 |
Saturation | Normal |
SaturationAdjustmentAqua | 0 |
SaturationAdjustmentBlue | 0 |
SaturationAdjustmentGreen | 0 |
SaturationAdjustmentMagenta | 0 |
SaturationAdjustmentOrange | 0 |
SaturationAdjustmentPurple | 0 |
SaturationAdjustmentRed | 0 |
SaturationAdjustmentYellow | 0 |
ScaleFactor35efl | 1.0 |
SceneCaptureType | Standard |
SceneType | Directly photographed |
SensingMethod | One-chip color area |
SensitivityType | Recommended Exposure Index |
Shadows2012 | +6 |
ShadowTint | 0 |
SharpenDetail | 97 |
SharpenEdgeMasking | 88 |
SharpenRadius | +3.0 |
Sharpness (1) | 145 |
Sharpness | Normal |
ShutterSpeed | 1/100 |
ShutterSpeedValue | 1/100 |
Software | Adobe Photoshop Lightroom 5.0 (Windows) |
SplitToningBalance | 0 |
SplitToningHighlightHue | 0 |
SplitToningHighlightSaturation | 0 |
SplitToningShadowHue | 0 |
SplitToningShadowSaturation | 0 |
SubjectDistance | 0.17 m |
SubjectDistanceRange | Unknown |
ToneCurveName2012 | Linear |
ToneCurvePV2012 | 0, 0, 255, 255 |
ToneCurvePV2012Blue | 0, 0, 255, 255 |
ToneCurvePV2012Green | 0, 0, 255, 255 |
ToneCurvePV2012Red | 0, 0, 255, 255 |
Version | 8.2 |
Vibrance | +44 |
VignetteAmount | 0 |
WhiteBalance (1) | As Shot |
WhiteBalance | Auto |
Whites2012 | +12 |