Felt | Verdi |
AlreadyApplied | True |
Aperture | 3.4 |
ApertureValue | 3.4 |
AutoLateralCA | 0 |
AutoWhiteVersion | 134348800 |
BitsPerSample | 8 |
Blacks2012 | -5 |
BlueHue | 0 |
BlueSaturation | 0 |
CameraProfile | Embedded |
CircleOfConfusion | 0.005 mm |
Clarity2012 | +36 |
ColorComponents | 3 |
ColorNoiseReduction | 0 |
ColorSpace | sRGB |
Contrast2012 | +40 |
ConvertToGrayscale | False |
CreateDate | 2010:09:15 20:11:41 |
CreatorTool | Adobe Photoshop Lightroom 5.0 (Windows) |
Creatortool | Microsoft Windows Photo Gallery 6.0.6001.18000 |
CropAngle | 0 |
CropBottom | 1 |
CropConstrainToWarp | 0 |
CropLeft | 0.014085 |
CropRight | 1 |
CropTop | 0.010582 |
CustomRendered | Normal |
DateCreated (1) | 2010:09:15 |
DateCreated | 2010:09:15 20:11:41 |
DateTimeOriginal | 2010:09:15 20:11:41 |
DefringeGreenAmount | 0 |
DefringeGreenHueHi | 60 |
DefringeGreenHueLo | 40 |
DefringePurpleAmount | 0 |
DefringePurpleHueHi | 70 |
DefringePurpleHueLo | 30 |
DigitalZoomRatio | 1 |
Exposure2012 | -1.30 |
ExposureCompensation | 0 |
ExposureMode | Auto |
ExposureTime | 1/20 |
Flash | Auto, Fired, Red-eye reduction |
FNumber | 3.4 |
FocalLength | 6.7 mm |
FocalLength35efl | 6.7 mm (35 mm equivalent: 37.2 mm) |
Format | image/jpeg |
FOV | 51.7 deg |
GrainAmount | 0 |
GreenHue | 0 |
GreenSaturation | 0 |
HasCrop | True |
HasSettings | True |
Highlights2012 | 0 |
HueAdjustmentAqua | 0 |
HueAdjustmentBlue | 0 |
HueAdjustmentGreen | 0 |
HueAdjustmentMagenta | 0 |
HueAdjustmentOrange | 0 |
HueAdjustmentPurple | 0 |
HueAdjustmentRed | 0 |
HueAdjustmentYellow | 0 |
HyperfocalDistance | 2.42 m |
ImageHeight | 3958 |
ImageSize | 2958x3958 |
ImageWidth | 2958 |
IncrementalTemperature | +50 |
IncrementalTint | 0 |
ISO | 400 |
LensManualDistortionAmount | 0 |
LensProfileEnable | 0 |
LensProfileSetup | LensDefaults |
LightValue | 5.9 |
LuminanceAdjustmentAqua | 0 |
LuminanceAdjustmentBlue | 0 |
LuminanceAdjustmentGreen | 0 |
LuminanceAdjustmentMagenta | 0 |
LuminanceAdjustmentOrange | 0 |
LuminanceAdjustmentPurple | 0 |
LuminanceAdjustmentRed | 0 |
LuminanceAdjustmentYellow | 0 |
LuminanceNoiseReductionContrast | 25 |
LuminanceNoiseReductionDetail | 50 |
LuminanceSmoothing | 70 |
Make | Canon |
MaxApertureValue | 3.4 |
Megapixels | 11.7 |
MeteringMode | Multi-segment |
Model | Canon PowerShot SX200 IS |
ModifyDate (1) | 2013:12:03 21:19:00+01:00 |
ModifyDate | 2013:12:03 21:19:00 |
ParametricDarks | +5 |
ParametricHighlights | 0 |
ParametricHighlightSplit | 84 |
ParametricLights | -21 |
ParametricMidtoneSplit | 59 |
ParametricShadows | -1 |
ParametricShadowSplit | 10 |
PerspectiveAspect | 0 |
PerspectiveHorizontal | 0 |
PerspectiveRotate | 0.0 |
PerspectiveScale | 100 |
PerspectiveUpright | 0 |
PerspectiveVertical | 0 |
PostCropVignetteAmount | 0 |
ProcessVersion | 6.7 |
ProfileDescription | sRGB IEC61966-2.1 |
RedHue | 0 |
RedSaturation | 0 |
Saturation | -44 |
SaturationAdjustmentAqua | 0 |
SaturationAdjustmentBlue | +14 |
SaturationAdjustmentGreen | 0 |
SaturationAdjustmentMagenta | 0 |
SaturationAdjustmentOrange | 0 |
SaturationAdjustmentPurple | 0 |
SaturationAdjustmentRed | +32 |
SaturationAdjustmentYellow | 0 |
ScaleFactor35efl | 5.6 |
SceneCaptureType | Standard |
SensingMethod | One-chip color area |
Shadows2012 | 0 |
ShadowTint | 0 |
SharpenDetail | 25 |
SharpenEdgeMasking | 0 |
SharpenRadius | +1.0 |
Sharpness | 25 |
ShutterSpeed | 1/20 |
ShutterSpeedValue | 1/20 |
Software (1) | Microsoft Windows Photo Gallery 6.0.6001.18000 |
Software | Adobe Photoshop Lightroom 5.0 (Windows) |
SplitToningBalance | 0 |
SplitToningHighlightHue | 0 |
SplitToningHighlightSaturation | 0 |
SplitToningShadowHue | 0 |
SplitToningShadowSaturation | 0 |
ToneCurveName2012 | Linear |
ToneCurvePV2012 | 0, 0, 255, 255 |
ToneCurvePV2012Blue | 0, 0, 255, 255 |
ToneCurvePV2012Green | 0, 0, 255, 255 |
ToneCurvePV2012Red | 0, 0, 255, 255 |
Version | 8.2 |
Vibrance | 0 |
VignetteAmount | 0 |
WhiteBalance (1) | Custom |
WhiteBalance | Auto |
Whites2012 | 0 |