Felt | Verdi |
AlreadyApplied | True |
Aperture | 11.0 |
ApertureValue | 11.0 |
Artist | Jan-Egil Woll - j-ew@myway.com |
BitsPerSample | 8 |
BlueHue | 0 |
BlueSaturation | 0 |
Brightness | -33 |
BrightnessValue | 9.26328125 |
By-line | Jan-Egil Woll - j-ew@myway.com |
CameraProfile | Embedded |
Caption-Abstract | Kureskj¾r |
ChromaticAberrationB | 0 |
ChromaticAberrationR | 0 |
CircleOfConfusion | 0.020 mm |
Clarity | +33 |
ColorComponents | 1 |
ColorMode | RGB |
ColorNoiseReduction | 0 |
ColorSpace | Uncalibrated |
CompressedBitsPerPixel | 5 |
Contrast (2) | +21 |
Contrast | Normal |
ConvertToGrayscale | False |
Copyright | Jan-Egil Woll - j-ew@myway.com |
CopyrightNotice | Jan-Egil Woll - j-ew@myway.com |
CreateDate (1) | 2012:11:07 10:09:44+01:00 |
CreateDate | 2012:11:07 10:09:44 |
Creator | Jan-Egil Woll - j-ew@myway.com |
CreatorTool | Elements Organizer 9.0 |
CustomRendered | Custom |
DateCreated | 2012:11:07 |
DateTimeDigitized | 2012:11:07 10:09:44+01:00 |
DateTimeOriginal (1) | 2012:11:07 10:09:44+01:00 |
DateTimeOriginal | 2012:11:07 10:09:44 |
Defringe | 0 |
Description | Kureskjær |
ExifImageHeight | 4000 |
ExifImageWidth | 6000 |
Exposure | -0.45 |
ExposureCompensation | +0.7 |
ExposureMode | Auto |
ExposureProgram | Aperture-priority AE |
ExposureTime | 1/60 |
FillLight | 0 |
Flash | Off, Did not fire |
FlashFired | False |
FlashFunction | False |
FlashMode | Off |
FlashRedEyeMode | False |
FlashReturn | No return detection |
FNumber | 11.0 |
FocalLength | 30.0 mm |
FocalLength35efl | 30.0 mm (35 mm equivalent: 45.0 mm) |
FocalLengthIn35mmFormat | 45 mm |
Format | image/jpeg |
FOV | 43.6 deg |
GPSAltitude (2) | 16.173 m |
GPSAltitude | 16.1 m Above Sea Level |
GPSAltitudeRef | Above Sea Level |
GPSDateStamp | 2012:11:07 |
GPSDateTime | 2012:11:07 08:09:51Z |
GPSDifferential | No Correction |
GPSDOP | 1.1558 |
GPSLatitude (1) | 59 deg 20' 22.44" N |
GPSLatitude (2) | 59 deg 20' 22.00" |
GPSLatitude | 59 deg 20' 22.00" N |
GPSLatitudeRef | North |
GPSLongitude (1) | 10 deg 43' 48.96" E |
GPSLongitude (2) | 10 deg 43' 48.00" |
GPSLongitude | 10 deg 43' 48.00" E |
GPSLongitudeRef | East |
GPSMapDatum | WGS-84 |
GPSMeasureMode (1) | 3-Dimensional |
GPSMeasureMode | 3-Dimensional Measurement |
GPSPosition | 59 deg 20' 22.00" N, 10 deg 43' 48.00" E |
GPSSpeed | 1.395 |
GPSSpeedRef | km/h |
GPSStatus | Measurement Active |
GPSTimeStamp | 08:09:51 |
GPSTrack | 59.06 |
GPSTrackRef | True North |
GPSVersionID | 2.3.0.0 |
GrainAmount | 0 |
GreenHue | 0 |
GreenSaturation | 0 |
HasCrop | False |
HasSettings | True |
HighlightRecovery | 0 |
HueAdjustmentAqua | 0 |
HueAdjustmentBlue | 0 |
HueAdjustmentGreen | 0 |
HueAdjustmentMagenta | 0 |
HueAdjustmentOrange | 0 |
HueAdjustmentPurple | 0 |
HueAdjustmentRed | 0 |
HueAdjustmentYellow | 0 |
HyperfocalDistance | 4.08 m |
ICCProfileName | Adobe RGB (1998) |
ImageDescription | Kureskjær |
ImageHeight | 4000 |
ImageSize | 6000x4000 |
ImageWidth | 6000 |
IncrementalTemperature | +33 |
IncrementalTint | 0 |
ISO | 100 |
Lens | DT 16-50mm F2.8 SSM |
LensInfo | 16-50mm f/2.8 |
LensManualDistortionAmount | 0 |
LensModel | DT 16-50mm F2.8 SSM |
LensProfileEnable | 0 |
LensProfileSetup | LensDefaults |
LightSource | Unknown |
LightValue | 12.8 |
LuminanceAdjustmentAqua | 0 |
LuminanceAdjustmentBlue | 0 |
LuminanceAdjustmentGreen | 0 |
LuminanceAdjustmentMagenta | 0 |
LuminanceAdjustmentOrange | 0 |
LuminanceAdjustmentPurple | 0 |
LuminanceAdjustmentRed | 0 |
LuminanceAdjustmentYellow | 0 |
LuminanceNoiseReductionContrast | 0 |
LuminanceNoiseReductionDetail | 50 |
LuminanceSmoothing | 42 |
Make | SONY |
MaxApertureValue | 2.8 |
Megapixels | 24.0 |
MeteringMode | Multi-segment |
Model | SLT-A77V |
ModifyDate (1) | 2013:03:04 11:44:36+01:00 |
ModifyDate | 2013:03:04 11:44:36 |
Orientation | Horizontal (normal) |
ParametricDarks | 0 |
ParametricHighlights | 0 |
ParametricHighlightSplit | 75 |
ParametricLights | 0 |
ParametricMidtoneSplit | 50 |
ParametricShadows | 0 |
ParametricShadowSplit | 25 |
PerspectiveHorizontal | 0 |
PerspectiveRotate | 0.0 |
PerspectiveScale | 100 |
PerspectiveVertical | 0 |
PostCropVignetteAmount | 0 |
ProcessVersion | 5.7 |
ProfileDescription | Adobe RGB (1998) |
Rating | 0 |
RawFileName | DSC01153_edited-1.jpg |
RecommendedExposureIndex | 100 |
RedHue | 0 |
RedSaturation | 0 |
Rights | Jan-Egil Woll - j-ew@myway.com |
Saturation (2) | -100 |
Saturation | Normal |
SaturationAdjustmentAqua | 0 |
SaturationAdjustmentBlue | 0 |
SaturationAdjustmentGreen | 0 |
SaturationAdjustmentMagenta | 0 |
SaturationAdjustmentOrange | 0 |
SaturationAdjustmentPurple | 0 |
SaturationAdjustmentRed | 0 |
SaturationAdjustmentYellow | 0 |
ScaleFactor35efl | 1.5 |
SceneCaptureType | Standard |
SceneType | Directly photographed |
SensitivityType (1) | 2 |
SensitivityType | Recommended Exposure Index |
Shadows | 8 |
ShadowTint | 0 |
SharpenDetail | 64 |
SharpenEdgeMasking | 0 |
SharpenRadius | +1.4 |
Sharpness (2) | 28 |
Sharpness | Normal |
ShutterSpeed | 1/60 |
ShutterSpeedValue | 1/60 |
Software | Adobe Photoshop Elements 9.0 Macintosh |
SplitToningBalance | 0 |
SplitToningHighlightHue | 0 |
SplitToningHighlightSaturation | 0 |
SplitToningShadowHue | 0 |
SplitToningShadowSaturation | 0 |
ToneCurve | 0, 0, 255, 255 |
ToneCurveName | Linear |
URL_List | |
Version | 6.5 |
Vibrance | +47 |
VignetteAmount | 0 |
WhiteBalance (2) | Custom |
WhiteBalance | Auto |