Felt | Verdi |
AlreadyApplied | True |
Aperture | 3.5 |
ApertureValue | 3.5 |
ApproximateFocusDistance | 1.74 |
AutoLateralCA | 0 |
BitsPerSample | 8 |
Blacks2012 | +65 |
BlueHue | 0 |
BlueSaturation | 0 |
CameraProfile | Adobe Standard |
CircleOfConfusion | 0.019 mm |
Clarity2012 | +85 |
ColorComponents | 1 |
ColorMode | RGB |
ColorNoiseReduction | 25 |
ColorNoiseReductionDetail | 50 |
ColorSpace | Uncalibrated |
ColorTemperature | 4150 |
Contrast2012 | +48 |
ConvertToGrayscale | True |
CreateDate | 2013:12:27 04:28:56 |
CreatorTool | Adobe Photoshop CC (Windows) |
CustomRendered | Normal |
DateCreated (1) | 2013:12:27 |
DateCreated | 2013:12:27 04:28:56 |
DateTimeOriginal | 2013:12:27 04:28:56 |
DOF | 0.04 m (1.72 - 1.76 m) |
ExifImageHeight | 3265 |
ExifImageWidth | 4237 |
Exposure2012 | -0.10 |
ExposureCompensation | 0 |
ExposureMode | Manual |
ExposureProgram | Manual |
ExposureTime | 1/200 |
Firmware | 2.0.3 |
Flash | Off, Did not fire |
FlashCompensation | 0 |
FNumber | 3.5 |
FocalLength | 93.0 mm |
FocalLength35efl | 93.0 mm (35 mm equivalent: 146.0 mm) |
Format | image/jpeg |
FOV | 14.1 deg |
GrainAmount | 0 |
GrayMixerAqua | -19 |
GrayMixerBlue | -29 |
GrayMixerGreen | -26 |
GrayMixerMagenta | +4 |
GrayMixerOrange | -48 |
GrayMixerPurple | +15 |
GrayMixerRed | +15 |
GrayMixerYellow | -31 |
GreenHue | 0 |
GreenSaturation | 0 |
HasCrop | False |
HasSettings | True |
Highlights2012 | +35 |
HyperfocalDistance | 129.15 m |
ICCProfileName | Adobe RGB (1998) |
ImageHeight | 3265 |
ImageNumber | 0 |
ImageSize | 4237x3265 |
ImageWidth | 4237 |
ISO | 250 |
Lens | EF70-200mm f/2.8L USM |
LensID (1) | 165 |
LensID | Canon EF 70-200mm f/2.8L USM |
LensInfo | 70-200mm f/? |
LensManualDistortionAmount | 0 |
LensModel | EF70-200mm f/2.8L USM |
LensProfileEnable | 0 |
LensProfileSetup | LensDefaults |
LightValue | 9.9 |
LuminanceSmoothing | 0 |
Make | Canon |
MaxApertureValue | 2.8 |
Megapixels | 13.8 |
MeteringMode | Spot |
Model | Canon EOS 7D |
ModifyDate (1) | 2014:01:17 15:43:41+01:00 |
ModifyDate | 2014:01:17 15:43:41 |
Orientation | Horizontal (normal) |
PaintCorrectionActive | true |
PaintCorrectionAmount | 1.000000 |
PaintCorrectionBrightness | 0.000000 |
PaintCorrectionClarity | 0.000000 |
PaintCorrectionClarity2012 | 0.000000 |
PaintCorrectionContrast | 0.000000 |
PaintCorrectionContrast2012 (2) | -0.180000 |
PaintCorrectionContrast2012 (4) | -0.070000 |
PaintCorrectionContrast2012 | 0.000000 |
PaintCorrectionDefringe | 0.000000 |
PaintCorrectionExposure | 0.000000 |
PaintCorrectionExposure2012 (1) | 0.025000 |
PaintCorrectionExposure2012 (2) | 0.100000 |
PaintCorrectionExposure2012 (3) | -0.137500 |
PaintCorrectionExposure2012 (4) | 0.137500 |
PaintCorrectionExposure2012 | 0.000000 |
PaintCorrectionHighlights2012 (1) | 0.020000 |
PaintCorrectionHighlights2012 (2) | -0.030000 |
PaintCorrectionHighlights2012 (3) | -0.310000 |
PaintCorrectionHighlights2012 (4) | -0.010000 |
PaintCorrectionHighlights2012 | 0.000000 |
PaintCorrectionHue | 0.000000 |
PaintCorrectionLuminanceNoise | 0.030000 |
PaintCorrectionMaskCenterWeight | 0.000000 |
PaintCorrectionMaskFlow | 0.910569 |
PaintCorrectionMaskRadius (3) | 0.112876 |
PaintCorrectionMaskRadius (8) | 0.116537 |
PaintCorrectionMaskRadius | 0.036343 |
PaintCorrectionMaskValue | 1.000000 |
PaintCorrectionMaskWhat | Mask/Paint |
PaintCorrectionMoire | 0.000000 |
PaintCorrectionSaturation | 0.000000 |
PaintCorrectionShadows2012 (1) | 0.100000 |
PaintCorrectionShadows2012 (2) | 0.280000 |
PaintCorrectionShadows2012 (3) | 0.250000 |
PaintCorrectionShadows2012 | 0.480000 |
PaintCorrectionSharpness (3) | -0.020000 |
PaintCorrectionSharpness | 0.760000 |
PaintCorrectionTemperature | 0.000000 |
PaintCorrectionTint | 0.000000 |
PaintCorrectionWhat | Correction |
ParametricDarks | 0 |
ParametricHighlights | 0 |
ParametricHighlightSplit | 75 |
ParametricLights | 0 |
ParametricMidtoneSplit | 50 |
ParametricShadows | 0 |
ParametricShadowSplit | 25 |
PerspectiveAspect | 0 |
PerspectiveHorizontal | 0 |
PerspectiveRotate | 0.0 |
PerspectiveScale | 100 |
PerspectiveUpright | 0 |
PerspectiveVertical | 0 |
PostCropVignetteAmount | 0 |
ProcessVersion | 6.7 |
ProfileDescription | Adobe RGB (1998) |
Rating | 0 |
RawFileName | _MG_5567.CR2 |
RecommendedExposureIndex | 250 |
RedHue | 0 |
RedSaturation | 0 |
ScaleFactor35efl | 1.6 |
SceneCaptureType | Standard |
SensitivityType | Recommended Exposure Index |
SerialNumber | 3981605327 |
Shadows2012 | +61 |
ShadowTint | 0 |
SharpenDetail | 25 |
SharpenEdgeMasking | 0 |
SharpenRadius | +1.0 |
Sharpness | 25 |
ShutterSpeed | 1/200 |
ShutterSpeedValue | 1/200 |
Software | Adobe Photoshop CC (Windows) |
SplitToningBalance | 0 |
SplitToningHighlightHue | 0 |
SplitToningHighlightSaturation | 0 |
SplitToningShadowHue | 66 |
SplitToningShadowSaturation | 2 |
Tint | +28 |
ToneCurveName2012 | Linear |
ToneCurvePV2012 | 0, 0, 255, 255 |
ToneCurvePV2012Blue | 0, 0, 255, 255 |
ToneCurvePV2012Green | 0, 0, 255, 255 |
ToneCurvePV2012Red | 0, 0, 255, 255 |
URL_List | |
Version | 8.0 |
VignetteAmount | 0 |
WhiteBalance (1) | Custom |
WhiteBalance | Manual |
Whites2012 | -89 |