Felt | Verdi |
AlreadyApplied | True |
Aperture | 3.2 |
ApertureValue | 3.2 |
ApproximateFocusDistance | 4294967295 |
AutoLateralCA | 0 |
BitsPerSample | 8 |
Blacks2012 | -5 |
BlueHue | 0 |
BlueSaturation | 0 |
Brightness | +50 |
CameraProfile | Adobe Standard |
CFAPattern | [Red,Green][Green,Blue] |
CircleOfConfusion | 0.030 mm |
Clarity | 0 |
Clarity2012 | +12 |
ColorComponents | 3 |
ColorNoiseReduction | 50 |
ColorNoiseReductionDetail | 50 |
ColorTemperature | 4195 |
Contrast (1) | +25 |
Contrast | Normal |
Contrast2012 | +5 |
ConvertToGrayscale | False |
CreateDate (1) | 2014:02:20 20:09:27.92 |
CreateDate | 2014:02:20 20:09:27 |
CreatorTool | Adobe Photoshop Lightroom 4.0 (Windows) |
CropAngle | -0.797535 |
CropBottom | 0.909066 |
CropConstrainToWarp | 0 |
CropHeight | 2574 |
CropLeft | 0.005709 |
CropRight | 0.993638 |
CropTop | 0.020491 |
CropUnit | pixels |
CropWidth | 4169 |
CustomRendered | Normal |
DateCreated (1) | 2014:02:20 |
DateCreated | 2014:02:20 20:09:27.92 |
DateTimeOriginal | 2014:02:20 20:09:27 |
Defringe | 0 |
DigitalZoomRatio | 1 |
DOF | inf (2.66 m - inf) |
Exposure | 0.00 |
Exposure2012 | 0.00 |
ExposureCompensation | 0 |
ExposureMode | Manual |
ExposureProgram | Manual |
ExposureTime | 30 |
FillLight | 0 |
Flash | No Flash |
FNumber | 3.2 |
FocalLength | 16.0 mm |
FocalLength35efl | 16.0 mm (35 mm equivalent: 16.0 mm) |
FocalLengthIn35mmFormat | 16 mm |
Format | image/jpeg |
FOV | 96.7 deg |
GainControl | High gain up |
GradientBasedCorrActive | true |
GradientBasedCorrAmount | 1.000000 |
GradientBasedCorrBrightness | -0.025000 |
GradientBasedCorrClarity2012 (1) | 0.058820 |
GradientBasedCorrClarity2012 | 0.000000 |
GradientBasedCorrContrast2012 (1) | 0.105880 |
GradientBasedCorrContrast2012 | 0.000000 |
GradientBasedCorrExposure2012 (1) | 0.011750 |
GradientBasedCorrExposure2012 | 0.000000 |
GradientBasedCorrHighlights2012 (1) | 0.317650 |
GradientBasedCorrHighlights2012 | 0.000000 |
GradientBasedCorrHue | 240.000000 |
GradientBasedCorrLuminanceNoise (1) | 0.317650 |
GradientBasedCorrLuminanceNoise | 0.300000 |
GradientBasedCorrMaskFullX (1) | 0.526012 |
GradientBasedCorrMaskFullX | 0.582753 |
GradientBasedCorrMaskFullY (1) | 0.562124 |
GradientBasedCorrMaskFullY | 0.501839 |
GradientBasedCorrMaskValue | 1.000000 |
GradientBasedCorrMaskWhat | Mask/Gradient |
GradientBasedCorrMaskZeroX (1) | 0.525694 |
GradientBasedCorrMaskZeroX | 0.583575 |
GradientBasedCorrMaskZeroY (1) | 0.531219 |
GradientBasedCorrMaskZeroY | 0.598128 |
GradientBasedCorrMoire | 0.000000 |
GradientBasedCorrSaturation | 0.000000 |
GradientBasedCorrShadows2012 (1) | 0.011760 |
GradientBasedCorrShadows2012 | 0.000000 |
GradientBasedCorrSharpness (1) | -0.105880 |
GradientBasedCorrSharpness | 0.000000 |
GradientBasedCorrTemperature | 0.000000 |
GradientBasedCorrTint | 0.000000 |
GradientBasedCorrWhat | Correction |
GrainAmount | 0 |
GreenHue | 0 |
GreenSaturation | 0 |
HasCrop | True |
HasSettings | True |
HighlightRecovery | 0 |
Highlights2012 | 0 |
HueAdjustmentAqua | 0 |
HueAdjustmentBlue | 0 |
HueAdjustmentGreen | 0 |
HueAdjustmentMagenta | 0 |
HueAdjustmentOrange | 0 |
HueAdjustmentPurple | 0 |
HueAdjustmentRed | 0 |
HueAdjustmentYellow | 0 |
HyperfocalDistance | 2.66 m |
ImageHeight | 2574 |
ImageNumber | 14782 |
ImageSize | 4169x2574 |
ImageWidth | 4169 |
ISO | 1600 |
Lens | 14.0-24.0 mm f/2.8 |
LensID (1) | 146 |
LensID | AF-S Zoom-Nikkor 14-24mm f/2.8G ED |
LensInfo | 14-24mm f/2.8 |
LensManualDistortionAmount | 0 |
LensModel | 14.0-24.0 mm f/2.8 |
LensProfileEnable | 0 |
LensProfileSetup | LensDefaults |
LightSource | Unknown |
LightValue | -5.6 |
LuminanceAdjustmentAqua | 0 |
LuminanceAdjustmentBlue | +60 |
LuminanceAdjustmentGreen | +5 |
LuminanceAdjustmentMagenta | 0 |
LuminanceAdjustmentOrange | 0 |
LuminanceAdjustmentPurple | 0 |
LuminanceAdjustmentRed | 0 |
LuminanceAdjustmentYellow | 0 |
LuminanceSmoothing | 0 |
Make | NIKON CORPORATION |
MaxApertureValue | 2.8 |
Megapixels | 10.7 |
MeteringMode | Multi-segment |
Model | NIKON D700 |
ModifyDate (1) | 2014:02:21 18:21:21+01:00 |
ModifyDate | 2014:02:21 18:21:21 |
PaintCorrectionActive | true |
PaintCorrectionAmount | 1.000000 |
PaintCorrectionBrightness | -0.025000 |
PaintCorrectionClarity2012 | 0.200000 |
PaintCorrectionContrast2012 | 0.105880 |
PaintCorrectionExposure2012 | 0.011750 |
PaintCorrectionHighlights2012 | 0.200000 |
PaintCorrectionHue | 240.000000 |
PaintCorrectionLuminanceNoise | 0.000000 |
PaintCorrectionMaskCenterWeight | 0.000000 |
PaintCorrectionMaskFlow | 1.000000 |
PaintCorrectionMaskRadius | 0.148668 |
PaintCorrectionMaskValue | 1.000000 |
PaintCorrectionMaskWhat | Mask/Paint |
PaintCorrectionMoire | 0.000000 |
PaintCorrectionSaturation | 0.000000 |
PaintCorrectionShadows2012 | 0.529410 |
PaintCorrectionSharpness | 0.000000 |
PaintCorrectionTemperature | 0.000000 |
PaintCorrectionTint | 0.000000 |
PaintCorrectionWhat | Correction |
ParametricDarks | 0 |
ParametricHighlights | 0 |
ParametricHighlightSplit | 75 |
ParametricLights | 0 |
ParametricMidtoneSplit | 50 |
ParametricShadows | -9 |
ParametricShadowSplit | 25 |
PerspectiveHorizontal | 0 |
PerspectiveRotate | 0.0 |
PerspectiveScale | 100 |
PerspectiveVertical | 0 |
PostCropVignetteAmount | 0 |
ProcessVersion | 6.7 |
ProfileDescription | sRGB IEC61966-2.1 |
RedHue | 0 |
RedSaturation | 0 |
Saturation (1) | 0 |
Saturation | Normal |
SaturationAdjustmentAqua | 0 |
SaturationAdjustmentBlue | 0 |
SaturationAdjustmentGreen | -9 |
SaturationAdjustmentMagenta | 0 |
SaturationAdjustmentOrange | 0 |
SaturationAdjustmentPurple | 0 |
SaturationAdjustmentRed | 0 |
SaturationAdjustmentYellow | 0 |
ScaleFactor35efl | 1.0 |
SceneCaptureType | Standard |
SceneType | Directly photographed |
SensingMethod | One-chip color area |
SerialNumber | 2038506 |
Shadows | 5 |
Shadows2012 | 0 |
ShadowTint | 0 |
SharpenDetail | 25 |
SharpenEdgeMasking | 89 |
SharpenRadius | +1.0 |
Sharpness (1) | 5 |
Sharpness | Normal |
ShutterSpeed | 30 |
ShutterSpeedValue | 30 |
Software | Adobe Photoshop Lightroom 4.0 (Windows) |
SplitToningBalance | 0 |
SplitToningHighlightHue | 0 |
SplitToningHighlightSaturation | 0 |
SplitToningShadowHue | 0 |
SplitToningShadowSaturation | 0 |
SubjectDistanceRange | Unknown |
Tint | +38 |
ToneCurve | 0, 0, 255, 255 |
ToneCurveBlue | 0, 0, 255, 255 |
ToneCurveGreen | 0, 0, 255, 255 |
ToneCurveName | Linear |
ToneCurveName2012 | Linear |
ToneCurvePV2012 | 0, 0, 255, 255 |
ToneCurvePV2012Blue | 0, 0, 255, 255 |
ToneCurvePV2012Green | 0, 0, 255, 255 |
ToneCurvePV2012Red | 0, 0, 255, 255 |
ToneCurveRed | 0, 0, 255, 255 |
Version | 7.0 |
Vibrance | +10 |
VignetteAmount | +49 |
VignetteMidpoint | 50 |
WhiteBalance (1) | Custom |
WhiteBalance | Auto |
Whites2012 | 0 |