Felt | Verdi |
AlreadyApplied | True |
Aperture | 11.0 |
ApertureValue | 11.0 |
ApproximateFocusDistance | 0.41 |
Artist | Størker Moe |
AutoLateralCA | 0 |
BitsPerSample | 8 |
Blacks2012 | -80 |
BlueHue | 0 |
BlueSaturation | 0 |
By-line | Størker Moe |
CameraProfile | Adobe Standard |
CFAPattern | [Red,Green][Green,Blue] |
CircleOfConfusion | 0.015 mm |
City | Ustica |
Clarity2012 | +20 |
ColorComponents | 3 |
ColorNoiseReduction | 25 |
ColorNoiseReductionDetail | 50 |
ColorSpace | sRGB |
ColorTemperature | 10000 |
Contrast | Normal |
Contrast2012 | +40 |
ConvertToGrayscale | False |
Copyright | © Størker Moe, all rights reserved |
CopyrightNotice | © Størker Moe, all rights reserved |
Country | Italy |
Country-PrimaryLocationCode | ITA |
Country-PrimaryLocationName | Italy |
CountryCode | ITA |
CreateDate | 2013:07:07 16:44:30 |
Creator | Størker Moe |
CreatorCountry | Norway |
CreatorTool | Adobe Photoshop Lightroom 4.4 (Windows) |
CreatorWorkURL | http://www.flickr.com/photos/storker_moe |
CropAngle | 0 |
CropBottom | 0.829438 |
CropConstrainToWarp | 0 |
CropHeight | 1080 |
CropLeft | 0.217476 |
CropRight | 0.853067 |
CropTop | 0.193847 |
CropUnit | pixels |
CropWidth | 1440 |
CustomRendered | Normal |
DateCreated (1) | 2013:07:07 |
DateCreated | 2013:07:07 16:42:30+02:00 |
DateTimeOriginal | 2013:07:07 16:42:30 |
DefringeGreenAmount | 0 |
DefringeGreenHueHi | 60 |
DefringeGreenHueLo | 40 |
DefringePurpleAmount | 0 |
DefringePurpleHueHi | 70 |
DefringePurpleHueLo | 30 |
DigitalZoomRatio | 1 |
DOF | 0.17 m (0.34 - 0.51 m) |
Exposure2012 | +0.50 |
ExposureCompensation | -1 |
ExposureMode | Manual |
ExposureProgram | Aperture-priority AE |
ExposureTime | 1/125 |
Flash | On, Fired |
FlashCompensation | 0 |
FNumber | 11.0 |
FocalLength | 18.0 mm |
FocalLength35efl | 18.0 mm (35 mm equivalent: 36.0 mm) |
FocalLengthIn35mmFormat | 36 mm |
Format | image/jpeg |
FOV | 53.1 deg |
GainControl | Low gain up |
GPSAltitude (1) | 13 m |
GPSAltitude | 13 m Below Sea Level |
GPSAltitudeRef | Below Sea Level |
GPSDateStamp | 2013:07:07 |
GPSDateTime | 2013:07:07 14:44:30Z |
GPSLatitude (1) | 38 deg 42' 55.16" |
GPSLatitude | 38 deg 42' 55.16" N |
GPSLatitudeRef | North |
GPSLongitude (1) | 13 deg 9' 21.33" |
GPSLongitude | 13 deg 9' 21.33" E |
GPSLongitudeRef | East |
GPSMapDatum | WGS-84 |
GPSPosition | 38 deg 42' 55.16" N, 13 deg 9' 21.33" E |
GPSTimeStamp | 14:44:30 |
GPSVersionID | 2.2.0.0 |
GrainAmount | 0 |
GreenHue | 0 |
GreenSaturation | 0 |
HasCrop | True |
HasSettings | True |
HierarchicalSubject | Friluft/Natur|Dykking |
Highlights2012 | 0 |
HueAdjustmentAqua | 0 |
HueAdjustmentBlue | 0 |
HueAdjustmentGreen | 0 |
HueAdjustmentMagenta | 0 |
HueAdjustmentOrange | 0 |
HueAdjustmentPurple | 0 |
HueAdjustmentRed | 0 |
HueAdjustmentYellow | 0 |
HyperfocalDistance | 1.96 m |
ImageHeight | 1440 |
ImageSize | 1080x1440 |
ImageWidth | 1080 |
ISO | 250 |
Keywords | Dykking |
Lens | OLYMPUS M.9-18mm F4.0-5.6 |
LensInfo | 9-18mm f/4-5.6 |
LensManualDistortionAmount | 0 |
LensModel | OLYMPUS M.9-18mm F4.0-5.6 |
LensProfileEnable | 1 |
LensProfileSetup | Auto |
LensSerialNumber | AAJ236757 |
LightSource | Unknown |
LightValue | 12.6 |
Location | Scoglio del Medico |
LuminanceAdjustmentAqua | 0 |
LuminanceAdjustmentBlue | 0 |
LuminanceAdjustmentGreen | 0 |
LuminanceAdjustmentMagenta | 0 |
LuminanceAdjustmentOrange | 0 |
LuminanceAdjustmentPurple | 0 |
LuminanceAdjustmentRed | 0 |
LuminanceAdjustmentYellow | 0 |
LuminanceSmoothing | 0 |
Make | OLYMPUS IMAGING CORP. |
MaxApertureValue | 4.0 |
Megapixels | 1.6 |
MeteringMode | Multi-segment |
Model | E-M5 |
ModifyDate (1) | 2014:01:26 18:01:38+01:00 |
ModifyDate | 2014:01:26 18:01:38 |
ParametricDarks | 0 |
ParametricHighlights | 0 |
ParametricHighlightSplit | 75 |
ParametricLights | 0 |
ParametricMidtoneSplit | 50 |
ParametricShadows | 0 |
ParametricShadowSplit | 25 |
PerspectiveHorizontal | 0 |
PerspectiveRotate | 0.0 |
PerspectiveScale | 100 |
PerspectiveVertical | 0 |
PostCropVignetteAmount | 0 |
ProcessVersion | 6.7 |
ProfileDescription | sRGB IEC61966-2.1 |
Province-State | Sicilia |
RedHue | 0 |
RedSaturation | 0 |
Rights | © Størker Moe, all rights reserved |
Saturation (1) | 0 |
Saturation | Normal |
SaturationAdjustmentAqua | 0 |
SaturationAdjustmentBlue | 0 |
SaturationAdjustmentGreen | 0 |
SaturationAdjustmentMagenta | 0 |
SaturationAdjustmentOrange | 0 |
SaturationAdjustmentPurple | 0 |
SaturationAdjustmentRed | 0 |
SaturationAdjustmentYellow | 0 |
ScaleFactor35efl | 2.0 |
SceneCaptureType | Standard |
SensitivityType | Standard Output Sensitivity |
SerialNumber | BEK522811 |
Shadows2012 | 0 |
ShadowTint | 0 |
SharpenDetail | 25 |
SharpenEdgeMasking | 0 |
SharpenRadius | +1.0 |
Sharpness (1) | 25 |
Sharpness | Normal |
ShutterSpeed | 1/125 |
ShutterSpeedValue | 1/125 |
Software | Adobe Photoshop Lightroom 4.4 (Windows) |
SplitToningBalance | 0 |
SplitToningHighlightHue | 0 |
SplitToningHighlightSaturation | 0 |
SplitToningShadowHue | 0 |
SplitToningShadowSaturation | 0 |
State | Sicilia |
Sub-location | Scoglio del Medico |
Subject | Dykking |
Tint | +85 |
ToneCurveName2012 | Linear |
ToneCurvePV2012 | 0, 0, 255, 255 |
ToneCurvePV2012Blue | 0, 0, 255, 255 |
ToneCurvePV2012Green | 0, 0, 255, 255 |
ToneCurvePV2012Red | 0, 0, 255, 255 |
Version | 7.4 |
Vibrance | 0 |
VignetteAmount | 0 |
WhiteBalance (1) | Custom |
WhiteBalance | Manual |
Whites2012 | +55 |